PDS_VERSION_ID = PDS3
/* FILE DATA ELEMENTS */
RECORD_TYPE = STREAM
/* POINTERS TO DATA OBJECTS */
^COMPRESSED_FILE = "H5357_0000_P13.JP2"
/* IDENTIFICATION DATA ELEMENTS */
DATA_SET_ID = "MEX-M-HRSC-5-REFDR-MAPPROJECTED-V3.0"
DATA_SET_NAME = "MARS EXPRESS HRSC MAP PROJECTED REFDR V3.0"
DETECTOR_ID = MEX_HRSC_P1
EVENT_TYPE = "MARS-REGIONAL-MAPPING-Te-Gl-Pf"
INSTRUMENT_HOST_ID = MEX
INSTRUMENT_HOST_NAME = "MARS EXPRESS"
INSTRUMENT_ID = HRSC
INSTRUMENT_NAME = "HIGH RESOLUTION STEREO CAMERA"
MISSION_NAME = "MARS EXPRESS"
MISSION_PHASE_NAME = ME_Phase_11
PROCESSING_LEVEL_ID = 3
PRODUCT_CREATION_TIME = 2016-05-14T01:01:03.000Z
PRODUCT_ID = "H5357_0000_P13.JP2"
RELEASE_ID = 0061
REVISION_ID = 0000
/* QUALITY DATA ELEMENTS */
DATA_QUALITY_ID = 2
DATA_QUALITY_DESC = "Data calculated based on photogrammetrically improved orbit and attitude data"
/* TIME DATA ELEMENTS */
SPACECRAFT_CLOCK_START_COUNT = "1/0152695424.08242"
SPACECRAFT_CLOCK_STOP_COUNT = "1/0152695718.62737"
START_TIME = 2008-03-04T07:23:58.637Z
STOP_TIME = 2008-03-04T07:27:44.502Z
/* ORBITAL DATA ELEMENTS */
ASCENDING_NODE_LONGITUDE = 116.76
MAXIMUM_RESOLUTION = 28.3
FOOTPRINT_POINT_LATITUDE = (47.0922,47.0878,47.0828,47.0734, 47.0664,47.0577,46.8507,46.5603,46.1246 ,45.8338,45.5431,45.1061,44.8145, 44.3778,44.0865,43.6485,43.3566,43.0642 ,42.6246,42.1856,41.8929,41.4528, 41.1595,40.7197,40.2792,39.9849,39.6915 ,39.2508,38.957,38.6624,38.2206,37.9265 ,37.6325,37.3378,36.8958,36.454,36.1595 ,35.864,35.5701,35.2754,34.9808,34.539, 34.2442,33.802,33.5071,33.0656,32.77, 32.4742,32.3077,32.3103,32.3137,32.3158 ,32.3165,32.3176,32.6133,33.0557, 33.3459,33.6413,33.9416,34.2374,34.5309 ,34.9698,35.2657,35.5647,35.8594, 36.1544,36.4482,36.8871,37.3349,37.6314 ,37.9257,38.2212,38.6629,38.9582, 39.3994,39.6937,39.9883,40.2824,40.5774 ,40.87,41.31,41.6055,41.9005,42.1944, 42.4873,42.7806,43.0738,43.367,43.66, 43.9526,44.2456,44.5374,44.8297,45.1215 ,45.5594,45.8505,46.1429,46.4344, 46.7254,47.0922)
FOOTPRINT_POINT_LONGITUDE = (11.9803,11.7115,11.4434,11.0256, 10.7592,10.4597,10.3249,10.347,10.3792, 10.4,10.4205,10.4501,10.4692,10.4974, 10.5157,10.542,10.5591,10.5756,10.5993, 10.6224,10.6374,10.6588,10.6726,10.6929 ,10.7121,10.7242,10.7364,10.7538, 10.7651,10.7757,10.791,10.801,10.8108, 10.82,10.8332,10.8458,10.8539,10.8613, 10.869,10.8761,10.883,10.8928,10.8989, 10.9074,10.9128,10.9206,10.925,10.929, 11.047,11.2646,11.6275,11.904,12.1519, 12.4346,12.4299,12.4236,12.4227,12.4181 ,12.4099,12.4049,12.4015,12.3973,12.392 ,12.3843,12.3797,12.3748,12.3707, 12.3658,12.3539,12.3474,12.3423,12.3363 ,12.3281,12.3219,12.3135,12.3077, 12.3014,12.2953,12.2884,12.2832,12.2742 ,12.2661,12.2582,12.251,12.2444,12.2372 ,12.23,12.2224,12.2148,12.2071,12.199, 12.1915,12.1833,12.1752,12.1624,12.1542 ,12.1445,12.1353,12.1261,11.9803)
ORBIT_NUMBER = 5357
ORBITAL_ECCENTRICITY = 0.571
ORBITAL_INCLINATION = 86.73
ORBITAL_SEMIMAJOR_AXIS = 8682.94
PERIAPSIS_ALTITUDE = 341.79
PERIAPSIS_ARGUMENT_ANGLE = 135.86
PERIAPSIS_TIME = 2008-03-04T07:25:04.000Z
SPACECRAFT_ORIENTATION = (0.0,-1.0,0.0)
^MEX_ORIENTATION_DESC = "MEX_ORIENTATION_DESC.TXT"
SPACECRAFT_POINTING_MODE = ACROSSTRACK
^MEX_POINTING_DESC = "MEX_POINTING_DESC.TXT"
RIGHT_ASCENSION = -1e+32
DECLINATION = -1e+32
OFFSET_ANGLE = 0.15
SPACECRAFT_SOLAR_DISTANCE = 2.45666e+08
TARGET_NAME = MARS
/* CAMERA DATA ELEMENTS */
DETECTOR_TEMPERATURE = 17.5549
FOCAL_PLANE_TEMPERATURE = 8.3794
INST_CMPRS_NAME = "DISCRETE COSINE TRANSFORMATION (DCT)"
INST_CMPRS_RATIO = 10.8419
INST_CMPRS_QUALITY = 0
INST_CMPRS_QUANTZ_TBL_ID = 0
INSTRUMENT_TEMPERATURE = 11.0301
LENS_TEMPERATURE = 7.3599
MACROPIXEL_SIZE = 2
MISSING_FRAMES = 0
PIXEL_SUBSAMPLING_FLAG = N
SIGNAL_CHAIN_ID = 3
/* RADIOMETRIC DATA ELEMENTS */
BANDWIDTH = 174.0
CENTER_FILTER_WAVELENGTH = 675.0
RADIANCE_OFFSET = 3.35747
RADIANCE_SCALING_FACTOR = 0.024517
REFLECTANCE_SCALING_FACTOR = 0.000795875
MEX:REFLECTANCE_OFFSET = 0.108991
/* IMAGE OBJECT DEFINITIONS */
OBJECT = IMAGE
  INTERCHANGE_FORMAT = BINARY
  LINES = 34961
  LINE_SAMPLES = 3700
  SAMPLE_TYPE = UNSIGNED_INTEGER
  SAMPLE_BITS = 8
  BANDS = 1
  BAND_STORAGE_TYPE = BAND_SEQUENTIAL
  MAXIMUM = 255
  MEAN = 147.806
  MINIMUM = 1
  STANDARD_DEVIATION = 33.2462
END_OBJECT = IMAGE
/* MAP OBJECT DEFINITIONS */
OBJECT = IMAGE_MAP_PROJECTION
  ^DATA_SET_MAP_PROJECTION_CATALOG= "DSMAP.CAT"
  A_AXIS_RADIUS = 3396.0
  B_AXIS_RADIUS = 3396.0
  C_AXIS_RADIUS = 3396.0
  CENTER_LATITUDE = 0.0
  CENTER_LONGITUDE = 12.0
  COORDINATE_SYSTEM_NAME = PLANETOGRAPHIC
  COORDINATE_SYSTEM_TYPE = "BODY-FIXED ROTATING"
  EASTERNMOST_LONGITUDE = 12.4346
  FIRST_STANDARD_PARALLEL = "N/A"
  LINE_FIRST_PIXEL = 1
  LINE_LAST_PIXEL = 34961
  LINE_PROJECTION_OFFSET = 111566.75
  MAP_PROJECTION_ROTATION = 0.0
  MAP_PROJECTION_TYPE = SINUSOIDAL
  MAP_RESOLUTION = 2370.85521546667
  MAP_SCALE = 0.025
  MAXIMUM_LATITUDE = 47.0922
  MINIMUM_LATITUDE = 32.3077
  POSITIVE_LONGITUDE_DIRECTION = EAST
  REFERENCE_LATITUDE = "N/A"
  REFERENCE_LONGITUDE = "N/A"
  SAMPLE_FIRST_PIXEL = 1
  SAMPLE_LAST_PIXEL = 3700
  SAMPLE_PROJECTION_OFFSET = 2739.25
  SECOND_STANDARD_PARALLEL = "N/A"
  WESTERNMOST_LONGITUDE = 10.3249
END_OBJECT = IMAGE_MAP_PROJECTION
/* The JPEG2000 image data file associated with this label. */
OBJECT = COMPRESSED_FILE
  FILE_NAME = "H5357_0000_P13.JP2"
  RECORD_TYPE = UNDEFINED
  FILE_RECORDS = UNK
  ENCODING_TYPE = "JP2"
  INTERCHANGE_FORMAT = BINARY
  UNCOMPRESSED_FILE_NAME = "H5357_0000_P13.IMG"
  REQUIRED_STORAGE_BYTES = "129377900"
  ^DESCRIPTION = "JP2INFO.TXT"
END_OBJECT = COMPRESSED_FILE
END
