PDS_VERSION_ID = PDS3
/* FILE DATA ELEMENTS */
RECORD_TYPE = STREAM
/* POINTERS TO DATA OBJECTS */
^COMPRESSED_FILE = "H5359_0000_S13.JP2"
/* IDENTIFICATION DATA ELEMENTS */
DATA_SET_ID = "MEX-M-HRSC-5-REFDR-MAPPROJECTED-V3.0"
DATA_SET_NAME = "MARS EXPRESS HRSC MAP PROJECTED REFDR V3.0"
DETECTOR_ID = MEX_HRSC_S1
EVENT_TYPE = "MARS-REGIONAL-MAPPING-Im-Pf-Ts"
INSTRUMENT_HOST_ID = MEX
INSTRUMENT_HOST_NAME = "MARS EXPRESS"
INSTRUMENT_ID = HRSC
INSTRUMENT_NAME = "HIGH RESOLUTION STEREO CAMERA"
MISSION_NAME = "MARS EXPRESS"
MISSION_PHASE_NAME = ME_Phase_11
PROCESSING_LEVEL_ID = 3
PRODUCT_CREATION_TIME = 2016-05-14T01:01:03.000Z
PRODUCT_ID = "H5359_0000_S13.JP2"
RELEASE_ID = 0061
REVISION_ID = 0000
/* QUALITY DATA ELEMENTS */
DATA_QUALITY_ID = 1
DATA_QUALITY_DESC = "Data calculated based on original SPICE kernels"
/* TIME DATA ELEMENTS */
SPACECRAFT_CLOCK_START_COUNT = "1/0152744504.08262"
SPACECRAFT_CLOCK_STOP_COUNT = "1/0152744769.40113"
START_TIME = 2008-03-04T21:01:47.895Z
STOP_TIME = 2008-03-04T21:05:09.662Z
/* ORBITAL DATA ELEMENTS */
ASCENDING_NODE_LONGITUDE = 116.71
MAXIMUM_RESOLUTION = 29.7
FOOTPRINT_POINT_LATITUDE = (59.1366,59.1266,59.1155,59.1029, 59.0887,59.0729,59.0487,58.8003,58.5352 ,58.2698,58.0039,57.6035,57.3366, 56.9342,56.6656,56.3966,55.992,55.7219, 55.4516,55.1804,54.9086,54.6364,54.3637 ,54.0907,53.8176,53.4062,53.132,52.7559 ,52.5255,52.1788,51.8316,51.5998, 51.2478,51.0153,50.7823,50.549,50.3155, 50.082,49.8478,49.4965,49.1446,48.9098, 48.6748,48.4394,48.2037,47.968,47.6143, 47.3779,47.0235,46.7864,46.4314,46.4056 ,46.4104,46.4178,46.5401,46.7781, 47.0157,47.3717,47.609,47.8459,48.2011, 48.4375,48.6743,49.0277,49.3813,49.6172 ,49.8517,50.2037,50.4376,50.6719, 51.0231,51.2568,51.6099,51.8427,52.0778 ,52.3075,52.6554,52.8874,53.1421, 53.4177,53.8311,54.106,54.5182,54.792, 55.066,55.3312,55.6019,55.8811,56.29, 56.5605,56.8312,57.1013,57.371,57.6403, 57.9091,58.1775,58.4454,58.7129,58.9801 ,59.1366)
FOOTPRINT_POINT_LONGITUDE = (171.393,170.948,170.53,170.114,169.699 ,169.286,168.719,168.711,168.765, 168.817,168.868,168.943,168.992,169.063 ,169.109,169.154,169.22,169.263,169.305 ,169.347,169.387,169.427,169.465, 169.503,169.54,169.595,169.63,169.677, 169.705,169.747,169.787,169.813,169.852 ,169.877,169.902,169.926,169.95,169.973 ,169.996,170.03,170.063,170.084,170.105 ,170.126,170.146,170.166,170.195, 170.214,170.241,170.259,170.286,170.924 ,171.201,171.756,172.073,172.066, 172.059,172.048,172.04,172.033,172.021, 172.013,172.005,171.993,171.98,171.971, 171.963,171.95,171.941,171.932,171.918, 171.909,171.895,171.885,171.873,171.865 ,171.85,171.84,171.828,171.815,171.796, 171.782,171.761,171.747,171.733,171.725 ,171.712,171.691,171.667,171.651, 171.636,171.619,171.603,171.586,171.569 ,171.551,171.534,171.515,171.497, 171.393)
ORBIT_NUMBER = 5359
ORBITAL_ECCENTRICITY = 0.57
ORBITAL_INCLINATION = 86.74
ORBITAL_SEMIMAJOR_AXIS = 8678.39
PERIAPSIS_ALTITUDE = 342.19
PERIAPSIS_ARGUMENT_ANGLE = 135.52
PERIAPSIS_TIME = 2008-03-04T21:06:12.000Z
SPACECRAFT_ORIENTATION = (0.0,-1.0,0.0)
^MEX_ORIENTATION_DESC = "MEX_ORIENTATION_DESC.TXT"
SPACECRAFT_POINTING_MODE = ACROSSTRACK
^MEX_POINTING_DESC = "MEX_POINTING_DESC.TXT"
RIGHT_ASCENSION = -1e+32
DECLINATION = -1e+32
OFFSET_ANGLE = 0.2
SPACECRAFT_SOLAR_DISTANCE = 2.45723e+08
TARGET_NAME = MARS
/* CAMERA DATA ELEMENTS */
DETECTOR_TEMPERATURE = 16.5354
FOCAL_PLANE_TEMPERATURE = 7.9716
INST_CMPRS_NAME = "DISCRETE COSINE TRANSFORMATION (DCT)"
INST_CMPRS_RATIO = 12.795
INST_CMPRS_QUALITY = 0
INST_CMPRS_QUANTZ_TBL_ID = 0
INSTRUMENT_TEMPERATURE = 11.234
LENS_TEMPERATURE = 8.7872
MACROPIXEL_SIZE = 2
MISSING_FRAMES = 1
PIXEL_SUBSAMPLING_FLAG = N
SIGNAL_CHAIN_ID = 1
/* RADIOMETRIC DATA ELEMENTS */
BANDWIDTH = 180.0
CENTER_FILTER_WAVELENGTH = 677.0
RADIANCE_OFFSET = 3.24754
RADIANCE_SCALING_FACTOR = 0.0223647
REFLECTANCE_SCALING_FACTOR = 0.000704524
MEX:REFLECTANCE_OFFSET = 0.102303
/* IMAGE OBJECT DEFINITIONS */
OBJECT = IMAGE
  INTERCHANGE_FORMAT = BINARY
  LINES = 29941
  LINE_SAMPLES = 4505
  SAMPLE_TYPE = UNSIGNED_INTEGER
  SAMPLE_BITS = 8
  BANDS = 1
  BAND_STORAGE_TYPE = BAND_SEQUENTIAL
  MAXIMUM = 255
  MEAN = 124.865
  MINIMUM = 1
  STANDARD_DEVIATION = 56.5433
END_OBJECT = IMAGE
/* MAP OBJECT DEFINITIONS */
OBJECT = IMAGE_MAP_PROJECTION
  ^DATA_SET_MAP_PROJECTION_CATALOG= "DSMAP.CAT"
  A_AXIS_RADIUS = 3396.0
  B_AXIS_RADIUS = 3396.0
  C_AXIS_RADIUS = 3396.0
  CENTER_LATITUDE = 0.0
  CENTER_LONGITUDE = 171.0
  COORDINATE_SYSTEM_NAME = PLANETOGRAPHIC
  COORDINATE_SYSTEM_TYPE = "BODY-FIXED ROTATING"
  EASTERNMOST_LONGITUDE = 172.073
  FIRST_STANDARD_PARALLEL = "N/A"
  LINE_FIRST_PIXEL = 1
  LINE_LAST_PIXEL = 29941
  LINE_PROJECTION_OFFSET = 139976.25
  MAP_PROJECTION_ROTATION = 0.0
  MAP_PROJECTION_TYPE = SINUSOIDAL
  MAP_RESOLUTION = 2370.85521546667
  MAP_SCALE = 0.025
  MAXIMUM_LATITUDE = 59.1366
  MINIMUM_LATITUDE = 46.4056
  POSITIVE_LONGITUDE_DIRECTION = EAST
  REFERENCE_LATITUDE = "N/A"
  REFERENCE_LONGITUDE = "N/A"
  SAMPLE_FIRST_PIXEL = 1
  SAMPLE_LAST_PIXEL = 4505
  SAMPLE_PROJECTION_OFFSET = 2732.25
  SECOND_STANDARD_PARALLEL = "N/A"
  WESTERNMOST_LONGITUDE = 168.711
END_OBJECT = IMAGE_MAP_PROJECTION
/* The JPEG2000 image data file associated with this label. */
OBJECT = COMPRESSED_FILE
  FILE_NAME = "H5359_0000_S13.JP2"
  RECORD_TYPE = UNDEFINED
  FILE_RECORDS = UNK
  ENCODING_TYPE = "JP2"
  INTERCHANGE_FORMAT = BINARY
  UNCOMPRESSED_FILE_NAME = "H5359_0000_S13.IMG"
  REQUIRED_STORAGE_BYTES = "134911235"
  ^DESCRIPTION = "JP2INFO.TXT"
END_OBJECT = COMPRESSED_FILE
END
