PDS_VERSION_ID = PDS3
/* FILE DATA ELEMENTS */
RECORD_TYPE = STREAM
/* POINTERS TO DATA OBJECTS */
^COMPRESSED_FILE = "H5360_0000_S13.JP2"
/* IDENTIFICATION DATA ELEMENTS */
DATA_SET_ID = "MEX-M-HRSC-5-REFDR-MAPPROJECTED-V3.0"
DATA_SET_NAME = "MARS EXPRESS HRSC MAP PROJECTED REFDR V3.0"
DETECTOR_ID = MEX_HRSC_S1
EVENT_TYPE = "MARS-REGIONAL-MAPPING-Te-Gl-Ot"
INSTRUMENT_HOST_ID = MEX
INSTRUMENT_HOST_NAME = "MARS EXPRESS"
INSTRUMENT_ID = HRSC
INSTRUMENT_NAME = "HIGH RESOLUTION STEREO CAMERA"
MISSION_NAME = "MARS EXPRESS"
MISSION_PHASE_NAME = ME_Phase_11
PROCESSING_LEVEL_ID = 3
PRODUCT_CREATION_TIME = 2016-05-14T01:01:03.000Z
PRODUCT_ID = "H5360_0000_S13.JP2"
RELEASE_ID = 0061
REVISION_ID = 0000
/* QUALITY DATA ELEMENTS */
DATA_QUALITY_ID = 2
DATA_QUALITY_DESC = "Data calculated based on photogrammetrically improved orbit and attitude data"
/* TIME DATA ELEMENTS */
SPACECRAFT_CLOCK_START_COUNT = "1/0152769358.09070"
SPACECRAFT_CLOCK_STOP_COUNT = "1/0152769766.41280"
START_TIME = 2008-03-05T03:56:01.928Z
STOP_TIME = 2008-03-05T04:01:27.813Z
/* ORBITAL DATA ELEMENTS */
ASCENDING_NODE_LONGITUDE = 116.69
MAXIMUM_RESOLUTION = 29.1
FOOTPRINT_POINT_LATITUDE = (45.2336,45.2256,45.2157,45.1295,44.528 ,44.1266,43.7251,43.323,42.9205,42.5172 ,41.9112,41.5069,40.8969,40.2888, 39.8828,39.2707,38.662,38.2553,37.4397, 36.828,36.4207,35.81,35.1967,34.5815, 34.1728,33.7679,33.358,32.9515,32.3428, 31.9364,31.5248,31.1178,30.5053,30.0995 ,29.6506,29.1651,28.6765,28.1989, 27.7101,27.4654,26.9788,26.4897,26.2452 ,26.0002,25.5129,25.0253,24.2975, 23.8123,23.8101,23.8106,23.8057,24.0446 ,24.5305,25.0172,25.5059,25.751,26.2371 ,26.4827,26.7296,27.2184,27.4644,27.954 ,28.4239,28.9101,29.3976,29.6549,30.094 ,30.4945,30.9069,31.5256,32.1351, 32.7566,33.1544,33.7673,34.177,34.7949, 35.2052,35.6136,36.2275,36.6358,37.2479 ,37.6559,38.0637,38.4723,39.0835, 39.4931,39.9001,40.3063,40.7115,41.121, 41.7295,42.1347,42.5407,42.9439,43.549, 43.9522,44.3544,44.7565,45.1585, 45.2336)
FOOTPRINT_POINT_LONGITUDE = (71.613,71.0986,70.6347,70.2592,70.2979 ,70.3226,70.3466,70.3697,70.3921, 70.4135,70.4442,70.4637,70.492,70.5183, 70.535,70.559,70.5816,70.5957,70.6217, 70.6398,70.6513,70.6676,70.6821,70.6959 ,70.7043,70.713,70.72,70.7274,70.7379, 70.7441,70.7486,70.7538,70.7601,70.7645 ,70.7642,70.7679,70.7701,70.7746, 70.7756,70.7757,70.7764,70.7758,70.7752 ,70.7744,70.7731,70.771,70.7677,70.7648 ,71.049,71.4091,71.9813,72.3174,72.3133 ,72.309,72.3039,72.301,72.2969,72.2939, 72.2902,72.285,72.2817,72.276,72.2789, 72.2746,72.2698,72.2613,72.2548,72.2541 ,72.2478,72.2383,72.2327,72.2213, 72.2212,72.2133,72.2072,72.1978,72.191, 72.1849,72.1747,72.168,72.1578,72.1507, 72.1433,72.1353,72.1235,72.1159,72.1075 ,72.0993,72.0912,72.0821,72.0682, 72.0587,72.0483,72.0389,72.0239,72.0134 ,72.0029,71.992,71.9806,71.613)
ORBIT_NUMBER = 5360
ORBITAL_ECCENTRICITY = 0.571
ORBITAL_INCLINATION = 86.75
ORBITAL_SEMIMAJOR_AXIS = 8686.27
PERIAPSIS_ALTITUDE = 341.18
PERIAPSIS_ARGUMENT_ANGLE = 135.34
PERIAPSIS_TIME = 2008-03-05T03:56:41.000Z
SPACECRAFT_ORIENTATION = (0.0,-1.0,0.0)
^MEX_ORIENTATION_DESC = "MEX_ORIENTATION_DESC.TXT"
SPACECRAFT_POINTING_MODE = ACROSSTRACK
^MEX_POINTING_DESC = "MEX_POINTING_DESC.TXT"
RIGHT_ASCENSION = -1e+32
DECLINATION = -1e+32
OFFSET_ANGLE = 0.15
SPACECRAFT_SOLAR_DISTANCE = 2.45751e+08
TARGET_NAME = MARS
/* CAMERA DATA ELEMENTS */
DETECTOR_TEMPERATURE = 17.5549
FOCAL_PLANE_TEMPERATURE = 8.7872
INST_CMPRS_NAME = "DISCRETE COSINE TRANSFORMATION (DCT)"
INST_CMPRS_RATIO = 8.9091
INST_CMPRS_QUALITY = 0
INST_CMPRS_QUANTZ_TBL_ID = 0
INSTRUMENT_TEMPERATURE = 11.234
LENS_TEMPERATURE = 8.9911
MACROPIXEL_SIZE = 2
MISSING_FRAMES = 3
PIXEL_SUBSAMPLING_FLAG = N
SIGNAL_CHAIN_ID = 1
/* RADIOMETRIC DATA ELEMENTS */
BANDWIDTH = 180.0
CENTER_FILTER_WAVELENGTH = 677.0
RADIANCE_OFFSET = 3.96854
RADIANCE_SCALING_FACTOR = 0.0258651
REFLECTANCE_SCALING_FACTOR = 0.000814982
MEX:REFLECTANCE_OFFSET = 0.125044
/* IMAGE OBJECT DEFINITIONS */
OBJECT = IMAGE
  INTERCHANGE_FORMAT = BINARY
  LINES = 50676
  LINE_SAMPLES = 4278
  SAMPLE_TYPE = UNSIGNED_INTEGER
  SAMPLE_BITS = 8
  BANDS = 1
  BAND_STORAGE_TYPE = BAND_SEQUENTIAL
  MAXIMUM = 255
  MEAN = 156.945
  MINIMUM = 1
  STANDARD_DEVIATION = 35.7491
END_OBJECT = IMAGE
/* MAP OBJECT DEFINITIONS */
OBJECT = IMAGE_MAP_PROJECTION
  ^DATA_SET_MAP_PROJECTION_CATALOG= "DSMAP.CAT"
  A_AXIS_RADIUS = 3396.0
  B_AXIS_RADIUS = 3396.0
  C_AXIS_RADIUS = 3396.0
  CENTER_LATITUDE = 0.0
  CENTER_LONGITUDE = 71.0
  COORDINATE_SYSTEM_NAME = PLANETOGRAPHIC
  COORDINATE_SYSTEM_TYPE = "BODY-FIXED ROTATING"
  EASTERNMOST_LONGITUDE = 72.31740000000001
  FIRST_STANDARD_PARALLEL = "N/A"
  LINE_FIRST_PIXEL = 1
  LINE_LAST_PIXEL = 50676
  LINE_PROJECTION_OFFSET = 107111.75
  MAP_PROJECTION_ROTATION = 0.0
  MAP_PROJECTION_TYPE = SINUSOIDAL
  MAP_RESOLUTION = 2370.85521546667
  MAP_SCALE = 0.025
  MAXIMUM_LATITUDE = 45.2336
  MINIMUM_LATITUDE = 23.8057
  POSITIVE_LONGITUDE_DIRECTION = EAST
  REFERENCE_LATITUDE = "N/A"
  REFERENCE_LONGITUDE = "N/A"
  SAMPLE_FIRST_PIXEL = 1
  SAMPLE_LAST_PIXEL = 4278
  SAMPLE_PROJECTION_OFFSET = 1254.75
  SECOND_STANDARD_PARALLEL = "N/A"
  WESTERNMOST_LONGITUDE = 70.25920000000001
END_OBJECT = IMAGE_MAP_PROJECTION
/* The JPEG2000 image data file associated with this label. */
OBJECT = COMPRESSED_FILE
  FILE_NAME = "H5360_0000_S13.JP2"
  RECORD_TYPE = UNDEFINED
  FILE_RECORDS = UNK
  ENCODING_TYPE = "JP2"
  INTERCHANGE_FORMAT = BINARY
  UNCOMPRESSED_FILE_NAME = "H5360_0000_S13.IMG"
  REQUIRED_STORAGE_BYTES = "216817596"
  ^DESCRIPTION = "JP2INFO.TXT"
END_OBJECT = COMPRESSED_FILE
END
