PDS_VERSION_ID = PDS3
/* FILE DATA ELEMENTS */
RECORD_TYPE = STREAM
/* POINTERS TO DATA OBJECTS */
^COMPRESSED_FILE = "H5362_0009_P23.JP2"
/* IDENTIFICATION DATA ELEMENTS */
DATA_SET_ID = "MEX-M-HRSC-5-REFDR-MAPPROJECTED-V3.0"
DATA_SET_NAME = "MARS EXPRESS HRSC MAP PROJECTED REFDR V3.0"
DETECTOR_ID = MEX_HRSC_P2
EVENT_TYPE = "MARS-REGIONAL-MAPPING-Vo-Te-Im"
INSTRUMENT_HOST_ID = MEX
INSTRUMENT_HOST_NAME = "MARS EXPRESS"
INSTRUMENT_ID = HRSC
INSTRUMENT_NAME = "HIGH RESOLUTION STEREO CAMERA"
MISSION_NAME = "MARS EXPRESS"
MISSION_PHASE_NAME = ME_Phase_11
PROCESSING_LEVEL_ID = 3
PRODUCT_CREATION_TIME = 2016-05-14T01:01:03.000Z
PRODUCT_ID = "H5362_0009_P23.JP2"
RELEASE_ID = 0061
REVISION_ID = 0000
/* QUALITY DATA ELEMENTS */
DATA_QUALITY_ID = 2
DATA_QUALITY_DESC = "Data calculated based on photogrammetrically improved orbit and attitude data"
/* TIME DATA ELEMENTS */
SPACECRAFT_CLOCK_START_COUNT = "1/0152818465.07286"
SPACECRAFT_CLOCK_STOP_COUNT = "1/0152818793.21891"
START_TIME = 2008-03-05T17:35:24.817Z
STOP_TIME = 2008-03-05T17:39:43.955Z
/* ORBITAL DATA ELEMENTS */
ASCENDING_NODE_LONGITUDE = 116.66
MAXIMUM_RESOLUTION = 56.4
FOOTPRINT_POINT_LATITUDE = (55.0068,54.988,54.9716,54.9585,55.0083 ,54.6715,54.3345,53.9973,53.4917, 53.1548,52.6492,52.312,51.9748,51.6376, 51.3006,50.9634,50.6262,50.289,49.9517, 49.6148,49.2779,48.7729,48.4361,47.9311 ,47.5947,47.2585,46.7543,46.4182, 46.0823,45.5785,45.0751,44.7399,44.4047 ,44.0698,43.7353,43.2336,42.7324, 42.3988,41.8988,41.5658,41.0669,40.7347 ,40.4028,40.0708,39.7395,39.4083, 39.0776,38.7477,38.2532,38.1825,38.1867 ,38.1928,38.1961,38.1991,38.3671, 38.6977,39.1942,39.5255,40.0233,40.5222 ,40.8549,41.188,41.5215,41.8552,42.1895 ,42.5233,43.0253,43.3602,43.6954, 44.0309,44.3665,44.7026,45.0391,45.5437 ,46.0487,46.3856,46.7225,47.0594, 47.3967,47.7339,48.0717,48.5784,48.9162 ,49.254,49.5922,49.9302,50.2685,50.607, 50.9453,51.2838,51.6223,51.9608,52.4686 ,52.8072,53.1458,53.6537,54.1615,54.5, 54.8386,55.0068)
FOOTPRINT_POINT_LONGITUDE = (230.609,230.038,229.586,229.251, 228.913,228.962,229.011,229.059,229.127 ,229.171,229.235,229.276,229.316, 229.355,229.393,229.43,229.467,229.502, 229.536,229.569,229.601,229.648,229.678 ,229.722,229.75,229.777,229.816,229.842 ,229.867,229.902,229.937,229.959,229.98 ,230.001,230.021,230.05,230.078,230.095 ,230.121,230.137,230.161,230.176,230.19 ,230.204,230.218,230.231,230.243, 230.255,230.272,230.552,230.786,231.181 ,231.414,231.648,231.839,231.831, 231.818,231.809,231.795,231.782,231.772 ,231.763,231.753,231.743,231.733, 231.722,231.706,231.695,231.684,231.673 ,231.661,231.65,231.638,231.619,231.6, 231.587,231.574,231.56,231.546,231.531, 231.517,231.494,231.479,231.463,231.447 ,231.43,231.413,231.396,231.379,231.361 ,231.342,231.323,231.294,231.274, 231.254,231.222,231.189,231.167,231.144 ,230.609)
ORBIT_NUMBER = 5362
ORBITAL_ECCENTRICITY = 0.571
ORBITAL_INCLINATION = 86.75
ORBITAL_SEMIMAJOR_AXIS = 8683.85
PERIAPSIS_ALTITUDE = 341.43
PERIAPSIS_ARGUMENT_ANGLE = 134.96
PERIAPSIS_TIME = 2008-03-05T17:37:39.000Z
SPACECRAFT_ORIENTATION = (0.0,-1.0,0.0)
^MEX_ORIENTATION_DESC = "MEX_ORIENTATION_DESC.TXT"
SPACECRAFT_POINTING_MODE = NADIR
^MEX_POINTING_DESC = "MEX_POINTING_DESC.TXT"
RIGHT_ASCENSION = -1e+32
DECLINATION = -1e+32
OFFSET_ANGLE = -1e+32
SPACECRAFT_SOLAR_DISTANCE = 2.45807e+08
TARGET_NAME = MARS
/* CAMERA DATA ELEMENTS */
DETECTOR_TEMPERATURE = 19.1861
FOCAL_PLANE_TEMPERATURE = 8.7872
INST_CMPRS_NAME = "DISCRETE COSINE TRANSFORMATION (DCT)"
INST_CMPRS_RATIO = 8.41592
INST_CMPRS_QUALITY = 0
INST_CMPRS_QUANTZ_TBL_ID = 0
INSTRUMENT_TEMPERATURE = 12.0496
LENS_TEMPERATURE = 9.3989
MACROPIXEL_SIZE = 4
MISSING_FRAMES = 0
PIXEL_SUBSAMPLING_FLAG = N
SIGNAL_CHAIN_ID = 3
/* RADIOMETRIC DATA ELEMENTS */
BANDWIDTH = 177.0
CENTER_FILTER_WAVELENGTH = 676.5
RADIANCE_OFFSET = 4.69437
RADIANCE_SCALING_FACTOR = 0.0235729
REFLECTANCE_SCALING_FACTOR = 0.000755193
MEX:REFLECTANCE_OFFSET = 0.150391
/* IMAGE OBJECT DEFINITIONS */
OBJECT = IMAGE
  INTERCHANGE_FORMAT = BINARY
  LINES = 20056
  LINE_SAMPLES = 2246
  SAMPLE_TYPE = UNSIGNED_INTEGER
  SAMPLE_BITS = 8
  BANDS = 1
  BAND_STORAGE_TYPE = BAND_SEQUENTIAL
  MAXIMUM = 255
  MEAN = 135.124
  MINIMUM = 1
  STANDARD_DEVIATION = 24.163
END_OBJECT = IMAGE
/* MAP OBJECT DEFINITIONS */
OBJECT = IMAGE_MAP_PROJECTION
  ^DATA_SET_MAP_PROJECTION_CATALOG= "DSMAP.CAT"
  A_AXIS_RADIUS = 3396.0
  B_AXIS_RADIUS = 3396.0
  C_AXIS_RADIUS = 3396.0
  CENTER_LATITUDE = 0.0
  CENTER_LONGITUDE = 231.0
  COORDINATE_SYSTEM_NAME = PLANETOGRAPHIC
  COORDINATE_SYSTEM_TYPE = "BODY-FIXED ROTATING"
  EASTERNMOST_LONGITUDE = 231.839
  FIRST_STANDARD_PARALLEL = "N/A"
  LINE_FIRST_PIXEL = 1
  LINE_LAST_PIXEL = 20056
  LINE_PROJECTION_OFFSET = 65306.875
  MAP_PROJECTION_ROTATION = 0.0
  MAP_PROJECTION_TYPE = SINUSOIDAL
  MAP_RESOLUTION = 1185.42760773333
  MAP_SCALE = 0.05
  MAXIMUM_LATITUDE = 55.0083
  MINIMUM_LATITUDE = 38.1825
  POSITIVE_LONGITUDE_DIRECTION = EAST
  REFERENCE_LATITUDE = "N/A"
  REFERENCE_LONGITUDE = "N/A"
  SAMPLE_FIRST_PIXEL = 1
  SAMPLE_LAST_PIXEL = 2246
  SAMPLE_PROJECTION_OFFSET = 1446.125
  SECOND_STANDARD_PARALLEL = "N/A"
  WESTERNMOST_LONGITUDE = 228.913
END_OBJECT = IMAGE_MAP_PROJECTION
/* The JPEG2000 image data file associated with this label. */
OBJECT = COMPRESSED_FILE
  FILE_NAME = "H5362_0009_P23.JP2"
  RECORD_TYPE = UNDEFINED
  FILE_RECORDS = UNK
  ENCODING_TYPE = "JP2"
  INTERCHANGE_FORMAT = BINARY
  UNCOMPRESSED_FILE_NAME = "H5362_0009_P23.IMG"
  REQUIRED_STORAGE_BYTES = "45068236"
  ^DESCRIPTION = "JP2INFO.TXT"
END_OBJECT = COMPRESSED_FILE
END
