PDS_VERSION_ID = PDS3
/* FILE DATA ELEMENTS */
RECORD_TYPE = STREAM
/* POINTERS TO DATA OBJECTS */
^COMPRESSED_FILE = "H5363_0000_P23.JP2"
/* IDENTIFICATION DATA ELEMENTS */
DATA_SET_ID = "MEX-M-HRSC-5-REFDR-MAPPROJECTED-V3.0"
DATA_SET_NAME = "MARS EXPRESS HRSC MAP PROJECTED REFDR V3.0"
DETECTOR_ID = MEX_HRSC_P2
EVENT_TYPE = "MARS-REGIONAL-MAPPING-Vo-Te-Fl"
INSTRUMENT_HOST_ID = MEX
INSTRUMENT_HOST_NAME = "MARS EXPRESS"
INSTRUMENT_ID = HRSC
INSTRUMENT_NAME = "HIGH RESOLUTION STEREO CAMERA"
MISSION_NAME = "MARS EXPRESS"
MISSION_PHASE_NAME = ME_Phase_11
PROCESSING_LEVEL_ID = 3
PRODUCT_CREATION_TIME = 2016-05-14T01:01:03.000Z
PRODUCT_ID = "H5363_0000_P23.JP2"
RELEASE_ID = 0061
REVISION_ID = 0000
/* QUALITY DATA ELEMENTS */
DATA_QUALITY_ID = 2
DATA_QUALITY_DESC = "Data calculated based on photogrammetrically improved orbit and attitude data"
/* TIME DATA ELEMENTS */
SPACECRAFT_CLOCK_START_COUNT = "1/0152843448.08247"
SPACECRAFT_CLOCK_STOP_COUNT = "1/0152843749.46867"
START_TIME = 2008-03-06T00:31:47.132Z
STOP_TIME = 2008-03-06T00:35:33.440Z
/* ORBITAL DATA ELEMENTS */
ASCENDING_NODE_LONGITUDE = 116.63
MAXIMUM_RESOLUTION = 31.5
FOOTPRINT_POINT_LATITUDE = (32.8048,32.7998,32.7949,32.8298,32.568 ,32.3065,32.0455,31.7847,31.5242, 31.2642,31.0045,30.7451,30.4861,30.228, 29.9699,29.7121,29.4546,29.1976,28.9409 ,28.4285,27.9182,27.6569,27.3957, 27.1355,26.7447,26.4795,26.2136,25.9481 ,25.683,25.4146,25.1438,24.8737,24.6038 ,24.3303,24.0548,23.7798,23.5053, 23.2248,22.945,22.6656,22.2397,21.9551, 21.5262,21.2367,20.9477,20.6558,20.3618 ,20.0686,19.6224,19.3245,19.2876, 19.2855,19.283,19.4303,19.7291,20.0276, 20.3214,20.6161,20.9094,21.1987,21.4888 ,21.7772,22.0618,22.3476,22.6318, 22.9117,23.1922,23.6112,23.8863,24.1619 ,24.5749,24.8452,25.1161,25.3873, 25.6569,25.9222,26.1882,26.4546,26.7212 ,26.9816,27.2423,27.5037,27.7654, 28.0249,28.5365,28.793,29.1785,29.4362, 29.694,29.9523,30.211,30.5997,30.8589, 31.1186,31.379,31.6397,31.9008,32.1621, 32.4238,32.8048)
FOOTPRINT_POINT_LONGITUDE = (131.754,131.199,130.763,130.285, 130.288,130.292,130.295,130.298,130.301 ,130.304,130.306,130.309,130.311, 130.312,130.314,130.315,130.317,130.318 ,130.319,130.32,130.32,130.32,130.32, 130.32,130.319,130.318,130.317,130.316, 130.315,130.313,130.311,130.309,130.307 ,130.305,130.302,130.299,130.297, 130.293,130.29,130.287,130.281,130.277, 130.27,130.266,130.261,130.256,130.251, 130.245,130.237,130.231,130.737,131.135 ,131.696,132.099,132.095,132.091, 132.087,132.083,132.078,132.074,132.07, 132.066,132.062,132.058,132.053,132.049 ,132.045,132.039,132.035,132.031, 132.024,132.02,132.016,132.012,132.008, 132.003,131.999,131.995,131.991,131.987 ,131.982,131.978,131.974,131.969, 131.961,131.956,131.95,131.945,131.941, 131.936,131.932,131.925,131.92,131.915, 131.91,131.905,131.9,131.895,131.89, 131.754)
ORBIT_NUMBER = 5363
ORBITAL_ECCENTRICITY = 0.571
ORBITAL_INCLINATION = 86.73
ORBITAL_SEMIMAJOR_AXIS = 8684.1
PERIAPSIS_ALTITUDE = 342.32
PERIAPSIS_ARGUMENT_ANGLE = 134.82
PERIAPSIS_TIME = 2008-03-06T00:28:14.000Z
SPACECRAFT_ORIENTATION = (0.0,-1.0,0.0)
^MEX_ORIENTATION_DESC = "MEX_ORIENTATION_DESC.TXT"
SPACECRAFT_POINTING_MODE = NADIR
^MEX_POINTING_DESC = "MEX_POINTING_DESC.TXT"
RIGHT_ASCENSION = -1e+32
DECLINATION = -1e+32
OFFSET_ANGLE = -1e+32
SPACECRAFT_SOLAR_DISTANCE = 2.45835e+08
TARGET_NAME = MARS
/* CAMERA DATA ELEMENTS */
DETECTOR_TEMPERATURE = 18.5744
FOCAL_PLANE_TEMPERATURE = 8.3794
INST_CMPRS_NAME = "DISCRETE COSINE TRANSFORMATION (DCT)"
INST_CMPRS_RATIO = 7.73631
INST_CMPRS_QUALITY = 0
INST_CMPRS_QUANTZ_TBL_ID = 0
INSTRUMENT_TEMPERATURE = 11.0301
LENS_TEMPERATURE = 8.7872
MACROPIXEL_SIZE = 2
MISSING_FRAMES = 0
PIXEL_SUBSAMPLING_FLAG = N
SIGNAL_CHAIN_ID = 3
/* RADIOMETRIC DATA ELEMENTS */
BANDWIDTH = 177.0
CENTER_FILTER_WAVELENGTH = 676.5
RADIANCE_OFFSET = 4.67076
RADIANCE_SCALING_FACTOR = 0.0185822
REFLECTANCE_SCALING_FACTOR = 0.000595447
MEX:REFLECTANCE_OFFSET = 0.14967
/* IMAGE OBJECT DEFINITIONS */
OBJECT = IMAGE
  INTERCHANGE_FORMAT = BINARY
  LINES = 32141
  LINE_SAMPLES = 4107
  SAMPLE_TYPE = UNSIGNED_INTEGER
  SAMPLE_BITS = 8
  BANDS = 1
  BAND_STORAGE_TYPE = BAND_SEQUENTIAL
  MAXIMUM = 255
  MEAN = 116.902
  MINIMUM = 1
  STANDARD_DEVIATION = 37.9773
END_OBJECT = IMAGE
/* MAP OBJECT DEFINITIONS */
OBJECT = IMAGE_MAP_PROJECTION
  ^DATA_SET_MAP_PROJECTION_CATALOG= "DSMAP.CAT"
  A_AXIS_RADIUS = 3396.0
  B_AXIS_RADIUS = 3396.0
  C_AXIS_RADIUS = 3396.0
  CENTER_LATITUDE = 0.0
  CENTER_LONGITUDE = 131.0
  COORDINATE_SYSTEM_NAME = PLANETOGRAPHIC
  COORDINATE_SYSTEM_TYPE = "BODY-FIXED ROTATING"
  EASTERNMOST_LONGITUDE = 132.099
  FIRST_STANDARD_PARALLEL = "N/A"
  LINE_FIRST_PIXEL = 1
  LINE_LAST_PIXEL = 32141
  LINE_PROJECTION_OFFSET = 77827.75
  MAP_PROJECTION_ROTATION = 0.0
  MAP_PROJECTION_TYPE = SINUSOIDAL
  MAP_RESOLUTION = 2370.85521546667
  MAP_SCALE = 0.025
  MAXIMUM_LATITUDE = 32.8298
  MINIMUM_LATITUDE = 19.283
  POSITIVE_LONGITUDE_DIRECTION = EAST
  REFERENCE_LATITUDE = "N/A"
  REFERENCE_LONGITUDE = "N/A"
  SAMPLE_FIRST_PIXEL = 1
  SAMPLE_LAST_PIXEL = 4107
  SAMPLE_PROJECTION_OFFSET = 1681.25
  SECOND_STANDARD_PARALLEL = "N/A"
  WESTERNMOST_LONGITUDE = 130.231
END_OBJECT = IMAGE_MAP_PROJECTION
/* The JPEG2000 image data file associated with this label. */
OBJECT = COMPRESSED_FILE
  FILE_NAME = "H5363_0000_P23.JP2"
  RECORD_TYPE = UNDEFINED
  FILE_RECORDS = UNK
  ENCODING_TYPE = "JP2"
  INTERCHANGE_FORMAT = BINARY
  UNCOMPRESSED_FILE_NAME = "H5363_0000_P23.IMG"
  REQUIRED_STORAGE_BYTES = "132027729"
  ^DESCRIPTION = "JP2INFO.TXT"
END_OBJECT = COMPRESSED_FILE
END
