PDS_VERSION_ID = PDS3
/* FILE DATA ELEMENTS */
RECORD_TYPE = STREAM
/* POINTERS TO DATA OBJECTS */
^COMPRESSED_FILE = "H5365_0000_IR3.JP2"
/* IDENTIFICATION DATA ELEMENTS */
DATA_SET_ID = "MEX-M-HRSC-5-REFDR-MAPPROJECTED-V3.0"
DATA_SET_NAME = "MARS EXPRESS HRSC MAP PROJECTED REFDR V3.0"
DETECTOR_ID = MEX_HRSC_IR
EVENT_TYPE = "MARS-REGIONAL-MAPPING-Vo-Te-Fl"
INSTRUMENT_HOST_ID = MEX
INSTRUMENT_HOST_NAME = "MARS EXPRESS"
INSTRUMENT_ID = HRSC
INSTRUMENT_NAME = "HIGH RESOLUTION STEREO CAMERA"
MISSION_NAME = "MARS EXPRESS"
MISSION_PHASE_NAME = ME_Phase_11
PROCESSING_LEVEL_ID = 3
PRODUCT_CREATION_TIME = 2016-05-14T01:01:03.000Z
PRODUCT_ID = "H5365_0000_IR3.JP2"
RELEASE_ID = 0061
REVISION_ID = 0000
/* QUALITY DATA ELEMENTS */
DATA_QUALITY_ID = 2
DATA_QUALITY_DESC = "Data calculated based on photogrammetrically improved orbit and attitude data"
/* TIME DATA ELEMENTS */
SPACECRAFT_CLOCK_START_COUNT = "1/0152892368.08250"
SPACECRAFT_CLOCK_STOP_COUNT = "1/0152892704.49949"
START_TIME = 2008-03-06T14:06:17.913Z
STOP_TIME = 2008-03-06T14:10:48.399Z
/* ORBITAL DATA ELEMENTS */
ASCENDING_NODE_LONGITUDE = 116.6
MAXIMUM_RESOLUTION = 56.8
FOOTPRINT_POINT_LATITUDE = (55.5652,55.5507,55.5319,55.4312, 55.0343,54.6364,54.2386,53.9042,53.5684 ,53.2332,52.8972,52.5603,52.2229, 51.8855,51.547,51.2081,50.7002,50.3595, 50.0204,49.6825,49.3431,48.8341,48.4931 ,48.1492,47.6385,47.2934,46.9509, 46.6057,46.2619,45.7456,45.2305,44.8847 ,44.3704,43.8469,43.4981,43.1528, 42.8061,42.4589,41.9366,41.5885,41.2401 ,40.8916,40.3688,40.0201,39.6707, 39.3209,38.9697,38.4459,38.0961,38.0859 ,38.0856,38.0835,38.4344,38.7857, 39.1372,39.4884,39.8383,40.1885,40.5385 ,41.0628,41.4114,41.7608,42.1114, 42.4601,42.8081,43.3305,43.6769,44.1955 ,44.5477,44.892,45.2359,45.5787,45.9257 ,46.2726,46.6152,47.1327,47.4781, 47.8211,48.1678,48.5112,48.8522,49.1953 ,49.5372,49.8796,50.221,50.5597,50.9001 ,51.2401,51.5793,51.917,52.2579,52.5932 ,52.9312,53.2689,53.606,53.9427,54.2789 ,54.8765,55.2759,55.5652)
FOOTPRINT_POINT_LONGITUDE = (290.94,290.27,289.606,289.13,289.187, 289.242,289.295,289.339,289.382,289.423 ,289.464,289.503,289.541,289.578, 289.615,289.65,289.702,289.734,289.767, 289.799,289.829,289.874,289.903,289.93, 289.971,289.997,290.022,290.046,290.07, 290.104,290.137,290.158,290.189,290.218 ,290.236,290.254,290.271,290.288, 290.312,290.328,290.343,290.357,290.378 ,290.391,290.403,290.415,290.427, 290.443,290.454,290.966,291.311,291.999 ,291.993,291.986,291.979,291.972, 291.965,291.958,291.951,291.94,291.934, 291.926,291.917,291.91,291.902,291.89, 291.883,291.872,291.86,291.853,291.846, 291.84,291.83,291.819,291.812,291.797, 291.786,291.777,291.764,291.753,291.743 ,291.732,291.72,291.708,291.696,291.686 ,291.673,291.661,291.648,291.636,291.62 ,291.609,291.595,291.58,291.564,291.549 ,291.533,291.503,291.483,290.94)
ORBIT_NUMBER = 5365
ORBITAL_ECCENTRICITY = 0.571
ORBITAL_INCLINATION = 86.74
ORBITAL_SEMIMAJOR_AXIS = 8681.45
PERIAPSIS_ALTITUDE = 342.32
PERIAPSIS_ARGUMENT_ANGLE = 134.47
PERIAPSIS_TIME = 2008-03-06T14:09:21.000Z
SPACECRAFT_ORIENTATION = (0.0,-1.0,0.0)
^MEX_ORIENTATION_DESC = "MEX_ORIENTATION_DESC.TXT"
SPACECRAFT_POINTING_MODE = ACROSSTRACK
^MEX_POINTING_DESC = "MEX_POINTING_DESC.TXT"
RIGHT_ASCENSION = -1e+32
DECLINATION = -1e+32
OFFSET_ANGLE = 0.3
SPACECRAFT_SOLAR_DISTANCE = 2.45891e+08
TARGET_NAME = MARS
/* CAMERA DATA ELEMENTS */
DETECTOR_TEMPERATURE = 17.5549
FOCAL_PLANE_TEMPERATURE = 8.9911
INST_CMPRS_NAME = "DISCRETE COSINE TRANSFORMATION (DCT)"
INST_CMPRS_RATIO = 17.5576
INST_CMPRS_QUALITY = 0
INST_CMPRS_QUANTZ_TBL_ID = 0
INSTRUMENT_TEMPERATURE = 11.234
LENS_TEMPERATURE = 8.9911
MACROPIXEL_SIZE = 4
MISSING_FRAMES = 0
PIXEL_SUBSAMPLING_FLAG = N
SIGNAL_CHAIN_ID = 2
/* RADIOMETRIC DATA ELEMENTS */
BANDWIDTH = 81.0
CENTER_FILTER_WAVELENGTH = 955.5
RADIANCE_OFFSET = 0.401973
RADIANCE_SCALING_FACTOR = 0.0102049
REFLECTANCE_SCALING_FACTOR = 0.00133113
MEX:REFLECTANCE_OFFSET = 0.0524335
/* IMAGE OBJECT DEFINITIONS */
OBJECT = IMAGE
  INTERCHANGE_FORMAT = BINARY
  LINES = 20674
  LINE_SAMPLES = 2205
  SAMPLE_TYPE = UNSIGNED_INTEGER
  SAMPLE_BITS = 8
  BANDS = 1
  BAND_STORAGE_TYPE = BAND_SEQUENTIAL
  MAXIMUM = 255
  MEAN = 144.025
  MINIMUM = 1
  STANDARD_DEVIATION = 45.175
END_OBJECT = IMAGE
/* MAP OBJECT DEFINITIONS */
OBJECT = IMAGE_MAP_PROJECTION
  ^DATA_SET_MAP_PROJECTION_CATALOG= "DSMAP.CAT"
  A_AXIS_RADIUS = 3396.0
  B_AXIS_RADIUS = 3396.0
  C_AXIS_RADIUS = 3396.0
  CENTER_LATITUDE = 0.0
  CENTER_LONGITUDE = 291.0
  COORDINATE_SYSTEM_NAME = PLANETOGRAPHIC
  COORDINATE_SYSTEM_TYPE = "BODY-FIXED ROTATING"
  EASTERNMOST_LONGITUDE = 291.999
  FIRST_STANDARD_PARALLEL = "N/A"
  LINE_FIRST_PIXEL = 1
  LINE_LAST_PIXEL = 20674
  LINE_PROJECTION_OFFSET = 65813.625
  MAP_PROJECTION_ROTATION = 0.0
  MAP_PROJECTION_TYPE = SINUSOIDAL
  MAP_RESOLUTION = 1185.42760773333
  MAP_SCALE = 0.05
  MAXIMUM_LATITUDE = 55.5652
  MINIMUM_LATITUDE = 38.0835
  POSITIVE_LONGITUDE_DIRECTION = EAST
  REFERENCE_LATITUDE = "N/A"
  REFERENCE_LONGITUDE = "N/A"
  SAMPLE_FIRST_PIXEL = 1
  SAMPLE_LAST_PIXEL = 2205
  SAMPLE_PROJECTION_OFFSET = 1233.875
  SECOND_STANDARD_PARALLEL = "N/A"
  WESTERNMOST_LONGITUDE = 289.13
END_OBJECT = IMAGE_MAP_PROJECTION
/* The JPEG2000 image data file associated with this label. */
OBJECT = COMPRESSED_FILE
  FILE_NAME = "H5365_0000_IR3.JP2"
  RECORD_TYPE = UNDEFINED
  FILE_RECORDS = UNK
  ENCODING_TYPE = "JP2"
  INTERCHANGE_FORMAT = BINARY
  UNCOMPRESSED_FILE_NAME = "H5365_0000_IR3.IMG"
  REQUIRED_STORAGE_BYTES = "45608220"
  ^DESCRIPTION = "JP2INFO.TXT"
END_OBJECT = COMPRESSED_FILE
END
