PDS_VERSION_ID = PDS3
/* FILE DATA ELEMENTS */
RECORD_TYPE = STREAM
/* POINTERS TO DATA OBJECTS */
^COMPRESSED_FILE = "H5365_0000_P13.JP2"
/* IDENTIFICATION DATA ELEMENTS */
DATA_SET_ID = "MEX-M-HRSC-5-REFDR-MAPPROJECTED-V3.0"
DATA_SET_NAME = "MARS EXPRESS HRSC MAP PROJECTED REFDR V3.0"
DETECTOR_ID = MEX_HRSC_P1
EVENT_TYPE = "MARS-REGIONAL-MAPPING-Vo-Te-Fl"
INSTRUMENT_HOST_ID = MEX
INSTRUMENT_HOST_NAME = "MARS EXPRESS"
INSTRUMENT_ID = HRSC
INSTRUMENT_NAME = "HIGH RESOLUTION STEREO CAMERA"
MISSION_NAME = "MARS EXPRESS"
MISSION_PHASE_NAME = ME_Phase_11
PROCESSING_LEVEL_ID = 3
PRODUCT_CREATION_TIME = 2016-05-14T01:01:03.000Z
PRODUCT_ID = "H5365_0000_P13.JP2"
RELEASE_ID = 0061
REVISION_ID = 0000
/* QUALITY DATA ELEMENTS */
DATA_QUALITY_ID = 2
DATA_QUALITY_DESC = "Data calculated based on photogrammetrically improved orbit and attitude data"
/* TIME DATA ELEMENTS */
SPACECRAFT_CLOCK_START_COUNT = "1/0152892368.08250"
SPACECRAFT_CLOCK_STOP_COUNT = "1/0152892704.49949"
START_TIME = 2008-03-06T14:06:23.790Z
STOP_TIME = 2008-03-06T14:10:53.541Z
/* ORBITAL DATA ELEMENTS */
ASCENDING_NODE_LONGITUDE = 116.6
MAXIMUM_RESOLUTION = 28
FOOTPRINT_POINT_LATITUDE = (55.5612,55.5457,55.5259,55.5136, 55.2403,54.8401,54.4674,54.1311,53.6245 ,53.2878,52.9499,52.6112,52.1024, 51.7629,51.4226,51.0819,50.7423,50.4004 ,49.8889,49.549,49.207,48.6951,48.3527, 47.8396,47.4937,47.1482,46.632,46.2866, 45.9421,45.4247,45.078,44.7356,44.3899, 43.8667,43.5179,43.1721,42.825,42.3034, 41.9555,41.6073,41.259,40.9106,40.388, 40.0396,39.6905,39.3413,38.9909,38.4679 ,38.1188,38.0953,38.0966,38.0967, 38.0964,38.4466,38.7972,39.1478,39.4982 ,39.8478,40.1975,40.722,41.0712,41.4195 ,41.769,42.1192,42.4681,42.8162,43.3387 ,43.8597,44.2055,44.557,44.9024,45.2475 ,45.7654,46.112,46.6305,47.1494,47.4955 ,47.8396,48.1873,48.7029,49.2184, 49.5617,49.9054,50.2482,50.5889,50.931, 51.2727,51.6132,52.1259,52.6334,52.9733 ,53.3128,53.652,53.9907,54.329,54.6667, 55.0688,55.2697,55.4706,55.5612)
FOOTPRINT_POINT_LONGITUDE = (291.069,290.375,289.687,289.324, 289.156,289.213,289.263,289.308,289.372 ,289.414,289.455,289.495,289.552, 289.589,289.625,289.66,289.695,289.728, 289.776,289.808,289.838,289.882,289.911 ,289.952,289.978,290.003,290.04,290.064 ,290.087,290.121,290.142,290.163, 290.184,290.212,290.23,290.248,290.266, 290.29,290.306,290.322,290.336,290.351, 290.371,290.384,290.397,290.409,290.42, 290.437,290.447,290.788,291.162,291.448 ,291.999,291.992,291.985,291.978, 291.971,291.964,291.957,291.946,291.939 ,291.933,291.925,291.916,291.908,291.9, 291.888,291.876,291.87,291.857,291.85, 291.843,291.832,291.822,291.808,291.793 ,291.782,291.772,291.758,291.743, 291.726,291.715,291.702,291.69,291.679, 291.666,291.653,291.641,291.618,291.601 ,291.586,291.57,291.554,291.538,291.522 ,291.505,291.484,291.474,291.463, 291.069)
ORBIT_NUMBER = 5365
ORBITAL_ECCENTRICITY = 0.571
ORBITAL_INCLINATION = 86.74
ORBITAL_SEMIMAJOR_AXIS = 8681.45
PERIAPSIS_ALTITUDE = 342.32
PERIAPSIS_ARGUMENT_ANGLE = 134.47
PERIAPSIS_TIME = 2008-03-06T14:09:21.000Z
SPACECRAFT_ORIENTATION = (0.0,-1.0,0.0)
^MEX_ORIENTATION_DESC = "MEX_ORIENTATION_DESC.TXT"
SPACECRAFT_POINTING_MODE = ACROSSTRACK
^MEX_POINTING_DESC = "MEX_POINTING_DESC.TXT"
RIGHT_ASCENSION = -1e+32
DECLINATION = -1e+32
OFFSET_ANGLE = 0.3
SPACECRAFT_SOLAR_DISTANCE = 2.45891e+08
TARGET_NAME = MARS
/* CAMERA DATA ELEMENTS */
DETECTOR_TEMPERATURE = 17.5549
FOCAL_PLANE_TEMPERATURE = 8.9911
INST_CMPRS_NAME = "DISCRETE COSINE TRANSFORMATION (DCT)"
INST_CMPRS_RATIO = 13.2274
INST_CMPRS_QUALITY = 0
INST_CMPRS_QUANTZ_TBL_ID = 0
INSTRUMENT_TEMPERATURE = 11.234
LENS_TEMPERATURE = 8.9911
MACROPIXEL_SIZE = 2
MISSING_FRAMES = 0
PIXEL_SUBSAMPLING_FLAG = N
SIGNAL_CHAIN_ID = 3
/* RADIOMETRIC DATA ELEMENTS */
BANDWIDTH = 174.0
CENTER_FILTER_WAVELENGTH = 675.0
RADIANCE_OFFSET = 2.06998
RADIANCE_SCALING_FACTOR = 0.0340938
REFLECTANCE_SCALING_FACTOR = 0.00110878
MEX:REFLECTANCE_OFFSET = 0.0673185
/* IMAGE OBJECT DEFINITIONS */
OBJECT = IMAGE
  INTERCHANGE_FORMAT = BINARY
  LINES = 41347
  LINE_SAMPLES = 4410
  SAMPLE_TYPE = UNSIGNED_INTEGER
  SAMPLE_BITS = 8
  BANDS = 1
  BAND_STORAGE_TYPE = BAND_SEQUENTIAL
  MAXIMUM = 255
  MEAN = 145.66
  MINIMUM = 1
  STANDARD_DEVIATION = 43.9418
END_OBJECT = IMAGE
/* MAP OBJECT DEFINITIONS */
OBJECT = IMAGE_MAP_PROJECTION
  ^DATA_SET_MAP_PROJECTION_CATALOG= "DSMAP.CAT"
  A_AXIS_RADIUS = 3396.0
  B_AXIS_RADIUS = 3396.0
  C_AXIS_RADIUS = 3396.0
  CENTER_LATITUDE = 0.0
  CENTER_LONGITUDE = 291.0
  COORDINATE_SYSTEM_NAME = PLANETOGRAPHIC
  COORDINATE_SYSTEM_TYPE = "BODY-FIXED ROTATING"
  EASTERNMOST_LONGITUDE = 291.999
  FIRST_STANDARD_PARALLEL = "N/A"
  LINE_FIRST_PIXEL = 1
  LINE_LAST_PIXEL = 41347
  LINE_PROJECTION_OFFSET = 131627.75
  MAP_PROJECTION_ROTATION = 0.0
  MAP_PROJECTION_TYPE = SINUSOIDAL
  MAP_RESOLUTION = 2370.85521546667
  MAP_SCALE = 0.025
  MAXIMUM_LATITUDE = 55.5612
  MINIMUM_LATITUDE = 38.0953
  POSITIVE_LONGITUDE_DIRECTION = EAST
  REFERENCE_LATITUDE = "N/A"
  REFERENCE_LONGITUDE = "N/A"
  SAMPLE_FIRST_PIXEL = 1
  SAMPLE_LAST_PIXEL = 4410
  SAMPLE_PROJECTION_OFFSET = 2468.25
  SECOND_STANDARD_PARALLEL = "N/A"
  WESTERNMOST_LONGITUDE = 289.156
END_OBJECT = IMAGE_MAP_PROJECTION
/* The JPEG2000 image data file associated with this label. */
OBJECT = COMPRESSED_FILE
  FILE_NAME = "H5365_0000_P13.JP2"
  RECORD_TYPE = UNDEFINED
  FILE_RECORDS = UNK
  ENCODING_TYPE = "JP2"
  INTERCHANGE_FORMAT = BINARY
  UNCOMPRESSED_FILE_NAME = "H5365_0000_P13.IMG"
  REQUIRED_STORAGE_BYTES = "182366730"
  ^DESCRIPTION = "JP2INFO.TXT"
END_OBJECT = COMPRESSED_FILE
END
