PDS_VERSION_ID = PDS3
/* FILE DATA ELEMENTS */
RECORD_TYPE = STREAM
/* POINTERS TO DATA OBJECTS */
^COMPRESSED_FILE = "H5370_0001_S23.JP2"
/* IDENTIFICATION DATA ELEMENTS */
DATA_SET_ID = "MEX-M-HRSC-5-REFDR-MAPPROJECTED-V3.0"
DATA_SET_NAME = "MARS EXPRESS HRSC MAP PROJECTED REFDR V3.0"
DETECTOR_ID = MEX_HRSC_S2
EVENT_TYPE = "MARS-LOCAL-STEREO-Vo"
INSTRUMENT_HOST_ID = MEX
INSTRUMENT_HOST_NAME = "MARS EXPRESS"
INSTRUMENT_ID = HRSC
INSTRUMENT_NAME = "HIGH RESOLUTION STEREO CAMERA"
MISSION_NAME = "MARS EXPRESS"
MISSION_PHASE_NAME = ME_Phase_11
PROCESSING_LEVEL_ID = 3
PRODUCT_CREATION_TIME = 2016-05-14T01:01:03.000Z
PRODUCT_ID = "H5370_0001_S23.JP2"
RELEASE_ID = 0061
REVISION_ID = 0000
/* QUALITY DATA ELEMENTS */
DATA_QUALITY_ID = 1
DATA_QUALITY_DESC = "Data calculated based on original SPICE kernels"
/* TIME DATA ELEMENTS */
SPACECRAFT_CLOCK_START_COUNT = "1/0153015865.07318"
SPACECRAFT_CLOCK_STOP_COUNT = "1/0153016003.06584"
START_TIME = 2008-03-08T00:25:36.636Z
STOP_TIME = 2008-03-08T00:26:44.845Z
/* ORBITAL DATA ELEMENTS */
ASCENDING_NODE_LONGITUDE = 116.49
MAXIMUM_RESOLUTION = 16.5
FOOTPRINT_POINT_LATITUDE = (34.2126,34.2104,34.2082,34.2059, 34.2036,34.2012,34.1987,34.1963,34.1938 ,34.1912,34.1879,34.1852,34.2049, 34.1216,34.0383,33.9551,33.8719,33.7886 ,33.7053,33.622,33.5382,33.4537,33.3692 ,33.2844,33.198,33.1113,33.0251,32.9391 ,32.8538,32.7675,32.6807,32.5942, 32.5082,32.3793,32.2945,32.2103,32.1262 ,32.042,31.9581,31.8744,31.7083,31.5452 ,31.3858,31.2286,30.9901,30.7919, 30.6345,30.4796,30.3195,30.0973,30.099, 30.102,30.1043,30.1063,30.1082,30.1102, 30.1122,30.1144,30.1166,30.1181,30.1195 ,30.1212,30.3275,30.4904,30.6124, 30.7348,30.8982,31.0211,31.1847,31.3465 ,31.5091,31.6731,31.8376,32.0031, 32.1688,32.2527,32.3358,32.4192,32.5454 ,32.6292,32.7131,32.7973,32.8819, 32.9657,33.0491,33.1325,33.2158,33.2989 ,33.382,33.4654,33.5487,33.6321,33.7155 ,33.7988,33.8821,33.9656,34.0492, 34.1327,34.2164,34.2126)
FOOTPRINT_POINT_LONGITUDE = (151.569,151.442,151.314,151.187,151.06 ,150.933,150.807,150.68,150.554,150.428 ,150.27,150.144,150.026,150.027,150.028 ,150.029,150.03,150.031,150.032,150.033 ,150.034,150.036,150.037,150.038,150.04 ,150.042,150.044,150.045,150.047, 150.049,150.051,150.052,150.054,150.056 ,150.058,150.059,150.06,150.061,150.062 ,150.063,150.064,150.065,150.065, 150.064,150.063,150.062,150.061,150.059 ,150.059,150.092,150.208,150.39,150.506 ,150.639,150.771,150.904,151.037, 151.187,151.338,151.438,151.538,151.672 ,151.744,151.742,151.739,151.737, 151.734,151.732,151.73,151.726,151.722, 151.719,151.716,151.714,151.711,151.71, 151.709,151.708,151.707,151.706,151.705 ,151.704,151.703,151.702,151.701, 151.699,151.698,151.696,151.695,151.693 ,151.692,151.69,151.689,151.687,151.686 ,151.684,151.683,151.681,151.679, 151.569)
ORBIT_NUMBER = 5370
ORBITAL_ECCENTRICITY = 0.57
ORBITAL_INCLINATION = 86.74
ORBITAL_SEMIMAJOR_AXIS = 8678.22
PERIAPSIS_ALTITUDE = 343.5
PERIAPSIS_ARGUMENT_ANGLE = 133.59
PERIAPSIS_TIME = 2008-03-08T00:21:54.000Z
SPACECRAFT_ORIENTATION = (0.0,-1.0,0.0)
^MEX_ORIENTATION_DESC = "MEX_ORIENTATION_DESC.TXT"
SPACECRAFT_POINTING_MODE = ACROSSTRACK
^MEX_POINTING_DESC = "MEX_POINTING_DESC.TXT"
RIGHT_ASCENSION = -1e+32
DECLINATION = -1e+32
OFFSET_ANGLE = 0.2
SPACECRAFT_SOLAR_DISTANCE = 2.46028e+08
TARGET_NAME = MARS
/* CAMERA DATA ELEMENTS */
DETECTOR_TEMPERATURE = 20.0017
FOCAL_PLANE_TEMPERATURE = 8.7872
INST_CMPRS_NAME = "DISCRETE COSINE TRANSFORMATION (DCT)"
INST_CMPRS_RATIO = 7.57324
INST_CMPRS_QUALITY = 0
INST_CMPRS_QUANTZ_TBL_ID = 0
INSTRUMENT_TEMPERATURE = 13.273
LENS_TEMPERATURE = 9.195
MACROPIXEL_SIZE = 1
MISSING_FRAMES = 0
PIXEL_SUBSAMPLING_FLAG = N
SIGNAL_CHAIN_ID = 1
/* RADIOMETRIC DATA ELEMENTS */
BANDWIDTH = 178.0
CENTER_FILTER_WAVELENGTH = 679.0
RADIANCE_OFFSET = 7.07858
RADIANCE_SCALING_FACTOR = 0.0191442
REFLECTANCE_SCALING_FACTOR = 0.000613671
MEX:REFLECTANCE_OFFSET = 0.226905
/* IMAGE OBJECT DEFINITIONS */
OBJECT = IMAGE
  INTERCHANGE_FORMAT = BINARY
  LINES = 19690
  LINE_SAMPLES = 6802
  SAMPLE_TYPE = UNSIGNED_INTEGER
  SAMPLE_BITS = 8
  BANDS = 1
  BAND_STORAGE_TYPE = BAND_SEQUENTIAL
  MAXIMUM = 255
  MEAN = 138.602
  MINIMUM = 1
  STANDARD_DEVIATION = 27.5126
END_OBJECT = IMAGE
/* MAP OBJECT DEFINITIONS */
OBJECT = IMAGE_MAP_PROJECTION
  ^DATA_SET_MAP_PROJECTION_CATALOG= "DSMAP.CAT"
  A_AXIS_RADIUS = 3396.0
  B_AXIS_RADIUS = 3396.0
  C_AXIS_RADIUS = 3396.0
  CENTER_LATITUDE = 0.0
  CENTER_LONGITUDE = 151.0
  COORDINATE_SYSTEM_NAME = PLANETOGRAPHIC
  COORDINATE_SYSTEM_TYPE = "BODY-FIXED ROTATING"
  EASTERNMOST_LONGITUDE = 151.744
  FIRST_STANDARD_PARALLEL = "N/A"
  LINE_FIRST_PIXEL = 1
  LINE_LAST_PIXEL = 19690
  LINE_PROJECTION_OFFSET = 162370.0
  MAP_PROJECTION_ROTATION = 0.0
  MAP_PROJECTION_TYPE = SINUSOIDAL
  MAP_RESOLUTION = 4741.71043093333
  MAP_SCALE = 0.0125
  MAXIMUM_LATITUDE = 34.2164
  MINIMUM_LATITUDE = 30.0973
  POSITIVE_LONGITUDE_DIRECTION = EAST
  REFERENCE_LATITUDE = "N/A"
  REFERENCE_LONGITUDE = "N/A"
  SAMPLE_FIRST_PIXEL = 1
  SAMPLE_LAST_PIXEL = 6802
  SAMPLE_PROJECTION_OFFSET = 3782.0
  SECOND_STANDARD_PARALLEL = "N/A"
  WESTERNMOST_LONGITUDE = 150.026
END_OBJECT = IMAGE_MAP_PROJECTION
/* The JPEG2000 image data file associated with this label. */
OBJECT = COMPRESSED_FILE
  FILE_NAME = "H5370_0001_S23.JP2"
  RECORD_TYPE = UNDEFINED
  FILE_RECORDS = UNK
  ENCODING_TYPE = "JP2"
  INTERCHANGE_FORMAT = BINARY
  UNCOMPRESSED_FILE_NAME = "H5370_0001_S23.IMG"
  REQUIRED_STORAGE_BYTES = "133965390"
  ^DESCRIPTION = "JP2INFO.TXT"
END_OBJECT = COMPRESSED_FILE
END
