PDS_VERSION_ID = PDS3
/* FILE DATA ELEMENTS */
RECORD_TYPE = STREAM
/* POINTERS TO DATA OBJECTS */
^COMPRESSED_FILE = "H5371_0000_S13.JP2"
/* IDENTIFICATION DATA ELEMENTS */
DATA_SET_ID = "MEX-M-HRSC-5-REFDR-MAPPROJECTED-V3.0"
DATA_SET_NAME = "MARS EXPRESS HRSC MAP PROJECTED REFDR V3.0"
DETECTOR_ID = MEX_HRSC_S1
EVENT_TYPE = "MARS-REGIONAL-MAPPING-Gl-Pf-Mw"
INSTRUMENT_HOST_ID = MEX
INSTRUMENT_HOST_NAME = "MARS EXPRESS"
INSTRUMENT_ID = HRSC
INSTRUMENT_NAME = "HIGH RESOLUTION STEREO CAMERA"
MISSION_NAME = "MARS EXPRESS"
MISSION_PHASE_NAME = ME_Phase_11
PROCESSING_LEVEL_ID = 3
PRODUCT_CREATION_TIME = 2016-05-14T01:01:03.000Z
PRODUCT_ID = "H5371_0000_S13.JP2"
RELEASE_ID = 0061
REVISION_ID = 0000
/* QUALITY DATA ELEMENTS */
DATA_QUALITY_ID = 2
DATA_QUALITY_DESC = "Data calculated based on photogrammetrically improved orbit and attitude data"
/* TIME DATA ELEMENTS */
SPACECRAFT_CLOCK_START_COUNT = "1/0153040196.08240"
SPACECRAFT_CLOCK_STOP_COUNT = "1/0153040407.23320"
START_TIME = 2008-03-08T07:09:59.897Z
STOP_TIME = 2008-03-08T07:12:27.297Z
/* ORBITAL DATA ELEMENTS */
ASCENDING_NODE_LONGITUDE = 116.47
MAXIMUM_RESOLUTION = 29.2
FOOTPRINT_POINT_LATITUDE = (53.8073,53.7918,53.7752,53.7574, 53.7385,53.7184,53.6873,53.4019,53.0344 ,52.6664,52.3898,52.2052,52.0204, 51.8356,51.6506,51.4658,51.2805,51.0946 ,50.9087,50.6303,50.4438,50.2575, 50.0712,49.7925,49.6064,49.4219,49.2328 ,48.8639,48.6708,48.4821,48.2944, 48.1065,47.9184,47.7303,47.5423,47.3538 ,47.162,46.9737,46.7852,46.5962,46.3126 ,46.0298,45.8399,45.5561,45.3713, 45.1798,44.9887,44.7982,44.6089,44.4199 ,44.2001,44.2266,44.251,44.2661,44.2833 ,44.4729,44.6645,44.8558,45.046,45.2355 ,45.4274,45.6174,45.8099,46.0005, 46.1888,46.4731,46.6625,46.8492,47.0387 ,47.3272,47.6097,47.798,47.9857,48.174, 48.3624,48.551,48.7395,48.9277,49.1152, 49.3031,49.5848,49.7723,50.0537,50.2412 ,50.4286,50.6158,50.8025,50.9894,51.176 ,51.4554,51.6412,51.8274,52.0133, 52.2921,52.4778,52.6634,52.8488,53.0341 ,53.4961,53.8073)
FOOTPRINT_POINT_LONGITUDE = (49.8996,49.581,49.2611,48.9398,48.6174 ,48.2936,47.8252,47.7787,47.834,47.8882 ,47.9277,47.9536,47.9791,48.0044, 48.0293,48.0542,48.0785,48.1021,48.1256 ,48.1607,48.1832,48.2056,48.2279, 48.2613,48.2832,48.3059,48.3254,48.3698 ,48.3861,48.4052,48.4246,48.4437, 48.4626,48.4812,48.4997,48.5178,48.536, 48.5538,48.5713,48.5883,48.6134,48.6386 ,48.6544,48.6784,48.6969,48.7111, 48.7254,48.7399,48.755,48.77,48.8686, 49.3485,49.8407,50.1504,50.4798,50.4716 ,50.463,50.4542,50.4456,50.437,50.4278, 50.4189,50.4094,50.4001,50.3912,50.3772 ,50.3677,50.3587,50.349,50.3338,50.3191 ,50.3091,50.2991,50.2888,50.2784, 50.2679,50.2572,50.2464,50.2356,50.2246 ,50.2079,50.1966,50.1794,50.1677, 50.1559,50.144,50.132,50.1199,50.1076, 50.089,50.0765,50.0638,50.0509,50.0313, 50.018,50.0046,49.991,49.9773,49.9424, 49.8996)
ORBIT_NUMBER = 5371
ORBITAL_ECCENTRICITY = 0.571
ORBITAL_INCLINATION = 86.75
ORBITAL_SEMIMAJOR_AXIS = 8681.98
PERIAPSIS_ALTITUDE = 342.86
PERIAPSIS_ARGUMENT_ANGLE = 133.42
PERIAPSIS_TIME = 2008-03-08T07:12:24.000Z
SPACECRAFT_ORIENTATION = (0.0,-1.0,0.0)
^MEX_ORIENTATION_DESC = "MEX_ORIENTATION_DESC.TXT"
SPACECRAFT_POINTING_MODE = ACROSSTRACK
^MEX_POINTING_DESC = "MEX_POINTING_DESC.TXT"
RIGHT_ASCENSION = -1e+32
DECLINATION = -1e+32
OFFSET_ANGLE = -0.4
SPACECRAFT_SOLAR_DISTANCE = 2.46055e+08
TARGET_NAME = MARS
/* CAMERA DATA ELEMENTS */
DETECTOR_TEMPERATURE = 17.351
FOCAL_PLANE_TEMPERATURE = 8.5833
INST_CMPRS_NAME = "DISCRETE COSINE TRANSFORMATION (DCT)"
INST_CMPRS_RATIO = 10.4443
INST_CMPRS_QUALITY = 0
INST_CMPRS_QUANTZ_TBL_ID = 0
INSTRUMENT_TEMPERATURE = 11.234
LENS_TEMPERATURE = 8.7872
MACROPIXEL_SIZE = 2
MISSING_FRAMES = 1
PIXEL_SUBSAMPLING_FLAG = N
SIGNAL_CHAIN_ID = 1
/* RADIOMETRIC DATA ELEMENTS */
BANDWIDTH = 180.0
CENTER_FILTER_WAVELENGTH = 677.0
RADIANCE_OFFSET = 4.26956
RADIANCE_SCALING_FACTOR = 0.0243302
REFLECTANCE_SCALING_FACTOR = 0.000768512
MEX:REFLECTANCE_OFFSET = 0.134861
/* IMAGE OBJECT DEFINITIONS */
OBJECT = IMAGE
  INTERCHANGE_FORMAT = BINARY
  LINES = 22447
  LINE_SAMPLES = 4253
  SAMPLE_TYPE = UNSIGNED_INTEGER
  SAMPLE_BITS = 8
  BANDS = 1
  BAND_STORAGE_TYPE = BAND_SEQUENTIAL
  MAXIMUM = 255
  MEAN = 126.9
  MINIMUM = 1
  STANDARD_DEVIATION = 25.9079
END_OBJECT = IMAGE
/* MAP OBJECT DEFINITIONS */
OBJECT = IMAGE_MAP_PROJECTION
  ^DATA_SET_MAP_PROJECTION_CATALOG= "DSMAP.CAT"
  A_AXIS_RADIUS = 3396.0
  B_AXIS_RADIUS = 3396.0
  C_AXIS_RADIUS = 3396.0
  CENTER_LATITUDE = 0.0
  CENTER_LONGITUDE = 49.0
  COORDINATE_SYSTEM_NAME = PLANETOGRAPHIC
  COORDINATE_SYSTEM_TYPE = "BODY-FIXED ROTATING"
  EASTERNMOST_LONGITUDE = 50.4798
  FIRST_STANDARD_PARALLEL = "N/A"
  LINE_FIRST_PIXEL = 1
  LINE_LAST_PIXEL = 22447
  LINE_PROJECTION_OFFSET = 127329.75
  MAP_PROJECTION_ROTATION = 0.0
  MAP_PROJECTION_TYPE = SINUSOIDAL
  MAP_RESOLUTION = 2370.85521546667
  MAP_SCALE = 0.025
  MAXIMUM_LATITUDE = 53.8073
  MINIMUM_LATITUDE = 44.2001
  POSITIVE_LONGITUDE_DIRECTION = EAST
  REFERENCE_LATITUDE = "N/A"
  REFERENCE_LONGITUDE = "N/A"
  SAMPLE_FIRST_PIXEL = 1
  SAMPLE_LAST_PIXEL = 4253
  SAMPLE_PROJECTION_OFFSET = 1747.25
  SECOND_STANDARD_PARALLEL = "N/A"
  WESTERNMOST_LONGITUDE = 47.7787
END_OBJECT = IMAGE_MAP_PROJECTION
/* The JPEG2000 image data file associated with this label. */
OBJECT = COMPRESSED_FILE
  FILE_NAME = "H5371_0000_S13.JP2"
  RECORD_TYPE = UNDEFINED
  FILE_RECORDS = UNK
  ENCODING_TYPE = "JP2"
  INTERCHANGE_FORMAT = BINARY
  UNCOMPRESSED_FILE_NAME = "H5371_0000_S13.IMG"
  REQUIRED_STORAGE_BYTES = "95492609"
  ^DESCRIPTION = "JP2INFO.TXT"
END_OBJECT = COMPRESSED_FILE
END
