PDS_VERSION_ID = PDS3
/* FILE DATA ELEMENTS */
RECORD_TYPE = STREAM
/* POINTERS TO DATA OBJECTS */
^COMPRESSED_FILE = "H5373_0000_P23.JP2"
/* IDENTIFICATION DATA ELEMENTS */
DATA_SET_ID = "MEX-M-HRSC-5-REFDR-MAPPROJECTED-V3.0"
DATA_SET_NAME = "MARS EXPRESS HRSC MAP PROJECTED REFDR V3.0"
DETECTOR_ID = MEX_HRSC_P2
EVENT_TYPE = "MARS-REGIONAL-MAPPING-Vo-Pf"
INSTRUMENT_HOST_ID = MEX
INSTRUMENT_HOST_NAME = "MARS EXPRESS"
INSTRUMENT_ID = HRSC
INSTRUMENT_NAME = "HIGH RESOLUTION STEREO CAMERA"
MISSION_NAME = "MARS EXPRESS"
MISSION_PHASE_NAME = ME_Phase_11
PROCESSING_LEVEL_ID = 3
PRODUCT_CREATION_TIME = 2016-05-14T01:01:03.000Z
PRODUCT_ID = "H5373_0000_P23.JP2"
RELEASE_ID = 0061
REVISION_ID = 0000
/* QUALITY DATA ELEMENTS */
DATA_QUALITY_ID = 1
DATA_QUALITY_DESC = "Data calculated based on original SPICE kernels"
/* TIME DATA ELEMENTS */
SPACECRAFT_CLOCK_START_COUNT = "1/0153089600.08249"
SPACECRAFT_CLOCK_STOP_COUNT = "1/0153089957.64452"
START_TIME = 2008-03-08T20:54:15.049Z
STOP_TIME = 2008-03-08T20:59:04.490Z
/* ORBITAL DATA ELEMENTS */
ASCENDING_NODE_LONGITUDE = 116.43
MAXIMUM_RESOLUTION = 57.4
FOOTPRINT_POINT_LATITUDE = (44.7243,44.7093,44.571,44.2293,43.888, 43.5471,43.2064,42.866,42.5259,42.1861, 41.8466,41.5075,41.1687,40.8301,40.4921 ,40.1543,39.8171,39.4803,39.1438, 38.8077,38.4721,38.1369,37.8022,37.4679 ,36.8006,36.1353,35.5681,35.1731, 34.7787,34.3853,33.9925,33.6003,33.2089 ,32.8183,32.4281,32.0392,31.651,31.2638 ,30.8774,30.4918,30.1072,29.7234, 29.3406,28.9586,28.5776,28.1975,27.8184 ,27.4402,27.063,26.6752,26.6766,26.676, 27.0539,27.4313,27.8105,28.1912,28.5737 ,28.9554,29.3381,29.7216,30.1061, 30.4914,30.8777,31.2648,31.6527,32.0416 ,32.4312,32.8218,33.2133,33.6053,33.998 ,34.3915,34.786,35.1813,35.5772,36.1473 ,36.8137,37.1478,37.4822,37.8172, 38.1525,38.4883,38.8246,39.1613,39.4986 ,39.8361,40.1743,40.5127,40.8514, 41.1904,41.5296,41.8697,42.21,42.5505, 42.8914,43.2326,43.5738,43.9157,44.2577 ,44.7243)
FOOTPRINT_POINT_LONGITUDE = (210.796,210.106,209.246,209.266, 209.286,209.305,209.324,209.342,209.359 ,209.376,209.392,209.408,209.423, 209.438,209.452,209.466,209.479,209.491 ,209.503,209.515,209.526,209.537, 209.547,209.556,209.574,209.591,209.604 ,209.612,209.62,209.627,209.633,209.639 ,209.645,209.65,209.655,209.659,209.663 ,209.666,209.668,209.671,209.673, 209.674,209.675,209.676,209.676,209.676 ,209.675,209.674,209.673,209.993, 210.509,211.202,211.395,211.388,211.382 ,211.375,211.37,211.363,211.356,211.349 ,211.342,211.334,211.327,211.32,211.312 ,211.304,211.296,211.288,211.28,211.272 ,211.263,211.255,211.246,211.237, 211.228,211.214,211.198,211.189,211.181 ,211.172,211.163,211.154,211.145, 211.136,211.126,211.117,211.107,211.097 ,211.087,211.076,211.066,211.055, 211.044,211.033,211.021,211.009,210.997 ,210.985,210.972,210.796)
ORBIT_NUMBER = 5373
ORBITAL_ECCENTRICITY = 0.57
ORBITAL_INCLINATION = 86.75
ORBITAL_SEMIMAJOR_AXIS = 8675.91
PERIAPSIS_ALTITUDE = 342.88
PERIAPSIS_ARGUMENT_ANGLE = 133.05
PERIAPSIS_TIME = 2008-03-08T20:53:22.000Z
SPACECRAFT_ORIENTATION = (0.0,-1.0,0.0)
^MEX_ORIENTATION_DESC = "MEX_ORIENTATION_DESC.TXT"
SPACECRAFT_POINTING_MODE = NADIR
^MEX_POINTING_DESC = "MEX_POINTING_DESC.TXT"
RIGHT_ASCENSION = -1e+32
DECLINATION = -1e+32
OFFSET_ANGLE = -1e+32
SPACECRAFT_SOLAR_DISTANCE = 2.46108e+08
TARGET_NAME = MARS
/* CAMERA DATA ELEMENTS */
DETECTOR_TEMPERATURE = 18.7783
FOCAL_PLANE_TEMPERATURE = 8.5833
INST_CMPRS_NAME = "DISCRETE COSINE TRANSFORMATION (DCT)"
INST_CMPRS_RATIO = 8.57588
INST_CMPRS_QUALITY = 0
INST_CMPRS_QUANTZ_TBL_ID = 0
INSTRUMENT_TEMPERATURE = 11.234
LENS_TEMPERATURE = 8.9911
MACROPIXEL_SIZE = 4
MISSING_FRAMES = 0
PIXEL_SUBSAMPLING_FLAG = N
SIGNAL_CHAIN_ID = 3
/* RADIOMETRIC DATA ELEMENTS */
BANDWIDTH = 177.0
CENTER_FILTER_WAVELENGTH = 676.5
RADIANCE_OFFSET = 7.48268
RADIANCE_SCALING_FACTOR = 0.0118504
REFLECTANCE_SCALING_FACTOR = 0.000380577
MEX:REFLECTANCE_OFFSET = 0.240307
/* IMAGE OBJECT DEFINITIONS */
OBJECT = IMAGE
  INTERCHANGE_FORMAT = BINARY
  LINES = 21497
  LINE_SAMPLES = 2127
  SAMPLE_TYPE = UNSIGNED_INTEGER
  SAMPLE_BITS = 8
  BANDS = 1
  BAND_STORAGE_TYPE = BAND_SEQUENTIAL
  MAXIMUM = 255
  MEAN = 95.7497
  MINIMUM = 1
  STANDARD_DEVIATION = 29.8602
END_OBJECT = IMAGE
/* MAP OBJECT DEFINITIONS */
OBJECT = IMAGE_MAP_PROJECTION
  ^DATA_SET_MAP_PROJECTION_CATALOG= "DSMAP.CAT"
  A_AXIS_RADIUS = 3396.0
  B_AXIS_RADIUS = 3396.0
  C_AXIS_RADIUS = 3396.0
  CENTER_LATITUDE = 0.0
  CENTER_LONGITUDE = 210.0
  COORDINATE_SYSTEM_NAME = PLANETOGRAPHIC
  COORDINATE_SYSTEM_TYPE = "BODY-FIXED ROTATING"
  EASTERNMOST_LONGITUDE = 211.395
  FIRST_STANDARD_PARALLEL = "N/A"
  LINE_FIRST_PIXEL = 1
  LINE_LAST_PIXEL = 21497
  LINE_PROJECTION_OFFSET = 53072.875
  MAP_PROJECTION_ROTATION = 0.0
  MAP_PROJECTION_TYPE = SINUSOIDAL
  MAP_RESOLUTION = 1185.42760773333
  MAP_SCALE = 0.05
  MAXIMUM_LATITUDE = 44.7243
  MINIMUM_LATITUDE = 26.6752
  POSITIVE_LONGITUDE_DIRECTION = EAST
  REFERENCE_LATITUDE = "N/A"
  REFERENCE_LONGITUDE = "N/A"
  SAMPLE_FIRST_PIXEL = 1
  SAMPLE_LAST_PIXEL = 2127
  SAMPLE_PROJECTION_OFFSET = 653.125
  SECOND_STANDARD_PARALLEL = "N/A"
  WESTERNMOST_LONGITUDE = 209.246
END_OBJECT = IMAGE_MAP_PROJECTION
/* The JPEG2000 image data file associated with this label. */
OBJECT = COMPRESSED_FILE
  FILE_NAME = "H5373_0000_P23.JP2"
  RECORD_TYPE = UNDEFINED
  FILE_RECORDS = UNK
  ENCODING_TYPE = "JP2"
  INTERCHANGE_FORMAT = BINARY
  UNCOMPRESSED_FILE_NAME = "H5373_0000_P23.IMG"
  REQUIRED_STORAGE_BYTES = "45745389"
  ^DESCRIPTION = "JP2INFO.TXT"
END_OBJECT = COMPRESSED_FILE
END
