PDS_VERSION_ID = PDS3
/* FILE DATA ELEMENTS */
RECORD_TYPE = STREAM
/* POINTERS TO DATA OBJECTS */
^COMPRESSED_FILE = "H5373_0000_RE3.JP2"
/* IDENTIFICATION DATA ELEMENTS */
DATA_SET_ID = "MEX-M-HRSC-5-REFDR-MAPPROJECTED-V3.0"
DATA_SET_NAME = "MARS EXPRESS HRSC MAP PROJECTED REFDR V3.0"
DETECTOR_ID = MEX_HRSC_RED
EVENT_TYPE = "MARS-REGIONAL-MAPPING-Vo-Pf"
INSTRUMENT_HOST_ID = MEX
INSTRUMENT_HOST_NAME = "MARS EXPRESS"
INSTRUMENT_ID = HRSC
INSTRUMENT_NAME = "HIGH RESOLUTION STEREO CAMERA"
MISSION_NAME = "MARS EXPRESS"
MISSION_PHASE_NAME = ME_Phase_11
PROCESSING_LEVEL_ID = 3
PRODUCT_CREATION_TIME = 2016-05-14T01:01:03.000Z
PRODUCT_ID = "H5373_0000_RE3.JP2"
RELEASE_ID = 0061
REVISION_ID = 0000
/* QUALITY DATA ELEMENTS */
DATA_QUALITY_ID = 1
DATA_QUALITY_DESC = "Data calculated based on original SPICE kernels"
/* TIME DATA ELEMENTS */
SPACECRAFT_CLOCK_START_COUNT = "1/0153089600.08249"
SPACECRAFT_CLOCK_STOP_COUNT = "1/0153089957.64452"
START_TIME = 2008-03-08T20:54:20.446Z
STOP_TIME = 2008-03-08T20:59:12.068Z
/* ORBITAL DATA ELEMENTS */
ASCENDING_NODE_LONGITUDE = 116.43
MAXIMUM_RESOLUTION = 58.4
FOOTPRINT_POINT_LATITUDE = (44.7095,44.6978,44.6803,44.0617, 43.5514,43.2117,42.8722,42.5332,42.1946 ,41.8563,41.5185,41.181,40.8437,40.5071 ,40.1709,39.8353,39.5001,39.1652,38.831 ,38.4972,38.1638,37.831,37.1668,36.5048 ,36.136,35.7427,35.35,34.9583,34.5676, 34.1775,33.7882,33.3997,33.0121,32.6251 ,32.2391,31.8541,31.4701,31.0871, 30.7049,30.3238,29.9435,29.5643,29.186, 28.8089,28.4326,28.0574,27.6832,27.31, 26.938,26.674,26.6743,26.6734,26.8596, 27.2321,27.6058,27.9808,28.3588,28.9249 ,29.3033,29.6825,30.0628,30.444,30.8263 ,31.2093,31.5934,31.9784,32.3642, 32.7514,33.1393,33.5279,33.9171,34.3072 ,34.6985,35.0906,35.4836,35.8771, 36.4567,37.1199,37.4522,37.7851,38.1184 ,38.4523,38.7868,39.1216,39.4571,39.793 ,40.1296,40.4664,40.8036,41.1412, 41.4789,41.8176,42.1566,42.4959,42.8357 ,43.1758,43.516,43.8567,44.1979, 44.7095)
FOOTPRINT_POINT_LONGITUDE = (210.753,210.199,209.491,209.273, 209.302,209.32,209.338,209.355,209.372, 209.388,209.404,209.419,209.433,209.447 ,209.461,209.473,209.486,209.498, 209.509,209.52,209.53,209.54,209.559, 209.576,209.585,209.594,209.602,209.61, 209.617,209.623,209.629,209.635,209.64, 209.645,209.649,209.653,209.656,209.659 ,209.661,209.663,209.664,209.665, 209.666,209.666,209.666,209.666,209.665 ,209.663,209.662,210.101,210.509, 210.884,211.408,211.402,211.395,211.388 ,211.383,211.372,211.365,211.358, 211.351,211.344,211.336,211.329,211.321 ,211.313,211.305,211.297,211.289,211.28 ,211.272,211.263,211.254,211.245, 211.236,211.226,211.212,211.195,211.187 ,211.178,211.169,211.16,211.151,211.142 ,211.132,211.122,211.113,211.103, 211.092,211.082,211.071,211.06,211.049, 211.038,211.026,211.014,211.002,210.99, 210.977,210.753)
ORBIT_NUMBER = 5373
ORBITAL_ECCENTRICITY = 0.57
ORBITAL_INCLINATION = 86.75
ORBITAL_SEMIMAJOR_AXIS = 8675.91
PERIAPSIS_ALTITUDE = 342.88
PERIAPSIS_ARGUMENT_ANGLE = 133.05
PERIAPSIS_TIME = 2008-03-08T20:53:22.000Z
SPACECRAFT_ORIENTATION = (0.0,-1.0,0.0)
^MEX_ORIENTATION_DESC = "MEX_ORIENTATION_DESC.TXT"
SPACECRAFT_POINTING_MODE = NADIR
^MEX_POINTING_DESC = "MEX_POINTING_DESC.TXT"
RIGHT_ASCENSION = -1e+32
DECLINATION = -1e+32
OFFSET_ANGLE = -1e+32
SPACECRAFT_SOLAR_DISTANCE = 2.46108e+08
TARGET_NAME = MARS
/* CAMERA DATA ELEMENTS */
DETECTOR_TEMPERATURE = 18.7783
FOCAL_PLANE_TEMPERATURE = 8.5833
INST_CMPRS_NAME = "DISCRETE COSINE TRANSFORMATION (DCT)"
INST_CMPRS_RATIO = 13.678
INST_CMPRS_QUALITY = 0
INST_CMPRS_QUANTZ_TBL_ID = 0
INSTRUMENT_TEMPERATURE = 11.234
LENS_TEMPERATURE = 8.9911
MACROPIXEL_SIZE = 4
MISSING_FRAMES = 0
PIXEL_SUBSAMPLING_FLAG = N
SIGNAL_CHAIN_ID = 2
/* RADIOMETRIC DATA ELEMENTS */
BANDWIDTH = 48.0
CENTER_FILTER_WAVELENGTH = 748.0
RADIANCE_OFFSET = 2.20483
RADIANCE_SCALING_FACTOR = 0.00343313
REFLECTANCE_SCALING_FACTOR = 0.000474537
MEX:REFLECTANCE_OFFSET = 0.304758
/* IMAGE OBJECT DEFINITIONS */
OBJECT = IMAGE
  INTERCHANGE_FORMAT = BINARY
  LINES = 21497
  LINE_SAMPLES = 2127
  SAMPLE_TYPE = UNSIGNED_INTEGER
  SAMPLE_BITS = 8
  BANDS = 1
  BAND_STORAGE_TYPE = BAND_SEQUENTIAL
  MAXIMUM = 255
  MEAN = 93.5459
  MINIMUM = 1
  STANDARD_DEVIATION = 27.686
END_OBJECT = IMAGE
/* MAP OBJECT DEFINITIONS */
OBJECT = IMAGE_MAP_PROJECTION
  ^DATA_SET_MAP_PROJECTION_CATALOG= "DSMAP.CAT"
  A_AXIS_RADIUS = 3396.0
  B_AXIS_RADIUS = 3396.0
  C_AXIS_RADIUS = 3396.0
  CENTER_LATITUDE = 0.0
  CENTER_LONGITUDE = 210.0
  COORDINATE_SYSTEM_NAME = PLANETOGRAPHIC
  COORDINATE_SYSTEM_TYPE = "BODY-FIXED ROTATING"
  EASTERNMOST_LONGITUDE = 211.408
  FIRST_STANDARD_PARALLEL = "N/A"
  LINE_FIRST_PIXEL = 1
  LINE_LAST_PIXEL = 21497
  LINE_PROJECTION_OFFSET = 53072.875
  MAP_PROJECTION_ROTATION = 0.0
  MAP_PROJECTION_TYPE = SINUSOIDAL
  MAP_RESOLUTION = 1185.42760773333
  MAP_SCALE = 0.05
  MAXIMUM_LATITUDE = 44.7095
  MINIMUM_LATITUDE = 26.6734
  POSITIVE_LONGITUDE_DIRECTION = EAST
  REFERENCE_LATITUDE = "N/A"
  REFERENCE_LONGITUDE = "N/A"
  SAMPLE_FIRST_PIXEL = 1
  SAMPLE_LAST_PIXEL = 2127
  SAMPLE_PROJECTION_OFFSET = 653.125
  SECOND_STANDARD_PARALLEL = "N/A"
  WESTERNMOST_LONGITUDE = 209.273
END_OBJECT = IMAGE_MAP_PROJECTION
/* The JPEG2000 image data file associated with this label. */
OBJECT = COMPRESSED_FILE
  FILE_NAME = "H5373_0000_RE3.JP2"
  RECORD_TYPE = UNDEFINED
  FILE_RECORDS = UNK
  ENCODING_TYPE = "JP2"
  INTERCHANGE_FORMAT = BINARY
  UNCOMPRESSED_FILE_NAME = "H5373_0000_RE3.IMG"
  REQUIRED_STORAGE_BYTES = "45745389"
  ^DESCRIPTION = "JP2INFO.TXT"
END_OBJECT = COMPRESSED_FILE
END
