PDS_VERSION_ID = PDS3
/* FILE DATA ELEMENTS */
RECORD_TYPE = STREAM
/* POINTERS TO DATA OBJECTS */
^COMPRESSED_FILE = "H5374_0000_RE3.JP2"
/* IDENTIFICATION DATA ELEMENTS */
DATA_SET_ID = "MEX-M-HRSC-5-REFDR-MAPPROJECTED-V3.0"
DATA_SET_NAME = "MARS EXPRESS HRSC MAP PROJECTED REFDR V3.0"
DETECTOR_ID = MEX_HRSC_RED
EVENT_TYPE = "MARS-REGIONAL-MAPPING-Te-Pf-Mw"
INSTRUMENT_HOST_ID = MEX
INSTRUMENT_HOST_NAME = "MARS EXPRESS"
INSTRUMENT_ID = HRSC
INSTRUMENT_NAME = "HIGH RESOLUTION STEREO CAMERA"
MISSION_NAME = "MARS EXPRESS"
MISSION_PHASE_NAME = ME_Phase_11
PROCESSING_LEVEL_ID = 3
PRODUCT_CREATION_TIME = 2016-05-14T01:01:03.000Z
PRODUCT_ID = "H5374_0000_RE3.JP2"
RELEASE_ID = 0061
REVISION_ID = 0000
/* QUALITY DATA ELEMENTS */
DATA_QUALITY_ID = 1
DATA_QUALITY_DESC = "Data calculated based on original SPICE kernels"
/* TIME DATA ELEMENTS */
SPACECRAFT_CLOCK_START_COUNT = "1/0153113933.07296"
SPACECRAFT_CLOCK_STOP_COUNT = "1/0153114242.48683"
START_TIME = 2008-03-09T03:40:07.154Z
STOP_TIME = 2008-03-09T03:43:59.181Z
/* ORBITAL DATA ELEMENTS */
ASCENDING_NODE_LONGITUDE = 116.41
MAXIMUM_RESOLUTION = 58.1
FOOTPRINT_POINT_LATITUDE = (63.7314,63.7164,63.6948,63.6653, 63.6276,63.3608,63.0184,62.5046,62.1618 ,61.8185,61.4752,61.1317,60.7877, 60.4442,60.1002,59.7556,59.4113,59.1175 ,58.829,58.5401,58.1069,57.8181,57.5292 ,57.0957,56.8066,56.5178,56.2287, 55.7952,55.3614,54.9279,54.4943,54.2053 ,53.9164,53.4829,53.0496,52.7607, 52.4721,52.1833,51.8949,51.6066,51.318, 51.0297,50.5973,50.3091,50.0212,49.5894 ,49.3015,49.014,48.5829,48.5723,48.5876 ,48.5972,48.6128,48.9011,49.1895,49.478 ,49.7667,50.0555,50.3446,50.7783, 51.2123,51.5018,51.7912,52.0809,52.5155 ,52.8055,53.0955,53.3852,53.6752, 53.9656,54.4009,54.6912,55.1267,55.4173 ,55.7077,56.1434,56.4341,56.7246, 57.1605,57.5963,58.0322,58.3228,58.6134 ,58.9038,59.1942,59.4861,59.6594, 59.8328,60.1791,60.3525,60.5259,60.6992 ,61.0455,61.5649,61.9107,62.2568, 62.6027,62.9484,63.4669,63.7314)
FOOTPRINT_POINT_LONGITUDE = (109.209,108.791,108.236,107.543, 106.742,106.344,106.445,106.591,106.684 ,106.775,106.863,106.949,107.032, 107.113,107.191,107.268,107.341,107.403 ,107.462,107.519,107.603,107.657,107.71 ,107.787,107.836,107.885,107.932, 108.001,108.068,108.133,108.195,108.235 ,108.274,108.332,108.387,108.423, 108.457,108.492,108.525,108.557,108.589 ,108.62,108.665,108.694,108.723,108.764 ,108.791,108.817,108.855,109.217, 109.731,110.092,110.698,110.684,110.67, 110.655,110.64,110.625,110.609,110.585, 110.561,110.544,110.527,110.51,110.483, 110.464,110.446,110.427,110.407,110.387 ,110.357,110.336,110.304,110.282, 110.259,110.225,110.201,110.177,110.14, 110.102,110.062,110.035,110.007,109.979 ,109.95,109.921,109.903,109.884,109.847 ,109.828,109.809,109.79,109.75,109.688, 109.646,109.602,109.557,109.51,109.439, 109.209)
ORBIT_NUMBER = 5374
ORBITAL_ECCENTRICITY = 0.571
ORBITAL_INCLINATION = 86.74
ORBITAL_SEMIMAJOR_AXIS = 8683.32
PERIAPSIS_ALTITUDE = 342.78
PERIAPSIS_ARGUMENT_ANGLE = 132.87
PERIAPSIS_TIME = 2008-03-09T03:43:57.000Z
SPACECRAFT_ORIENTATION = (0.0,-1.0,0.0)
^MEX_ORIENTATION_DESC = "MEX_ORIENTATION_DESC.TXT"
SPACECRAFT_POINTING_MODE = NADIR
^MEX_POINTING_DESC = "MEX_POINTING_DESC.TXT"
RIGHT_ASCENSION = -1e+32
DECLINATION = -1e+32
OFFSET_ANGLE = -1e+32
SPACECRAFT_SOLAR_DISTANCE = 2.46135e+08
TARGET_NAME = MARS
/* CAMERA DATA ELEMENTS */
DETECTOR_TEMPERATURE = 18.3705
FOCAL_PLANE_TEMPERATURE = 7.9716
INST_CMPRS_NAME = "DISCRETE COSINE TRANSFORMATION (DCT)"
INST_CMPRS_RATIO = 30.8863
INST_CMPRS_QUALITY = 0
INST_CMPRS_QUANTZ_TBL_ID = 0
INSTRUMENT_TEMPERATURE = 11.0301
LENS_TEMPERATURE = 8.3794
MACROPIXEL_SIZE = 4
MISSING_FRAMES = 0
PIXEL_SUBSAMPLING_FLAG = N
SIGNAL_CHAIN_ID = 2
/* RADIOMETRIC DATA ELEMENTS */
BANDWIDTH = 48.0
CENTER_FILTER_WAVELENGTH = 748.0
RADIANCE_OFFSET = 1.05378
RADIANCE_SCALING_FACTOR = 0.00362386
REFLECTANCE_SCALING_FACTOR = 0.000501008
MEX:REFLECTANCE_OFFSET = 0.145688
/* IMAGE OBJECT DEFINITIONS */
OBJECT = IMAGE
  INTERCHANGE_FORMAT = BINARY
  LINES = 18139
  LINE_SAMPLES = 2779
  SAMPLE_TYPE = UNSIGNED_INTEGER
  SAMPLE_BITS = 8
  BANDS = 1
  BAND_STORAGE_TYPE = BAND_SEQUENTIAL
  MAXIMUM = 255
  MEAN = 93.6187
  MINIMUM = 1
  STANDARD_DEVIATION = 41.7156
END_OBJECT = IMAGE
/* MAP OBJECT DEFINITIONS */
OBJECT = IMAGE_MAP_PROJECTION
  ^DATA_SET_MAP_PROJECTION_CATALOG= "DSMAP.CAT"
  A_AXIS_RADIUS = 3396.0
  B_AXIS_RADIUS = 3396.0
  C_AXIS_RADIUS = 3396.0
  CENTER_LATITUDE = 0.0
  CENTER_LONGITUDE = 109.0
  COORDINATE_SYSTEM_NAME = PLANETOGRAPHIC
  COORDINATE_SYSTEM_TYPE = "BODY-FIXED ROTATING"
  EASTERNMOST_LONGITUDE = 110.698
  FIRST_STANDARD_PARALLEL = "N/A"
  LINE_FIRST_PIXEL = 1
  LINE_LAST_PIXEL = 18139
  LINE_PROJECTION_OFFSET = 75678.875
  MAP_PROJECTION_ROTATION = 0.0
  MAP_PROJECTION_TYPE = SINUSOIDAL
  MAP_RESOLUTION = 1185.42760773333
  MAP_SCALE = 0.05
  MAXIMUM_LATITUDE = 63.7314
  MINIMUM_LATITUDE = 48.5723
  POSITIVE_LONGITUDE_DIRECTION = EAST
  REFERENCE_LATITUDE = "N/A"
  REFERENCE_LONGITUDE = "N/A"
  SAMPLE_FIRST_PIXEL = 1
  SAMPLE_LAST_PIXEL = 2779
  SAMPLE_PROJECTION_OFFSET = 1459.875
  SECOND_STANDARD_PARALLEL = "N/A"
  WESTERNMOST_LONGITUDE = 106.344
END_OBJECT = IMAGE_MAP_PROJECTION
/* The JPEG2000 image data file associated with this label. */
OBJECT = COMPRESSED_FILE
  FILE_NAME = "H5374_0000_RE3.JP2"
  RECORD_TYPE = UNDEFINED
  FILE_RECORDS = UNK
  ENCODING_TYPE = "JP2"
  INTERCHANGE_FORMAT = BINARY
  UNCOMPRESSED_FILE_NAME = "H5374_0000_RE3.IMG"
  REQUIRED_STORAGE_BYTES = "50430513"
  ^DESCRIPTION = "JP2INFO.TXT"
END_OBJECT = COMPRESSED_FILE
END
