PDS_VERSION_ID = PDS3
/* FILE DATA ELEMENTS */
RECORD_TYPE = STREAM
/* POINTERS TO DATA OBJECTS */
^COMPRESSED_FILE = "H5377_0000_IR3.JP2"
/* IDENTIFICATION DATA ELEMENTS */
DATA_SET_ID = "MEX-M-HRSC-5-REFDR-MAPPROJECTED-V3.0"
DATA_SET_NAME = "MARS EXPRESS HRSC MAP PROJECTED REFDR V3.0"
DETECTOR_ID = MEX_HRSC_IR
EVENT_TYPE = "MARS-REGIONAL-MAPPING-Im-Pf"
INSTRUMENT_HOST_ID = MEX
INSTRUMENT_HOST_NAME = "MARS EXPRESS"
INSTRUMENT_ID = HRSC
INSTRUMENT_NAME = "HIGH RESOLUTION STEREO CAMERA"
MISSION_NAME = "MARS EXPRESS"
MISSION_PHASE_NAME = ME_Phase_11
PROCESSING_LEVEL_ID = 3
PRODUCT_CREATION_TIME = 2016-05-14T01:01:03.000Z
PRODUCT_ID = "H5377_0000_IR3.JP2"
RELEASE_ID = 0061
REVISION_ID = 0000
/* QUALITY DATA ELEMENTS */
DATA_QUALITY_ID = 1
DATA_QUALITY_DESC = "Data calculated based on original SPICE kernels"
/* TIME DATA ELEMENTS */
SPACECRAFT_CLOCK_START_COUNT = "1/0153187787.08425"
SPACECRAFT_CLOCK_STOP_COUNT = "1/0153188117.63814"
START_TIME = 2008-03-10T00:09:58.722Z
STOP_TIME = 2008-03-10T00:14:22.507Z
/* ORBITAL DATA ELEMENTS */
ASCENDING_NODE_LONGITUDE = 116.35
MAXIMUM_RESOLUTION = 59
FOOTPRINT_POINT_LATITUDE = (66.9328,66.8776,66.8128,66.637,66.2812 ,65.9243,65.575,65.2246,64.8731,64.5291 ,64.0117,63.6668,63.3286,62.9897, 62.6497,62.3127,61.8134,61.4802,61.1456 ,60.8102,60.4742,60.137,59.7995,59.4611 ,59.1221,58.7826,58.4423,58.1009, 57.5878,57.2454,56.902,56.5578,56.0491, 55.7594,55.4694,55.0338,54.7431,54.306, 54.0145,53.7222,53.4295,53.1364,52.6963 ,52.4026,52.1082,51.6662,51.3711, 51.0752,50.78,50.4563,50.4766,50.4922, 50.5087,50.8108,51.1082,51.4039,51.7004 ,51.9961,52.292,52.5871,53.0295,53.3241 ,53.6182,53.9123,54.2058,54.4992, 54.9388,55.232,55.5242,55.9608,56.2641, 56.6113,56.9573,57.3033,57.6477,58.1642 ,58.5077,58.8506,59.193,59.5346,59.8757 ,60.216,60.5558,60.8949,61.2335,61.5713 ,61.9084,62.2446,62.5802,62.9232, 63.4377,63.7799,64.3026,64.6517,64.9999 ,65.3554,65.7109,66.0652,66.4264, 66.9328)
FOOTPRINT_POINT_LONGITUDE = (168.706,167.319,166.011,164.855, 165.004,165.148,165.285,165.417,165.545 ,165.666,165.841,165.953,166.059, 166.163,166.263,166.359,166.497,166.586 ,166.673,166.757,166.838,166.918, 166.995,167.071,167.144,167.216,167.286 ,167.353,167.452,167.515,167.577, 167.637,167.723,167.77,167.816,167.884, 167.927,167.991,168.033,168.073,168.113 ,168.151,168.207,168.244,168.28,168.332 ,168.365,168.398,168.43,168.663,169.188 ,169.659,170.239,170.392,170.377, 170.361,170.345,170.329,170.312,170.295 ,170.269,170.251,170.233,170.214, 170.195,170.176,170.146,170.125,170.105 ,170.074,170.052,170.025,169.998, 169.971,169.943,169.899,169.87,169.839, 169.808,169.776,169.743,169.709,169.675 ,169.639,169.603,169.566,169.528, 169.489,169.449,169.407,169.342,169.296 ,169.225,169.176,169.125,169.071, 169.016,168.959,168.899,168.706)
ORBIT_NUMBER = 5377
ORBITAL_ECCENTRICITY = 0.57
ORBITAL_INCLINATION = 86.74
ORBITAL_SEMIMAJOR_AXIS = 8673.35
PERIAPSIS_ALTITUDE = 344.08
PERIAPSIS_ARGUMENT_ANGLE = 132.36
PERIAPSIS_TIME = 2008-03-10T00:15:34.000Z
SPACECRAFT_ORIENTATION = (0.0,-1.0,0.0)
^MEX_ORIENTATION_DESC = "MEX_ORIENTATION_DESC.TXT"
SPACECRAFT_POINTING_MODE = NADIR
^MEX_POINTING_DESC = "MEX_POINTING_DESC.TXT"
RIGHT_ASCENSION = -1e+32
DECLINATION = -1e+32
OFFSET_ANGLE = -1e+32
SPACECRAFT_SOLAR_DISTANCE = 2.46215e+08
TARGET_NAME = MARS
/* CAMERA DATA ELEMENTS */
DETECTOR_TEMPERATURE = 17.5549
FOCAL_PLANE_TEMPERATURE = 8.1755
INST_CMPRS_NAME = "DISCRETE COSINE TRANSFORMATION (DCT)"
INST_CMPRS_RATIO = 24.7338
INST_CMPRS_QUALITY = 0
INST_CMPRS_QUANTZ_TBL_ID = 0
INSTRUMENT_TEMPERATURE = 11.0301
LENS_TEMPERATURE = 8.7872
MACROPIXEL_SIZE = 4
MISSING_FRAMES = 0
PIXEL_SUBSAMPLING_FLAG = N
SIGNAL_CHAIN_ID = 2
/* RADIOMETRIC DATA ELEMENTS */
BANDWIDTH = 81.0
CENTER_FILTER_WAVELENGTH = 955.5
RADIANCE_OFFSET = 0.594404
RADIANCE_SCALING_FACTOR = 0.00495337
REFLECTANCE_SCALING_FACTOR = 0.00064782
MEX:REFLECTANCE_OFFSET = 0.0777384
/* IMAGE OBJECT DEFINITIONS */
OBJECT = IMAGE
  INTERCHANGE_FORMAT = BINARY
  LINES = 19410
  LINE_SAMPLES = 2939
  SAMPLE_TYPE = UNSIGNED_INTEGER
  SAMPLE_BITS = 8
  BANDS = 1
  BAND_STORAGE_TYPE = BAND_SEQUENTIAL
  MAXIMUM = 255
  MEAN = 99.2705
  MINIMUM = 1
  STANDARD_DEVIATION = 49.731
END_OBJECT = IMAGE
/* MAP OBJECT DEFINITIONS */
OBJECT = IMAGE_MAP_PROJECTION
  ^DATA_SET_MAP_PROJECTION_CATALOG= "DSMAP.CAT"
  A_AXIS_RADIUS = 3396.0
  B_AXIS_RADIUS = 3396.0
  C_AXIS_RADIUS = 3396.0
  CENTER_LATITUDE = 0.0
  CENTER_LONGITUDE = 169.0
  COORDINATE_SYSTEM_NAME = PLANETOGRAPHIC
  COORDINATE_SYSTEM_TYPE = "BODY-FIXED ROTATING"
  EASTERNMOST_LONGITUDE = 170.392
  FIRST_STANDARD_PARALLEL = "N/A"
  LINE_FIRST_PIXEL = 1
  LINE_LAST_PIXEL = 19410
  LINE_PROJECTION_OFFSET = 79238.125
  MAP_PROJECTION_ROTATION = 0.0
  MAP_PROJECTION_TYPE = SINUSOIDAL
  MAP_RESOLUTION = 1185.42760773333
  MAP_SCALE = 0.05
  MAXIMUM_LATITUDE = 66.9328
  MINIMUM_LATITUDE = 50.4563
  POSITIVE_LONGITUDE_DIRECTION = EAST
  REFERENCE_LATITUDE = "N/A"
  REFERENCE_LONGITUDE = "N/A"
  SAMPLE_FIRST_PIXEL = 1
  SAMPLE_LAST_PIXEL = 2939
  SAMPLE_PROJECTION_OFFSET = 1900.375
  SECOND_STANDARD_PARALLEL = "N/A"
  WESTERNMOST_LONGITUDE = 164.855
END_OBJECT = IMAGE_MAP_PROJECTION
/* The JPEG2000 image data file associated with this label. */
OBJECT = COMPRESSED_FILE
  FILE_NAME = "H5377_0000_IR3.JP2"
  RECORD_TYPE = UNDEFINED
  FILE_RECORDS = UNK
  ENCODING_TYPE = "JP2"
  INTERCHANGE_FORMAT = BINARY
  UNCOMPRESSED_FILE_NAME = "H5377_0000_IR3.IMG"
  REQUIRED_STORAGE_BYTES = "57069502"
  ^DESCRIPTION = "JP2INFO.TXT"
END_OBJECT = COMPRESSED_FILE
END
