PDS_VERSION_ID = PDS3
/* FILE DATA ELEMENTS */
RECORD_TYPE = STREAM
/* POINTERS TO DATA OBJECTS */
^COMPRESSED_FILE = "H5377_0000_ND3.JP2"
/* IDENTIFICATION DATA ELEMENTS */
DATA_SET_ID = "MEX-M-HRSC-5-REFDR-MAPPROJECTED-V3.0"
DATA_SET_NAME = "MARS EXPRESS HRSC MAP PROJECTED REFDR V3.0"
DETECTOR_ID = MEX_HRSC_NADIR
EVENT_TYPE = "MARS-REGIONAL-MAPPING-Im-Pf"
INSTRUMENT_HOST_ID = MEX
INSTRUMENT_HOST_NAME = "MARS EXPRESS"
INSTRUMENT_ID = HRSC
INSTRUMENT_NAME = "HIGH RESOLUTION STEREO CAMERA"
MISSION_NAME = "MARS EXPRESS"
MISSION_PHASE_NAME = ME_Phase_11
PROCESSING_LEVEL_ID = 3
PRODUCT_CREATION_TIME = 2016-05-14T01:01:03.000Z
PRODUCT_ID = "H5377_0000_ND3.JP2"
RELEASE_ID = 0061
REVISION_ID = 0000
/* QUALITY DATA ELEMENTS */
DATA_QUALITY_ID = 1
DATA_QUALITY_DESC = "Data calculated based on original SPICE kernels"
/* TIME DATA ELEMENTS */
SPACECRAFT_CLOCK_START_COUNT = "1/0153187787.08425"
SPACECRAFT_CLOCK_STOP_COUNT = "1/0153188117.63814"
START_TIME = 2008-03-10T00:10:33.527Z
STOP_TIME = 2008-03-10T00:14:48.527Z
/* ORBITAL DATA ELEMENTS */
ASCENDING_NODE_LONGITUDE = 116.35
MAXIMUM_RESOLUTION = 14
FOOTPRINT_POINT_LATITUDE = (66.7976,66.7407,66.6696,66.3117,65.953 ,65.5976,65.2467,64.8952,64.3695, 64.0257,63.6812,63.3362,62.9907,62.6446 ,62.298,61.9508,61.6032,61.255,60.9064, 60.5573,60.2077,59.8577,59.5073,59.1565 ,58.8052,58.4536,58.1015,57.7721, 57.1808,56.5886,56.2921,55.9954,55.6985 ,55.4014,55.1041,54.8066,54.509,54.2111 ,53.9131,53.6149,53.3166,53.0181, 52.7195,52.4207,52.1218,51.8228,51.5237 ,51.2244,50.9251,50.6256,50.495,50.5231 ,50.9824,51.2829,51.5833,51.8836, 52.1838,52.484,52.784,53.0839,53.3837, 53.6833,53.9829,54.2823,54.5815,54.8807 ,55.1796,55.4784,55.7771,56.0755, 56.3739,56.672,56.97,57.2677,57.8626, 58.1931,58.5474,58.9014,59.2551,59.6084 ,59.9614,60.314,60.6663,61.0182,61.3697 ,61.7208,62.0715,62.4218,62.7716, 63.1211,63.4701,63.8186,64.1667,64.5143 ,65.0458,65.4015,65.7567,66.2983, 66.6615,66.7976)
FOOTPRINT_POINT_LONGITUDE = (167.442,166.23,164.909,165.056,165.198 ,165.335,165.465,165.59,165.771,165.884 ,165.994,166.1,166.204,166.305,166.401, 166.495,166.587,166.677,166.763,166.848 ,166.929,167.008,167.085,167.16,167.233 ,167.304,167.373,167.435,167.543, 167.646,167.696,167.745,167.792,167.838 ,167.883,167.927,167.971,168.013, 168.054,168.094,168.133,168.171,168.209 ,168.245,168.281,168.316,168.35,168.383 ,168.415,168.447,169.128,170.06,170.368 ,170.351,170.335,170.317,170.299, 170.282,170.263,170.244,170.225,170.206 ,170.186,170.165,170.145,170.123, 170.101,170.079,170.057,170.034,170.011 ,169.987,169.962,169.937,169.886, 169.857,169.824,169.791,169.756,169.721 ,169.685,169.648,169.61,169.571,169.53, 169.489,169.447,169.403,169.358,169.312 ,169.265,169.216,169.165,169.114, 169.031,168.974,168.915,168.821,168.756 ,167.442)
ORBIT_NUMBER = 5377
ORBITAL_ECCENTRICITY = 0.57
ORBITAL_INCLINATION = 86.74
ORBITAL_SEMIMAJOR_AXIS = 8673.35
PERIAPSIS_ALTITUDE = 344.08
PERIAPSIS_ARGUMENT_ANGLE = 132.36
PERIAPSIS_TIME = 2008-03-10T00:15:34.000Z
SPACECRAFT_ORIENTATION = (0.0,-1.0,0.0)
^MEX_ORIENTATION_DESC = "MEX_ORIENTATION_DESC.TXT"
SPACECRAFT_POINTING_MODE = NADIR
^MEX_POINTING_DESC = "MEX_POINTING_DESC.TXT"
RIGHT_ASCENSION = -1e+32
DECLINATION = -1e+32
OFFSET_ANGLE = -1e+32
SPACECRAFT_SOLAR_DISTANCE = 2.46215e+08
TARGET_NAME = MARS
/* CAMERA DATA ELEMENTS */
DETECTOR_TEMPERATURE = 17.7588
FOCAL_PLANE_TEMPERATURE = 8.1755
INST_CMPRS_NAME = "DISCRETE COSINE TRANSFORMATION (DCT)"
INST_CMPRS_RATIO = 6.7919
INST_CMPRS_QUALITY = 0
INST_CMPRS_QUANTZ_TBL_ID = 0
INSTRUMENT_TEMPERATURE = 11.0301
LENS_TEMPERATURE = 8.7872
MACROPIXEL_SIZE = 1
MISSING_FRAMES = 0
PIXEL_SUBSAMPLING_FLAG = N
SIGNAL_CHAIN_ID = 0
/* RADIOMETRIC DATA ELEMENTS */
BANDWIDTH = 177.0
CENTER_FILTER_WAVELENGTH = 677.5
RADIANCE_OFFSET = 2.75737
RADIANCE_SCALING_FACTOR = 0.0165649
REFLECTANCE_SCALING_FACTOR = 0.000533458
MEX:REFLECTANCE_OFFSET = 0.0887985
/* IMAGE OBJECT DEFINITIONS */
OBJECT = IMAGE
  INTERCHANGE_FORMAT = BINARY
  LINES = 77639
  LINE_SAMPLES = 11753
  SAMPLE_TYPE = UNSIGNED_INTEGER
  SAMPLE_BITS = 8
  BANDS = 1
  BAND_STORAGE_TYPE = BAND_SEQUENTIAL
  MAXIMUM = 255
  MEAN = 99.0305
  MINIMUM = 1
  STANDARD_DEVIATION = 46.4813
END_OBJECT = IMAGE
/* MAP OBJECT DEFINITIONS */
OBJECT = IMAGE_MAP_PROJECTION
  ^DATA_SET_MAP_PROJECTION_CATALOG= "DSMAP.CAT"
  A_AXIS_RADIUS = 3396.0
  B_AXIS_RADIUS = 3396.0
  C_AXIS_RADIUS = 3396.0
  CENTER_LATITUDE = 0.0
  CENTER_LONGITUDE = 169.0
  COORDINATE_SYSTEM_NAME = PLANETOGRAPHIC
  COORDINATE_SYSTEM_TYPE = "BODY-FIXED ROTATING"
  EASTERNMOST_LONGITUDE = 170.368
  FIRST_STANDARD_PARALLEL = "N/A"
  LINE_FIRST_PIXEL = 1
  LINE_LAST_PIXEL = 77639
  LINE_PROJECTION_OFFSET = 316954.0
  MAP_PROJECTION_ROTATION = 0.0
  MAP_PROJECTION_TYPE = SINUSOIDAL
  MAP_RESOLUTION = 4741.71043093333
  MAP_SCALE = 0.0125
  MAXIMUM_LATITUDE = 66.7976
  MINIMUM_LATITUDE = 50.495
  POSITIVE_LONGITUDE_DIRECTION = EAST
  REFERENCE_LATITUDE = "N/A"
  REFERENCE_LONGITUDE = "N/A"
  SAMPLE_FIRST_PIXEL = 1
  SAMPLE_LAST_PIXEL = 11753
  SAMPLE_PROJECTION_OFFSET = 7603.0
  SECOND_STANDARD_PARALLEL = "N/A"
  WESTERNMOST_LONGITUDE = 164.909
END_OBJECT = IMAGE_MAP_PROJECTION
/* The JPEG2000 image data file associated with this label. */
OBJECT = COMPRESSED_FILE
  FILE_NAME = "H5377_0000_ND3.JP2"
  RECORD_TYPE = UNDEFINED
  FILE_RECORDS = UNK
  ENCODING_TYPE = "JP2"
  INTERCHANGE_FORMAT = BINARY
  UNCOMPRESSED_FILE_NAME = "H5377_0000_ND3.IMG"
  REQUIRED_STORAGE_BYTES = "912526426"
  ^DESCRIPTION = "JP2INFO.TXT"
END_OBJECT = COMPRESSED_FILE
END
