PDS_VERSION_ID = PDS3
/* FILE DATA ELEMENTS */
RECORD_TYPE = STREAM
/* POINTERS TO DATA OBJECTS */
^COMPRESSED_FILE = "H5379_0000_P13.JP2"
/* IDENTIFICATION DATA ELEMENTS */
DATA_SET_ID = "MEX-M-HRSC-5-REFDR-MAPPROJECTED-V3.0"
DATA_SET_NAME = "MARS EXPRESS HRSC MAP PROJECTED REFDR V3.0"
DETECTOR_ID = MEX_HRSC_P1
EVENT_TYPE = "MARS-REGIONAL-MAPPING-Te-Pf-Mw"
INSTRUMENT_HOST_ID = MEX
INSTRUMENT_HOST_NAME = "MARS EXPRESS"
INSTRUMENT_ID = HRSC
INSTRUMENT_NAME = "HIGH RESOLUTION STEREO CAMERA"
MISSION_NAME = "MARS EXPRESS"
MISSION_PHASE_NAME = ME_Phase_11
PROCESSING_LEVEL_ID = 3
PRODUCT_CREATION_TIME = 2016-05-14T01:01:03.000Z
PRODUCT_ID = "H5379_0000_P13.JP2"
RELEASE_ID = 0061
REVISION_ID = 0000
/* QUALITY DATA ELEMENTS */
DATA_QUALITY_ID = 2
DATA_QUALITY_DESC = "Data calculated based on photogrammetrically improved orbit and attitude data"
/* TIME DATA ELEMENTS */
SPACECRAFT_CLOCK_START_COUNT = "1/0153237290.09067"
SPACECRAFT_CLOCK_STOP_COUNT = "1/0153237541.49802"
START_TIME = 2008-03-10T13:55:04.935Z
STOP_TIME = 2008-03-10T13:58:10.059Z
/* ORBITAL DATA ELEMENTS */
ASCENDING_NODE_LONGITUDE = 116.31
MAXIMUM_RESOLUTION = 28.6
FOOTPRINT_POINT_LATITUDE = (52.3026,52.2901,52.2813,52.2689, 52.0643,51.8279,51.5915,51.355,50.9998, 50.7628,50.5257,50.2882,50.0507,49.813, 49.5751,49.3372,48.9804,48.7423,48.3846 ,48.1459,47.9075,47.6685,47.4295,47.19, 46.9513,46.7122,46.4723,46.1129,45.8734 ,45.6342,45.3944,45.1543,44.9141, 44.6743,44.434,44.1937,43.8333,43.5929, 43.2325,42.9918,42.7517,42.5113,42.1511 ,41.9059,41.669,41.4275,41.1864,40.9455 ,40.7049,40.4637,40.2228,40.1937, 40.1998,40.2025,40.3251,40.6872,40.9285 ,41.17,41.4113,41.6527,41.8941,42.2558, 42.497,42.7382,42.9793,43.2204,43.4614, 43.7023,43.9432,44.184,44.4249,44.6656, 45.0267,45.2668,45.5069,45.7479,45.9887 ,46.229,46.4691,46.829,47.069,47.4289, 47.6685,47.9079,48.1475,48.5068,48.8656 ,49.2234,49.4621,49.8195,50.0582, 50.2965,50.535,50.773,51.0108,51.3672, 51.6048,51.8422,52.0793,52.3026)
FOOTPRINT_POINT_LONGITUDE = (330.495,329.871,329.513,329.082, 328.539,328.565,328.59,328.615,328.651, 328.675,328.698,328.721,328.743,328.765 ,328.786,328.807,328.838,328.858, 328.888,328.907,328.926,328.944,328.962 ,328.979,328.996,329.013,329.03,329.054 ,329.069,329.085,329.1,329.115,329.129, 329.143,329.157,329.17,329.19,329.202, 329.221,329.233,329.245,329.256,329.273 ,329.283,329.294,329.304,329.314, 329.324,329.334,329.343,329.352,329.901 ,330.374,330.69,330.979,330.97,330.965, 330.959,330.953,330.947,330.941,330.931 ,330.925,330.919,330.912,330.906, 330.899,330.892,330.885,330.878,330.871 ,330.864,330.853,330.846,330.838,330.83 ,330.822,330.814,330.806,330.794, 330.785,330.772,330.764,330.755,330.746 ,330.732,330.718,330.704,330.694,330.68 ,330.67,330.659,330.649,330.638,330.628 ,330.611,330.6,330.589,330.577,330.495)
ORBIT_NUMBER = 5379
ORBITAL_ECCENTRICITY = 0.57
ORBITAL_INCLINATION = 86.75
ORBITAL_SEMIMAJOR_AXIS = 8672.65
PERIAPSIS_ALTITUDE = 343.88
PERIAPSIS_ARGUMENT_ANGLE = 131.99
PERIAPSIS_TIME = 2008-03-10T13:56:32.000Z
SPACECRAFT_ORIENTATION = (0.0,-1.0,0.0)
^MEX_ORIENTATION_DESC = "MEX_ORIENTATION_DESC.TXT"
SPACECRAFT_POINTING_MODE = ACROSSTRACK
^MEX_POINTING_DESC = "MEX_POINTING_DESC.TXT"
RIGHT_ASCENSION = -1e+32
DECLINATION = -1e+32
OFFSET_ANGLE = 0.2
SPACECRAFT_SOLAR_DISTANCE = 2.46267e+08
TARGET_NAME = MARS
/* CAMERA DATA ELEMENTS */
DETECTOR_TEMPERATURE = 17.351
FOCAL_PLANE_TEMPERATURE = 8.7872
INST_CMPRS_NAME = "DISCRETE COSINE TRANSFORMATION (DCT)"
INST_CMPRS_RATIO = 16.6831
INST_CMPRS_QUALITY = 0
INST_CMPRS_QUANTZ_TBL_ID = 0
INSTRUMENT_TEMPERATURE = 11.234
LENS_TEMPERATURE = 9.195
MACROPIXEL_SIZE = 2
MISSING_FRAMES = 0
PIXEL_SUBSAMPLING_FLAG = N
SIGNAL_CHAIN_ID = 3
/* RADIOMETRIC DATA ELEMENTS */
BANDWIDTH = 174.0
CENTER_FILTER_WAVELENGTH = 675.0
RADIANCE_OFFSET = 2.89437
RADIANCE_SCALING_FACTOR = 0.0156636
REFLECTANCE_SCALING_FACTOR = 0.000510965
MEX:REFLECTANCE_OFFSET = 0.0944175
/* IMAGE OBJECT DEFINITIONS */
OBJECT = IMAGE
  INTERCHANGE_FORMAT = BINARY
  LINES = 28585
  LINE_SAMPLES = 3944
  SAMPLE_TYPE = UNSIGNED_INTEGER
  SAMPLE_BITS = 8
  BANDS = 1
  BAND_STORAGE_TYPE = BAND_SEQUENTIAL
  MAXIMUM = 255
  MEAN = 62.8239
  MINIMUM = 1
  STANDARD_DEVIATION = 35.0469
END_OBJECT = IMAGE
/* MAP OBJECT DEFINITIONS */
OBJECT = IMAGE_MAP_PROJECTION
  ^DATA_SET_MAP_PROJECTION_CATALOG= "DSMAP.CAT"
  A_AXIS_RADIUS = 3396.0
  B_AXIS_RADIUS = 3396.0
  C_AXIS_RADIUS = 3396.0
  CENTER_LATITUDE = 0.0
  CENTER_LONGITUDE = 330.0
  COORDINATE_SYSTEM_NAME = PLANETOGRAPHIC
  COORDINATE_SYSTEM_TYPE = "BODY-FIXED ROTATING"
  EASTERNMOST_LONGITUDE = 330.979
  FIRST_STANDARD_PARALLEL = "N/A"
  LINE_FIRST_PIXEL = 1
  LINE_LAST_PIXEL = 28585
  LINE_PROJECTION_OFFSET = 123887.75
  MAP_PROJECTION_ROTATION = 0.0
  MAP_PROJECTION_TYPE = SINUSOIDAL
  MAP_RESOLUTION = 2370.85521546667
  MAP_SCALE = 0.025
  MAXIMUM_LATITUDE = 52.3026
  MINIMUM_LATITUDE = 40.1937
  POSITIVE_LONGITUDE_DIRECTION = EAST
  REFERENCE_LATITUDE = "N/A"
  REFERENCE_LONGITUDE = "N/A"
  SAMPLE_FIRST_PIXEL = 1
  SAMPLE_LAST_PIXEL = 3944
  SAMPLE_PROJECTION_OFFSET = 2126.25
  SECOND_STANDARD_PARALLEL = "N/A"
  WESTERNMOST_LONGITUDE = 328.539
END_OBJECT = IMAGE_MAP_PROJECTION
/* The JPEG2000 image data file associated with this label. */
OBJECT = COMPRESSED_FILE
  FILE_NAME = "H5379_0000_P13.JP2"
  RECORD_TYPE = UNDEFINED
  FILE_RECORDS = UNK
  ENCODING_TYPE = "JP2"
  INTERCHANGE_FORMAT = BINARY
  UNCOMPRESSED_FILE_NAME = "H5379_0000_P13.IMG"
  REQUIRED_STORAGE_BYTES = "112762904"
  ^DESCRIPTION = "JP2INFO.TXT"
END_OBJECT = COMPRESSED_FILE
END
