PDS_VERSION_ID = PDS3
/* FILE DATA ELEMENTS */
RECORD_TYPE = STREAM
/* POINTERS TO DATA OBJECTS */
^COMPRESSED_FILE = "H5388_0001_GR3.JP2"
/* IDENTIFICATION DATA ELEMENTS */
DATA_SET_ID = "MEX-M-HRSC-5-REFDR-MAPPROJECTED-V3.0"
DATA_SET_NAME = "MARS EXPRESS HRSC MAP PROJECTED REFDR V3.0"
DETECTOR_ID = MEX_HRSC_GREEN
EVENT_TYPE = "MARS-LOCAL-COLOR-Vo-Gl"
INSTRUMENT_HOST_ID = MEX
INSTRUMENT_HOST_NAME = "MARS EXPRESS"
INSTRUMENT_ID = HRSC
INSTRUMENT_NAME = "HIGH RESOLUTION STEREO CAMERA"
MISSION_NAME = "MARS EXPRESS"
MISSION_PHASE_NAME = ME_Phase_11
PROCESSING_LEVEL_ID = 3
PRODUCT_CREATION_TIME = 2016-05-14T01:01:03.000Z
PRODUCT_ID = "H5388_0001_GR3.JP2"
RELEASE_ID = 0061
REVISION_ID = 0000
/* QUALITY DATA ELEMENTS */
DATA_QUALITY_ID = 1
DATA_QUALITY_DESC = "Data calculated based on original SPICE kernels"
/* TIME DATA ELEMENTS */
SPACECRAFT_CLOCK_START_COUNT = "1/0153459277.07281"
SPACECRAFT_CLOCK_STOP_COUNT = "1/0153459406.63618"
START_TIME = 2008-03-13T03:35:03.763Z
STOP_TIME = 2008-03-13T03:36:07.984Z
/* ORBITAL DATA ELEMENTS */
ASCENDING_NODE_LONGITUDE = 116.13
MAXIMUM_RESOLUTION = 15.6
FOOTPRINT_POINT_LATITUDE = (34.1659,34.165,34.164,34.163,34.1615, 34.1589,34.1574,34.1554,34.1521,34.1499 ,34.1358,34.0542,33.9728,33.8913, 33.8098,33.6877,33.5656,33.4842,33.4028 ,33.3214,33.2402,33.159,33.0779,32.9968 ,32.8751,32.794,32.7129,32.6318,32.5104 ,32.3889,32.227,32.0651,31.9043,31.8233 ,31.7422,31.6206,31.5396,31.4183, 31.3373,31.1756,31.0544,30.8929,30.7317 ,30.6108,30.5283,30.4456,30.363,30.2804 ,30.1977,30.1151,30.0717,30.0738, 30.0754,30.077,30.0786,30.0795,30.0806, 30.0813,30.0822,30.0827,30.083,30.2075, 30.2903,30.3731,30.456,30.5393,30.6228, 30.7446,30.8259,30.9072,30.9886,31.1106 ,31.1919,31.2732,31.3546,31.436,31.5171 ,31.6389,31.7604,31.9627,32.0841, 32.1651,32.327,32.5697,32.7312,32.8527, 32.9741,33.0954,33.2572,33.3384,33.4197 ,33.5008,33.5822,33.6637,33.7453, 33.8269,33.9085,34.031,34.1127,34.1659)
FOOTPRINT_POINT_LONGITUDE = (150.158,150.031,149.904,149.794, 149.651,149.429,149.318,149.176,148.97, 148.843,148.623,148.624,148.625,148.627 ,148.628,148.63,148.632,148.633,148.634 ,148.635,148.636,148.638,148.639,148.64 ,148.642,148.643,148.645,148.646, 148.648,148.65,148.652,148.654,148.658, 148.659,148.659,148.659,148.66,148.661, 148.661,148.662,148.663,148.663,148.665 ,148.665,148.666,148.667,148.667, 148.668,148.668,148.668,148.768,148.934 ,149.066,149.215,149.414,149.547, 149.713,149.829,150.011,150.143,150.276 ,150.349,150.347,150.346,150.344, 150.342,150.339,150.335,150.333,150.33, 150.327,150.323,150.321,150.318,150.316 ,150.314,150.312,150.309,150.307, 150.304,150.302,150.301,150.299,150.297 ,150.296,150.295,150.294,150.293, 150.292,150.291,150.29,150.289,150.288, 150.286,150.285,150.283,150.281,150.279 ,150.277,150.158)
ORBIT_NUMBER = 5388
ORBITAL_ECCENTRICITY = 0.57
ORBITAL_INCLINATION = 86.74
ORBITAL_SEMIMAJOR_AXIS = 8673.17
PERIAPSIS_ALTITUDE = 345.35
PERIAPSIS_ARGUMENT_ANGLE = 130.43
PERIAPSIS_TIME = 2008-03-13T03:31:12.000Z
SPACECRAFT_ORIENTATION = (0.0,-1.0,0.0)
^MEX_ORIENTATION_DESC = "MEX_ORIENTATION_DESC.TXT"
SPACECRAFT_POINTING_MODE = ACROSSTRACK
^MEX_POINTING_DESC = "MEX_POINTING_DESC.TXT"
RIGHT_ASCENSION = -1e+32
DECLINATION = -1e+32
OFFSET_ANGLE = 0.0
SPACECRAFT_SOLAR_DISTANCE = 2.46497e+08
TARGET_NAME = MARS
/* CAMERA DATA ELEMENTS */
DETECTOR_TEMPERATURE = 19.39
FOCAL_PLANE_TEMPERATURE = 8.3794
INST_CMPRS_NAME = "DISCRETE COSINE TRANSFORMATION (DCT)"
INST_CMPRS_RATIO = 5.65644
INST_CMPRS_QUALITY = 0
INST_CMPRS_QUANTZ_TBL_ID = 0
INSTRUMENT_TEMPERATURE = 13.0691
LENS_TEMPERATURE = 8.7872
MACROPIXEL_SIZE = 1
MISSING_FRAMES = 0
PIXEL_SUBSAMPLING_FLAG = N
SIGNAL_CHAIN_ID = 2
/* RADIOMETRIC DATA ELEMENTS */
BANDWIDTH = 88.0
CENTER_FILTER_WAVELENGTH = 538.0
RADIANCE_OFFSET = 2.11441
RADIANCE_SCALING_FACTOR = 0.00488294
REFLECTANCE_SCALING_FACTOR = 0.000255443
MEX:REFLECTANCE_OFFSET = 0.110612
/* IMAGE OBJECT DEFINITIONS */
OBJECT = IMAGE
  INTERCHANGE_FORMAT = BINARY
  LINES = 19430
  LINE_SAMPLES = 7317
  SAMPLE_TYPE = UNSIGNED_INTEGER
  SAMPLE_BITS = 8
  BANDS = 1
  BAND_STORAGE_TYPE = BAND_SEQUENTIAL
  MAXIMUM = 255
  MEAN = 132.215
  MINIMUM = 1
  STANDARD_DEVIATION = 27.2229
END_OBJECT = IMAGE
/* MAP OBJECT DEFINITIONS */
OBJECT = IMAGE_MAP_PROJECTION
  ^DATA_SET_MAP_PROJECTION_CATALOG= "DSMAP.CAT"
  A_AXIS_RADIUS = 3396.0
  B_AXIS_RADIUS = 3396.0
  C_AXIS_RADIUS = 3396.0
  CENTER_LATITUDE = 0.0
  CENTER_LONGITUDE = 149.0
  COORDINATE_SYSTEM_NAME = PLANETOGRAPHIC
  COORDINATE_SYSTEM_TYPE = "BODY-FIXED ROTATING"
  EASTERNMOST_LONGITUDE = 150.349
  FIRST_STANDARD_PARALLEL = "N/A"
  LINE_FIRST_PIXEL = 1
  LINE_LAST_PIXEL = 19430
  LINE_PROJECTION_OFFSET = 161985.0
  MAP_PROJECTION_ROTATION = 0.0
  MAP_PROJECTION_TYPE = SINUSOIDAL
  MAP_RESOLUTION = 4741.71043093333
  MAP_SCALE = 0.0125
  MAXIMUM_LATITUDE = 34.1659
  MINIMUM_LATITUDE = 30.0717
  POSITIVE_LONGITUDE_DIRECTION = EAST
  REFERENCE_LATITUDE = "N/A"
  REFERENCE_LONGITUDE = "N/A"
  SAMPLE_FIRST_PIXEL = 1
  SAMPLE_LAST_PIXEL = 7317
  SAMPLE_PROJECTION_OFFSET = 1624.0
  SECOND_STANDARD_PARALLEL = "N/A"
  WESTERNMOST_LONGITUDE = 148.623
END_OBJECT = IMAGE_MAP_PROJECTION
/* The JPEG2000 image data file associated with this label. */
OBJECT = COMPRESSED_FILE
  FILE_NAME = "H5388_0001_GR3.JP2"
  RECORD_TYPE = UNDEFINED
  FILE_RECORDS = UNK
  ENCODING_TYPE = "JP2"
  INTERCHANGE_FORMAT = BINARY
  UNCOMPRESSED_FILE_NAME = "H5388_0001_GR3.IMG"
  REQUIRED_STORAGE_BYTES = "142198578"
  ^DESCRIPTION = "JP2INFO.TXT"
END_OBJECT = COMPRESSED_FILE
END
