PDS_VERSION_ID = PDS3
/* FILE DATA ELEMENTS */
RECORD_TYPE = STREAM
/* POINTERS TO DATA OBJECTS */
^COMPRESSED_FILE = "H5393_0000_S23.JP2"
/* IDENTIFICATION DATA ELEMENTS */
DATA_SET_ID = "MEX-M-HRSC-5-REFDR-MAPPROJECTED-V3.0"
DATA_SET_NAME = "MARS EXPRESS HRSC MAP PROJECTED REFDR V3.0"
DETECTOR_ID = MEX_HRSC_S2
EVENT_TYPE = "MARS-REGIONAL-MAPPING-Te-Im-Pf"
INSTRUMENT_HOST_ID = MEX
INSTRUMENT_HOST_NAME = "MARS EXPRESS"
INSTRUMENT_ID = HRSC
INSTRUMENT_NAME = "HIGH RESOLUTION STEREO CAMERA"
MISSION_NAME = "MARS EXPRESS"
MISSION_PHASE_NAME = ME_Phase_11
PROCESSING_LEVEL_ID = 3
PRODUCT_CREATION_TIME = 2016-05-14T01:01:03.000Z
PRODUCT_ID = "H5393_0000_S23.JP2"
RELEASE_ID = 0061
REVISION_ID = 0000
/* QUALITY DATA ELEMENTS */
DATA_QUALITY_ID = 1
DATA_QUALITY_DESC = "Data calculated based on original SPICE kernels"
/* TIME DATA ELEMENTS */
SPACECRAFT_CLOCK_START_COUNT = "1/0153581980.08250"
SPACECRAFT_CLOCK_STOP_COUNT = "1/0153582248.16359"
START_TIME = 2008-03-14T13:40:55.184Z
STOP_TIME = 2008-03-14T13:44:09.986Z
/* ORBITAL DATA ELEMENTS */
ASCENDING_NODE_LONGITUDE = 116.03
MAXIMUM_RESOLUTION = 29.8
FOOTPRINT_POINT_LATITUDE = (63.3848,63.3659,63.346,63.3252,63.3034 ,63.1009,62.8008,62.3649,62.1131, 61.8655,61.6103,61.3591,60.9819,60.7303 ,60.4788,60.2271,59.8495,59.5978, 59.3465,59.0949,58.8433,58.592,58.2147, 57.9632,57.7118,57.3347,56.958,56.7067, 56.4555,56.2044,55.9533,55.7024,55.4516 ,55.2009,54.9503,54.6998,54.4494, 54.0739,53.8238,53.5737,53.3237,53.074, 52.8244,52.4497,52.2003,51.951,51.7019, 51.3283,50.9554,50.7068,50.6883,50.7038 ,50.7239,50.8667,51.1159,51.3658, 51.7405,51.9904,52.3656,52.6157,52.866, 53.1156,53.367,53.6179,53.8691,54.1196, 54.3737,54.7482,54.9998,55.2511,55.5033 ,55.7551,56.1332,56.3853,56.764,57.0163 ,57.2688,57.5215,57.7738,58.0259, 58.2777,58.5303,58.7839,59.0372,59.2901 ,59.5435,59.7967,60.0497,60.302,60.5552 ,60.8095,61.0624,61.315,61.5686,61.9489 ,62.3286,62.7351,63.037,63.3391, 63.3848)
FOOTPRINT_POINT_LONGITUDE = (8.18857,7.75102,7.31569,6.883,6.45208, 5.994,6.07098,6.1791,6.23967,6.29661, 6.35628,6.41249,6.49467,6.54801,6.60007 ,6.65116,6.72565,6.77394,6.82099, 6.86719,6.91235,6.95646,7.02097,7.06284 ,7.10373,7.1635,7.22126,7.2588,7.29552, 7.33145,7.36664,7.40098,7.43461,7.46753 ,7.49972,7.53119,7.56202,7.60699, 7.63617,7.66473,7.69268,7.71997,7.74667 ,7.78582,7.81112,7.83588,7.86008, 7.89546,7.92955,7.95171,8.46033,8.85561 ,9.38678,9.90356,9.89127,9.87912, 9.86026,9.8473,9.82748,9.8138,9.79996, 9.78527,9.77151,9.75702,9.74237,9.72694 ,9.71364,9.68835,9.67234,9.6558,9.63952 ,9.62253,9.59662,9.57893,9.55194, 9.53337,9.51451,9.49532,9.4755,9.45499, 9.43392,9.41289,9.39224,9.37085,9.3487, 9.32639,9.30353,9.27999,9.25541,9.23093 ,9.20685,9.1811,9.15458,9.12824,9.08764 ,9.04522,8.99871,8.96253,8.92562, 8.18857)
ORBIT_NUMBER = 5393
ORBITAL_ECCENTRICITY = 0.57
ORBITAL_INCLINATION = 86.74
ORBITAL_SEMIMAJOR_AXIS = 8672.01
PERIAPSIS_ALTITUDE = 345.48
PERIAPSIS_ARGUMENT_ANGLE = 129.52
PERIAPSIS_TIME = 2008-03-14T13:43:43.000Z
SPACECRAFT_ORIENTATION = (0.0,-1.0,0.0)
^MEX_ORIENTATION_DESC = "MEX_ORIENTATION_DESC.TXT"
SPACECRAFT_POINTING_MODE = ACROSSTRACK
^MEX_POINTING_DESC = "MEX_POINTING_DESC.TXT"
RIGHT_ASCENSION = -1e+32
DECLINATION = -1e+32
OFFSET_ANGLE = 0.3
SPACECRAFT_SOLAR_DISTANCE = 2.46622e+08
TARGET_NAME = MARS
/* CAMERA DATA ELEMENTS */
DETECTOR_TEMPERATURE = 18.7783
FOCAL_PLANE_TEMPERATURE = 8.3794
INST_CMPRS_NAME = "DISCRETE COSINE TRANSFORMATION (DCT)"
INST_CMPRS_RATIO = 14.0428
INST_CMPRS_QUALITY = 0
INST_CMPRS_QUANTZ_TBL_ID = 0
INSTRUMENT_TEMPERATURE = 11.4379
LENS_TEMPERATURE = 8.5833
MACROPIXEL_SIZE = 2
MISSING_FRAMES = 0
PIXEL_SUBSAMPLING_FLAG = N
SIGNAL_CHAIN_ID = 1
/* RADIOMETRIC DATA ELEMENTS */
BANDWIDTH = 178.0
CENTER_FILTER_WAVELENGTH = 679.0
RADIANCE_OFFSET = 3.05237
RADIANCE_SCALING_FACTOR = 0.0372653
REFLECTANCE_SCALING_FACTOR = 0.00120031
MEX:REFLECTANCE_OFFSET = 0.0983166
/* IMAGE OBJECT DEFINITIONS */
OBJECT = IMAGE
  INTERCHANGE_FORMAT = BINARY
  LINES = 30484
  LINE_SAMPLES = 5059
  SAMPLE_TYPE = UNSIGNED_INTEGER
  SAMPLE_BITS = 8
  BANDS = 1
  BAND_STORAGE_TYPE = BAND_SEQUENTIAL
  MAXIMUM = 255
  MEAN = 101.116
  MINIMUM = 1
  STANDARD_DEVIATION = 22.4074
END_OBJECT = IMAGE
/* MAP OBJECT DEFINITIONS */
OBJECT = IMAGE_MAP_PROJECTION
  ^DATA_SET_MAP_PROJECTION_CATALOG= "DSMAP.CAT"
  A_AXIS_RADIUS = 3396.0
  B_AXIS_RADIUS = 3396.0
  C_AXIS_RADIUS = 3396.0
  CENTER_LATITUDE = 0.0
  CENTER_LONGITUDE = 8.0
  COORDINATE_SYSTEM_NAME = PLANETOGRAPHIC
  COORDINATE_SYSTEM_TYPE = "BODY-FIXED ROTATING"
  EASTERNMOST_LONGITUDE = 9.903560000000001
  FIRST_STANDARD_PARALLEL = "N/A"
  LINE_FIRST_PIXEL = 1
  LINE_LAST_PIXEL = 30484
  LINE_PROJECTION_OFFSET = 150575.75
  MAP_PROJECTION_ROTATION = 0.0
  MAP_PROJECTION_TYPE = SINUSOIDAL
  MAP_RESOLUTION = 2370.85521546667
  MAP_SCALE = 0.025
  MAXIMUM_LATITUDE = 63.3848
  MINIMUM_LATITUDE = 50.6883
  POSITIVE_LONGITUDE_DIRECTION = EAST
  REFERENCE_LATITUDE = "N/A"
  REFERENCE_LONGITUDE = "N/A"
  SAMPLE_FIRST_PIXEL = 1
  SAMPLE_LAST_PIXEL = 5059
  SAMPLE_PROJECTION_OFFSET = 2213.25
  SECOND_STANDARD_PARALLEL = "N/A"
  WESTERNMOST_LONGITUDE = 5.994
END_OBJECT = IMAGE_MAP_PROJECTION
/* The JPEG2000 image data file associated with this label. */
OBJECT = COMPRESSED_FILE
  FILE_NAME = "H5393_0000_S23.JP2"
  RECORD_TYPE = UNDEFINED
  FILE_RECORDS = UNK
  ENCODING_TYPE = "JP2"
  INTERCHANGE_FORMAT = BINARY
  UNCOMPRESSED_FILE_NAME = "H5393_0000_S23.IMG"
  REQUIRED_STORAGE_BYTES = "154243851"
  ^DESCRIPTION = "JP2INFO.TXT"
END_OBJECT = COMPRESSED_FILE
END
