PDS_VERSION_ID = PDS3
/* FILE DATA ELEMENTS */
RECORD_TYPE = STREAM
/* POINTERS TO DATA OBJECTS */
^COMPRESSED_FILE = "H5397_0000_P13.JP2"
/* IDENTIFICATION DATA ELEMENTS */
DATA_SET_ID = "MEX-M-HRSC-5-REFDR-MAPPROJECTED-V3.0"
DATA_SET_NAME = "MARS EXPRESS HRSC MAP PROJECTED REFDR V3.0"
DETECTOR_ID = MEX_HRSC_P1
EVENT_TYPE = "MARS-REGIONAL-MAPPING-Te-Pf-Ts"
INSTRUMENT_HOST_ID = MEX
INSTRUMENT_HOST_NAME = "MARS EXPRESS"
INSTRUMENT_ID = HRSC
INSTRUMENT_NAME = "HIGH RESOLUTION STEREO CAMERA"
MISSION_NAME = "MARS EXPRESS"
MISSION_PHASE_NAME = ME_Phase_11
PROCESSING_LEVEL_ID = 3
PRODUCT_CREATION_TIME = 2016-05-14T01:01:03.000Z
PRODUCT_ID = "H5397_0000_P13.JP2"
RELEASE_ID = 0061
REVISION_ID = 0000
/* QUALITY DATA ELEMENTS */
DATA_QUALITY_ID = 2
DATA_QUALITY_DESC = "Data calculated based on photogrammetrically improved orbit and attitude data"
/* TIME DATA ELEMENTS */
SPACECRAFT_CLOCK_START_COUNT = "1/0153680693.07277"
SPACECRAFT_CLOCK_STOP_COUNT = "1/0153680946.63545"
START_TIME = 2008-03-15T17:05:07.785Z
STOP_TIME = 2008-03-15T17:08:12.750Z
/* ORBITAL DATA ELEMENTS */
ASCENDING_NODE_LONGITUDE = 115.95
MAXIMUM_RESOLUTION = 28.7
FOOTPRINT_POINT_LATITUDE = (52.3339,52.3226,52.3067,52.2958, 52.2854,52.2028,51.9651,51.7272,51.4892 ,51.2511,51.0127,50.6552,50.2969, 50.0581,49.6996,49.4607,49.2215,48.9824 ,48.7428,48.3838,48.0247,47.785,47.5449 ,47.1849,46.9449,46.7049,46.3448, 45.9844,45.744,45.5038,45.1434,44.903, 44.6622,44.4218,44.061,43.8204,43.5797, 43.2186,42.978,42.6169,42.3763,42.0154, 41.7747,41.5342,41.2933,41.0527,40.812, 40.5714,40.2104,40.1957,40.2017,40.2094 ,40.2162,40.4589,40.7,40.9413,41.3031, 41.5447,41.9027,42.144,42.3893,42.6302, 42.8711,43.1124,43.4742,43.7154,43.9564 ,44.1975,44.4387,44.6804,44.921,45.2824 ,45.5238,45.7647,46.0059,46.2466, 46.4876,46.8488,47.0896,47.3301,47.6906 ,47.9311,48.1713,48.4118,48.6523, 48.8923,49.1325,49.3724,49.6121,49.9717 ,50.2116,50.5709,50.8104,51.0496, 51.2888,51.5278,51.7667,52.0057,52.2444 ,52.3339)
FOOTPRINT_POINT_LONGITUDE = (328.827,328.438,327.957,327.661, 327.401,327.056,327.083,327.11,327.136, 327.162,327.187,327.224,327.259,327.282 ,327.316,327.339,327.36,327.382,327.402 ,327.433,327.463,327.482,327.501, 327.528,327.546,327.564,327.589,327.614 ,327.63,327.646,327.669,327.684,327.699 ,327.713,327.734,327.747,327.761,327.78 ,327.792,327.81,327.822,327.839,327.85, 327.861,327.871,327.882,327.892,327.901 ,327.915,328.419,328.678,329.068, 329.506,329.586,329.578,329.571,329.56, 329.552,329.543,329.535,329.524,329.516 ,329.508,329.499,329.487,329.478, 329.469,329.46,329.451,329.442,329.433, 329.419,329.409,329.399,329.389,329.379 ,329.368,329.353,329.342,329.331, 329.315,329.304,329.293,329.281,329.269 ,329.257,329.245,329.233,329.221, 329.202,329.189,329.169,329.156,329.142 ,329.128,329.115,329.1,329.086,329.071, 328.827)
ORBIT_NUMBER = 5397
ORBITAL_ECCENTRICITY = 0.57
ORBITAL_INCLINATION = 86.76
ORBITAL_SEMIMAJOR_AXIS = 8667.52
PERIAPSIS_ALTITUDE = 345.69
PERIAPSIS_ARGUMENT_ANGLE = 128.83
PERIAPSIS_TIME = 2008-03-15T17:05:46.000Z
SPACECRAFT_ORIENTATION = (0.0,-1.0,0.0)
^MEX_ORIENTATION_DESC = "MEX_ORIENTATION_DESC.TXT"
SPACECRAFT_POINTING_MODE = NADIR
^MEX_POINTING_DESC = "MEX_POINTING_DESC.TXT"
RIGHT_ASCENSION = -1e+32
DECLINATION = -1e+32
OFFSET_ANGLE = -1e+32
SPACECRAFT_SOLAR_DISTANCE = 2.46719e+08
TARGET_NAME = MARS
/* CAMERA DATA ELEMENTS */
DETECTOR_TEMPERATURE = 17.351
FOCAL_PLANE_TEMPERATURE = 8.3794
INST_CMPRS_NAME = "DISCRETE COSINE TRANSFORMATION (DCT)"
INST_CMPRS_RATIO = 16.685
INST_CMPRS_QUALITY = 0
INST_CMPRS_QUANTZ_TBL_ID = 0
INSTRUMENT_TEMPERATURE = 11.234
LENS_TEMPERATURE = 8.7872
MACROPIXEL_SIZE = 2
MISSING_FRAMES = 0
PIXEL_SUBSAMPLING_FLAG = N
SIGNAL_CHAIN_ID = 3
/* RADIOMETRIC DATA ELEMENTS */
BANDWIDTH = 174.0
CENTER_FILTER_WAVELENGTH = 675.0
RADIANCE_OFFSET = 2.54705
RADIANCE_SCALING_FACTOR = 0.0167987
REFLECTANCE_SCALING_FACTOR = 0.000550006
MEX:REFLECTANCE_OFFSET = 0.0833928
/* IMAGE OBJECT DEFINITIONS */
OBJECT = IMAGE
  INTERCHANGE_FORMAT = BINARY
  LINES = 28659
  LINE_SAMPLES = 4279
  SAMPLE_TYPE = UNSIGNED_INTEGER
  SAMPLE_BITS = 8
  BANDS = 1
  BAND_STORAGE_TYPE = BAND_SEQUENTIAL
  MAXIMUM = 255
  MEAN = 63.0934
  MINIMUM = 1
  STANDARD_DEVIATION = 36.8919
END_OBJECT = IMAGE
/* MAP OBJECT DEFINITIONS */
OBJECT = IMAGE_MAP_PROJECTION
  ^DATA_SET_MAP_PROJECTION_CATALOG= "DSMAP.CAT"
  A_AXIS_RADIUS = 3396.0
  B_AXIS_RADIUS = 3396.0
  C_AXIS_RADIUS = 3396.0
  CENTER_LATITUDE = 0.0
  CENTER_LONGITUDE = 328.0
  COORDINATE_SYSTEM_NAME = PLANETOGRAPHIC
  COORDINATE_SYSTEM_TYPE = "BODY-FIXED ROTATING"
  EASTERNMOST_LONGITUDE = 329.586
  FIRST_STANDARD_PARALLEL = "N/A"
  LINE_FIRST_PIXEL = 1
  LINE_LAST_PIXEL = 28659
  LINE_PROJECTION_OFFSET = 123990.25
  MAP_PROJECTION_ROTATION = 0.0
  MAP_PROJECTION_TYPE = SINUSOIDAL
  MAP_RESOLUTION = 2370.85521546667
  MAP_SCALE = 0.025
  MAXIMUM_LATITUDE = 52.3339
  MINIMUM_LATITUDE = 40.1957
  POSITIVE_LONGITUDE_DIRECTION = EAST
  REFERENCE_LATITUDE = "N/A"
  REFERENCE_LONGITUDE = "N/A"
  SAMPLE_FIRST_PIXEL = 1
  SAMPLE_LAST_PIXEL = 4279
  SAMPLE_PROJECTION_OFFSET = 1362.75
  SECOND_STANDARD_PARALLEL = "N/A"
  WESTERNMOST_LONGITUDE = 327.056
END_OBJECT = IMAGE_MAP_PROJECTION
/* The JPEG2000 image data file associated with this label. */
OBJECT = COMPRESSED_FILE
  FILE_NAME = "H5397_0000_P13.JP2"
  RECORD_TYPE = UNDEFINED
  FILE_RECORDS = UNK
  ENCODING_TYPE = "JP2"
  INTERCHANGE_FORMAT = BINARY
  UNCOMPRESSED_FILE_NAME = "H5397_0000_P13.IMG"
  REQUIRED_STORAGE_BYTES = "122657535"
  ^DESCRIPTION = "JP2INFO.TXT"
END_OBJECT = COMPRESSED_FILE
END
