PDS_VERSION_ID = PDS3
/* FILE DATA ELEMENTS */
RECORD_TYPE = STREAM
/* POINTERS TO DATA OBJECTS */
^COMPRESSED_FILE = "H5398_0000_GR3.JP2"
/* IDENTIFICATION DATA ELEMENTS */
DATA_SET_ID = "MEX-M-HRSC-5-REFDR-MAPPROJECTED-V3.0"
DATA_SET_NAME = "MARS EXPRESS HRSC MAP PROJECTED REFDR V3.0"
DETECTOR_ID = MEX_HRSC_GREEN
EVENT_TYPE = "MARS-REGIONAL-MAPPING-Te-Im-Pf"
INSTRUMENT_HOST_ID = MEX
INSTRUMENT_HOST_NAME = "MARS EXPRESS"
INSTRUMENT_ID = HRSC
INSTRUMENT_NAME = "HIGH RESOLUTION STEREO CAMERA"
MISSION_NAME = "MARS EXPRESS"
MISSION_PHASE_NAME = ME_Phase_11
PROCESSING_LEVEL_ID = 3
PRODUCT_CREATION_TIME = 2016-05-14T01:01:03.000Z
PRODUCT_ID = "H5398_0000_GR3.JP2"
RELEASE_ID = 0061
REVISION_ID = 0000
/* QUALITY DATA ELEMENTS */
DATA_QUALITY_ID = 1
DATA_QUALITY_DESC = "Data calculated based on original SPICE kernels"
/* TIME DATA ELEMENTS */
SPACECRAFT_CLOCK_START_COUNT = "1/0153705065.07296"
SPACECRAFT_CLOCK_STOP_COUNT = "1/0153705361.31079"
START_TIME = 2008-03-15T23:51:42.774Z
STOP_TIME = 2008-03-15T23:55:26.851Z
/* ORBITAL DATA ELEMENTS */
ASCENDING_NODE_LONGITUDE = 115.93
MAXIMUM_RESOLUTION = 55.9
FOOTPRINT_POINT_LATITUDE = (68.2992,68.2474,68.1887,68.1109, 67.8021,67.3462,67.0441,66.7415,66.4386 ,66.135,65.8309,65.5264,65.2214,64.9158 ,64.6098,64.3034,63.9966,63.6893, 63.3816,63.0736,62.765,62.4561,62.1468, 61.8371,61.5271,61.2167,60.9225,60.4011 ,59.8789,59.6107,59.0871,58.8249, 58.5626,58.3001,58.0375,57.7746,57.5116 ,57.2484,56.985,56.7214,56.4577,56.1939 ,55.9299,55.6658,55.4015,55.1371, 54.8726,54.608,54.3432,54.0784,53.9475, 53.9828,54.1299,54.3958,54.7947,55.0605 ,55.3262,55.5917,55.8572,56.1226, 56.3878,56.6529,56.9179,57.1827,57.4475 ,57.7121,57.9765,58.2408,58.505,58.769, 59.0328,59.2965,59.56,59.8233,60.4876, 61.0128,61.3051,61.6179,61.9304,62.2426 ,62.5545,62.8661,63.1773,63.4883, 63.7989,64.1091,64.4191,64.7286,65.0378 ,65.3467,65.6551,65.9632,66.2709, 66.5782,66.8851,67.1916,67.4976,67.8033 ,68.1161,68.2992)
FOOTPRINT_POINT_LONGITUDE = (226.506,225.299,224.133,223.142, 223.285,223.489,223.618,223.744,223.866 ,223.985,224.1,224.212,224.321,224.427, 224.53,224.63,224.728,224.823,224.915, 225.005,225.092,225.178,225.26,225.341, 225.42,225.496,225.567,225.688,225.803, 225.861,225.969,226.021,226.073,226.123 ,226.172,226.22,226.267,226.313,226.358 ,226.402,226.445,226.487,226.529, 226.569,226.609,226.647,226.685,226.722 ,226.759,226.794,227.392,228.414, 228.874,228.855,228.825,228.805,228.784 ,228.764,228.742,228.72,228.698,228.676 ,228.653,228.63,228.606,228.581,228.557 ,228.531,228.506,228.479,228.453, 228.426,228.398,228.369,228.296,228.234 ,228.199,228.161,228.121,228.081, 228.039,227.996,227.953,227.908,227.862 ,227.815,227.767,227.717,227.667, 227.614,227.561,227.506,227.449,227.391 ,227.331,227.27,227.207,227.142,227.073 ,226.506)
ORBIT_NUMBER = 5398
ORBITAL_ECCENTRICITY = 0.57
ORBITAL_INCLINATION = 86.75
ORBITAL_SEMIMAJOR_AXIS = 8671.12
PERIAPSIS_ALTITUDE = 345.04
PERIAPSIS_ARGUMENT_ANGLE = 128.63
PERIAPSIS_TIME = 2008-03-15T23:56:13.000Z
SPACECRAFT_ORIENTATION = (0.0,-1.0,0.0)
^MEX_ORIENTATION_DESC = "MEX_ORIENTATION_DESC.TXT"
SPACECRAFT_POINTING_MODE = NADIR
^MEX_POINTING_DESC = "MEX_POINTING_DESC.TXT"
RIGHT_ASCENSION = -1e+32
DECLINATION = -1e+32
OFFSET_ANGLE = -1e+32
SPACECRAFT_SOLAR_DISTANCE = 2.46743e+08
TARGET_NAME = MARS
/* CAMERA DATA ELEMENTS */
DETECTOR_TEMPERATURE = 18.7783
FOCAL_PLANE_TEMPERATURE = 8.3794
INST_CMPRS_NAME = "DISCRETE COSINE TRANSFORMATION (DCT)"
INST_CMPRS_RATIO = 24.4371
INST_CMPRS_QUALITY = 0
INST_CMPRS_QUANTZ_TBL_ID = 0
INSTRUMENT_TEMPERATURE = 9.6028
LENS_TEMPERATURE = 8.5833
MACROPIXEL_SIZE = 4
MISSING_FRAMES = 1
PIXEL_SUBSAMPLING_FLAG = N
SIGNAL_CHAIN_ID = 2
/* RADIOMETRIC DATA ELEMENTS */
BANDWIDTH = 88.0
CENTER_FILTER_WAVELENGTH = 538.0
RADIANCE_OFFSET = 1.32512
RADIANCE_SCALING_FACTOR = 0.00423929
REFLECTANCE_SCALING_FACTOR = 0.000222215
MEX:REFLECTANCE_OFFSET = 0.06946
/* IMAGE OBJECT DEFINITIONS */
OBJECT = IMAGE
  INTERCHANGE_FORMAT = BINARY
  LINES = 17046
  LINE_SAMPLES = 3018
  SAMPLE_TYPE = UNSIGNED_INTEGER
  SAMPLE_BITS = 8
  BANDS = 1
  BAND_STORAGE_TYPE = BAND_SEQUENTIAL
  MAXIMUM = 255
  MEAN = 82.2778
  MINIMUM = 1
  STANDARD_DEVIATION = 35.1655
END_OBJECT = IMAGE
/* MAP OBJECT DEFINITIONS */
OBJECT = IMAGE_MAP_PROJECTION
  ^DATA_SET_MAP_PROJECTION_CATALOG= "DSMAP.CAT"
  A_AXIS_RADIUS = 3396.0
  B_AXIS_RADIUS = 3396.0
  C_AXIS_RADIUS = 3396.0
  CENTER_LATITUDE = 0.0
  CENTER_LONGITUDE = 227.0
  COORDINATE_SYSTEM_NAME = PLANETOGRAPHIC
  COORDINATE_SYSTEM_TYPE = "BODY-FIXED ROTATING"
  EASTERNMOST_LONGITUDE = 228.874
  FIRST_STANDARD_PARALLEL = "N/A"
  LINE_FIRST_PIXEL = 1
  LINE_LAST_PIXEL = 17046
  LINE_PROJECTION_OFFSET = 80970.625
  MAP_PROJECTION_ROTATION = 0.0
  MAP_PROJECTION_TYPE = SINUSOIDAL
  MAP_RESOLUTION = 1185.42760773333
  MAP_SCALE = 0.05
  MAXIMUM_LATITUDE = 68.2992
  MINIMUM_LATITUDE = 53.9475
  POSITIVE_LONGITUDE_DIRECTION = EAST
  REFERENCE_LATITUDE = "N/A"
  REFERENCE_LONGITUDE = "N/A"
  SAMPLE_FIRST_PIXEL = 1
  SAMPLE_LAST_PIXEL = 3018
  SAMPLE_PROJECTION_OFFSET = 1691.375
  SECOND_STANDARD_PARALLEL = "N/A"
  WESTERNMOST_LONGITUDE = 223.142
END_OBJECT = IMAGE_MAP_PROJECTION
/* The JPEG2000 image data file associated with this label. */
OBJECT = COMPRESSED_FILE
  FILE_NAME = "H5398_0000_GR3.JP2"
  RECORD_TYPE = UNDEFINED
  FILE_RECORDS = UNK
  ENCODING_TYPE = "JP2"
  INTERCHANGE_FORMAT = BINARY
  UNCOMPRESSED_FILE_NAME = "H5398_0000_GR3.IMG"
  REQUIRED_STORAGE_BYTES = "51468972"
  ^DESCRIPTION = "JP2INFO.TXT"
END_OBJECT = COMPRESSED_FILE
END
