PDS_VERSION_ID = PDS3
/* FILE DATA ELEMENTS */
RECORD_TYPE = STREAM
/* POINTERS TO DATA OBJECTS */
^COMPRESSED_FILE = "H5398_0000_S23.JP2"
/* IDENTIFICATION DATA ELEMENTS */
DATA_SET_ID = "MEX-M-HRSC-5-REFDR-MAPPROJECTED-V3.0"
DATA_SET_NAME = "MARS EXPRESS HRSC MAP PROJECTED REFDR V3.0"
DETECTOR_ID = MEX_HRSC_S2
EVENT_TYPE = "MARS-REGIONAL-MAPPING-Te-Im-Pf"
INSTRUMENT_HOST_ID = MEX
INSTRUMENT_HOST_NAME = "MARS EXPRESS"
INSTRUMENT_ID = HRSC
INSTRUMENT_NAME = "HIGH RESOLUTION STEREO CAMERA"
MISSION_NAME = "MARS EXPRESS"
MISSION_PHASE_NAME = ME_Phase_11
PROCESSING_LEVEL_ID = 3
PRODUCT_CREATION_TIME = 2016-05-14T01:01:03.000Z
PRODUCT_ID = "H5398_0000_S23.JP2"
RELEASE_ID = 0061
REVISION_ID = 0000
/* QUALITY DATA ELEMENTS */
DATA_QUALITY_ID = 1
DATA_QUALITY_DESC = "Data calculated based on original SPICE kernels"
/* TIME DATA ELEMENTS */
SPACECRAFT_CLOCK_START_COUNT = "1/0153705065.07296"
SPACECRAFT_CLOCK_STOP_COUNT = "1/0153705361.31079"
START_TIME = 2008-03-15T23:52:26.044Z
STOP_TIME = 2008-03-15T23:56:03.210Z
/* ORBITAL DATA ELEMENTS */
ASCENDING_NODE_LONGITUDE = 115.93
MAXIMUM_RESOLUTION = 29.7
FOOTPRINT_POINT_LATITUDE = (68.177,68.146,68.1225,68.0779,68.0503, 68.0136,67.8185,67.499,67.1798,66.8602, 66.5398,66.0598,65.7398,65.419,64.9379, 64.6175,64.296,63.9749,63.6536,63.3672, 63.098,62.6941,62.2897,62.0203,61.751, 61.4816,61.0771,60.6728,60.4033,59.9989 ,59.7293,59.4598,59.0556,58.7863, 58.3823,58.113,57.8439,57.4401,57.0366, 56.7679,56.4991,56.0961,55.8276,55.5591 ,55.2908,54.8883,54.6203,54.3523, 54.0844,53.9545,53.9681,53.9872,53.9961 ,54.0093,54.4177,54.6867,54.956,55.2253 ,55.6297,55.8995,56.3045,56.5747, 56.9799,57.2501,57.5204,57.9263,58.1969 ,58.6031,58.874,59.2805,59.5515,59.9582 ,60.2295,60.6365,61.0436,61.3148, 61.7218,62.1293,62.4008,62.808,63.0796, 63.351,63.6224,63.9368,64.0989,64.4229, 64.585,64.7472,64.9092,65.2329,65.395, 65.719,66.0429,66.3665,66.8517,67.0138, 67.3371,67.6613,67.9842,68.177)
FOOTPRINT_POINT_LONGITUDE = (226.895,226.103,225.553,224.593, 224.046,223.363,223.339,223.48,223.616, 223.748,223.876,224.06,224.178,224.292, 224.458,224.563,224.667,224.767,224.864 ,224.948,225.025,225.137,225.245, 225.315,225.383,225.449,225.546,225.64, 225.701,225.789,225.846,225.902,225.983 ,226.036,226.113,226.162,226.211, 226.282,226.35,226.394,226.437,226.5, 226.541,226.581,226.62,226.677,226.714, 226.75,226.785,227.025,227.408,227.973, 228.276,228.74,228.859,228.838,228.817, 228.795,228.762,228.74,228.705,228.682, 228.645,228.62,228.595,228.556,228.529, 228.488,228.46,228.417,228.388,228.342, 228.311,228.263,228.214,228.18,228.127, 228.074,228.036,227.979,227.94,227.9, 227.859,227.81,227.785,227.732,227.706, 227.679,227.651,227.595,227.566,227.507 ,227.447,227.385,227.287,227.254, 227.186,227.116,227.043,226.895)
ORBIT_NUMBER = 5398
ORBITAL_ECCENTRICITY = 0.57
ORBITAL_INCLINATION = 86.75
ORBITAL_SEMIMAJOR_AXIS = 8671.12
PERIAPSIS_ALTITUDE = 345.04
PERIAPSIS_ARGUMENT_ANGLE = 128.63
PERIAPSIS_TIME = 2008-03-15T23:56:13.000Z
SPACECRAFT_ORIENTATION = (0.0,-1.0,0.0)
^MEX_ORIENTATION_DESC = "MEX_ORIENTATION_DESC.TXT"
SPACECRAFT_POINTING_MODE = NADIR
^MEX_POINTING_DESC = "MEX_POINTING_DESC.TXT"
RIGHT_ASCENSION = -1e+32
DECLINATION = -1e+32
OFFSET_ANGLE = -1e+32
SPACECRAFT_SOLAR_DISTANCE = 2.46743e+08
TARGET_NAME = MARS
/* CAMERA DATA ELEMENTS */
DETECTOR_TEMPERATURE = 18.3705
FOCAL_PLANE_TEMPERATURE = 8.3794
INST_CMPRS_NAME = "DISCRETE COSINE TRANSFORMATION (DCT)"
INST_CMPRS_RATIO = 14.2634
INST_CMPRS_QUALITY = 0
INST_CMPRS_QUANTZ_TBL_ID = 0
INSTRUMENT_TEMPERATURE = 9.6028
LENS_TEMPERATURE = 8.5833
MACROPIXEL_SIZE = 2
MISSING_FRAMES = 0
PIXEL_SUBSAMPLING_FLAG = N
SIGNAL_CHAIN_ID = 1
/* RADIOMETRIC DATA ELEMENTS */
BANDWIDTH = 178.0
CENTER_FILTER_WAVELENGTH = 679.0
RADIANCE_OFFSET = 4.78012
RADIANCE_SCALING_FACTOR = 0.0140027
REFLECTANCE_SCALING_FACTOR = 0.000451472
MEX:REFLECTANCE_OFFSET = 0.154119
/* IMAGE OBJECT DEFINITIONS */
OBJECT = IMAGE
  INTERCHANGE_FORMAT = BINARY
  LINES = 34091
  LINE_SAMPLES = 6036
  SAMPLE_TYPE = UNSIGNED_INTEGER
  SAMPLE_BITS = 8
  BANDS = 1
  BAND_STORAGE_TYPE = BAND_SEQUENTIAL
  MAXIMUM = 255
  MEAN = 99.1132
  MINIMUM = 1
  STANDARD_DEVIATION = 55.6554
END_OBJECT = IMAGE
/* MAP OBJECT DEFINITIONS */
OBJECT = IMAGE_MAP_PROJECTION
  ^DATA_SET_MAP_PROJECTION_CATALOG= "DSMAP.CAT"
  A_AXIS_RADIUS = 3396.0
  B_AXIS_RADIUS = 3396.0
  C_AXIS_RADIUS = 3396.0
  CENTER_LATITUDE = 0.0
  CENTER_LONGITUDE = 227.0
  COORDINATE_SYSTEM_NAME = PLANETOGRAPHIC
  COORDINATE_SYSTEM_TYPE = "BODY-FIXED ROTATING"
  EASTERNMOST_LONGITUDE = 228.859
  FIRST_STANDARD_PARALLEL = "N/A"
  LINE_FIRST_PIXEL = 1
  LINE_LAST_PIXEL = 34091
  LINE_PROJECTION_OFFSET = 161941.75
  MAP_PROJECTION_ROTATION = 0.0
  MAP_PROJECTION_TYPE = SINUSOIDAL
  MAP_RESOLUTION = 2370.85521546667
  MAP_SCALE = 0.025
  MAXIMUM_LATITUDE = 68.17700000000001
  MINIMUM_LATITUDE = 53.9545
  POSITIVE_LONGITUDE_DIRECTION = EAST
  REFERENCE_LATITUDE = "N/A"
  REFERENCE_LONGITUDE = "N/A"
  SAMPLE_FIRST_PIXEL = 1
  SAMPLE_LAST_PIXEL = 6036
  SAMPLE_PROJECTION_OFFSET = 3383.25
  SECOND_STANDARD_PARALLEL = "N/A"
  WESTERNMOST_LONGITUDE = 223.339
END_OBJECT = IMAGE_MAP_PROJECTION
/* The JPEG2000 image data file associated with this label. */
OBJECT = COMPRESSED_FILE
  FILE_NAME = "H5398_0000_S23.JP2"
  RECORD_TYPE = UNDEFINED
  FILE_RECORDS = UNK
  ENCODING_TYPE = "JP2"
  INTERCHANGE_FORMAT = BINARY
  UNCOMPRESSED_FILE_NAME = "H5398_0000_S23.IMG"
  REQUIRED_STORAGE_BYTES = "205803456"
  ^DESCRIPTION = "JP2INFO.TXT"
END_OBJECT = COMPRESSED_FILE
END
