PDS_VERSION_ID = PDS3
/* FILE DATA ELEMENTS */
RECORD_TYPE = STREAM
/* POINTERS TO DATA OBJECTS */
^COMPRESSED_FILE = "H5399_0000_GR3.JP2"
/* IDENTIFICATION DATA ELEMENTS */
DATA_SET_ID = "MEX-M-HRSC-5-REFDR-MAPPROJECTED-V3.0"
DATA_SET_NAME = "MARS EXPRESS HRSC MAP PROJECTED REFDR V3.0"
DETECTOR_ID = MEX_HRSC_GREEN
EVENT_TYPE = "MARS-REGIONAL-STEREO-Te-Im-Pf"
INSTRUMENT_HOST_ID = MEX
INSTRUMENT_HOST_NAME = "MARS EXPRESS"
INSTRUMENT_ID = HRSC
INSTRUMENT_NAME = "HIGH RESOLUTION STEREO CAMERA"
MISSION_NAME = "MARS EXPRESS"
MISSION_PHASE_NAME = ME_Phase_11
PROCESSING_LEVEL_ID = 3
PRODUCT_CREATION_TIME = 2016-05-14T01:01:03.000Z
PRODUCT_ID = "H5399_0000_GR3.JP2"
RELEASE_ID = 0061
REVISION_ID = 0000
/* QUALITY DATA ELEMENTS */
DATA_QUALITY_ID = 1
DATA_QUALITY_DESC = "Data calculated based on original SPICE kernels"
/* TIME DATA ELEMENTS */
SPACECRAFT_CLOCK_START_COUNT = "1/0153729824.08266"
SPACECRAFT_CLOCK_STOP_COUNT = "1/0153730107.31901"
START_TIME = 2008-03-16T06:44:16.681Z
STOP_TIME = 2008-03-16T06:47:52.103Z
/* ORBITAL DATA ELEMENTS */
ASCENDING_NODE_LONGITUDE = 115.91
MAXIMUM_RESOLUTION = 111.8
FOOTPRINT_POINT_LATITUDE = (60.8811,60.8455,60.7842,60.2395, 59.6939,59.4208,59.1474,58.8738,58.6, 58.3259,58.0516,57.7772,57.5026,57.2278 ,56.9528,56.6776,56.4023,56.1268, 55.8511,55.5753,55.2993,55.0232,54.747, 54.4706,54.1941,53.9175,53.6408,53.364, 53.0871,52.8099,52.3941,52.1168,51.8394 ,51.562,51.2845,51.007,50.7294,50.4517, 50.174,49.7574,49.3407,49.0629,48.785, 48.5071,48.2292,47.9514,47.6735,47.3956 ,46.9152,46.9374,46.9535,47.1041, 47.3828,47.6615,47.9402,48.219,48.4977, 48.7764,49.0552,49.334,49.7522,50.1702, 50.5883,50.8669,51.1455,51.4241,51.7026 ,51.9811,52.2595,52.5379,52.8162, 53.0944,53.3725,53.6506,53.9286,54.3454 ,54.6233,54.901,55.1785,55.4558,55.8718 ,56.1489,56.4259,56.7028,56.9795, 57.2561,57.5326,57.8089,58.0851,58.3611 ,58.6369,58.9125,59.188,59.4632,59.7384 ,60.0133,60.288,60.5625,60.8368, 60.8811)
FOOTPRINT_POINT_LONGITUDE = (126.594,125.843,125.06,125.192,125.318 ,125.379,125.439,125.497,125.554,125.61 ,125.664,125.718,125.77,125.821,125.871 ,125.92,125.968,126.015,126.061,126.105 ,126.149,126.192,126.234,126.275, 126.315,126.355,126.393,126.431,126.468 ,126.503,126.555,126.589,126.622, 126.655,126.687,126.718,126.748,126.778 ,126.807,126.849,126.89,126.917,126.943 ,126.968,126.993,127.017,127.041, 127.064,127.319,127.958,128.51,128.88, 128.865,128.85,128.835,128.819,128.803, 128.787,128.771,128.754,128.728,128.702 ,128.674,128.656,128.637,128.618, 128.599,128.579,128.559,128.538,128.518 ,128.497,128.475,128.453,128.431, 128.396,128.372,128.349,128.324,128.3, 128.262,128.236,128.21,128.183,128.155, 128.127,128.099,128.07,128.04,128.01, 127.979,127.947,127.915,127.883,127.849 ,127.815,127.78,127.745,127.709, 126.594)
ORBIT_NUMBER = 5399
ORBITAL_ECCENTRICITY = 0.57
ORBITAL_INCLINATION = 86.74
ORBITAL_SEMIMAJOR_AXIS = 8673.56
PERIAPSIS_ALTITUDE = 345.94
PERIAPSIS_ARGUMENT_ANGLE = 128.48
PERIAPSIS_TIME = 2008-03-16T06:46:48.000Z
SPACECRAFT_ORIENTATION = (0.0,-1.0,0.0)
^MEX_ORIENTATION_DESC = "MEX_ORIENTATION_DESC.TXT"
SPACECRAFT_POINTING_MODE = ACROSSTRACK
^MEX_POINTING_DESC = "MEX_POINTING_DESC.TXT"
RIGHT_ASCENSION = -1e+32
DECLINATION = -1e+32
OFFSET_ANGLE = -0.2
SPACECRAFT_SOLAR_DISTANCE = 2.46767e+08
TARGET_NAME = MARS
/* CAMERA DATA ELEMENTS */
DETECTOR_TEMPERATURE = 17.7588
FOCAL_PLANE_TEMPERATURE = 7.7677
INST_CMPRS_NAME = "DISCRETE COSINE TRANSFORMATION (DCT)"
INST_CMPRS_RATIO = 33.8143
INST_CMPRS_QUALITY = 0
INST_CMPRS_QUANTZ_TBL_ID = 0
INSTRUMENT_TEMPERATURE = 11.0301
LENS_TEMPERATURE = 8.5833
MACROPIXEL_SIZE = 8
MISSING_FRAMES = 0
PIXEL_SUBSAMPLING_FLAG = N
SIGNAL_CHAIN_ID = 2
/* RADIOMETRIC DATA ELEMENTS */
BANDWIDTH = 88.0
CENTER_FILTER_WAVELENGTH = 538.0
RADIANCE_OFFSET = 1.37983
RADIANCE_SCALING_FACTOR = 0.00327945
REFLECTANCE_SCALING_FACTOR = 0.000171936
MEX:REFLECTANCE_OFFSET = 0.0723419
/* IMAGE OBJECT DEFINITIONS */
OBJECT = IMAGE
  INTERCHANGE_FORMAT = BINARY
  LINES = 8293
  LINE_SAMPLES = 1328
  SAMPLE_TYPE = UNSIGNED_INTEGER
  SAMPLE_BITS = 8
  BANDS = 1
  BAND_STORAGE_TYPE = BAND_SEQUENTIAL
  MAXIMUM = 255
  MEAN = 115.767
  MINIMUM = 1
  STANDARD_DEVIATION = 54.455
END_OBJECT = IMAGE
/* MAP OBJECT DEFINITIONS */
OBJECT = IMAGE_MAP_PROJECTION
  ^DATA_SET_MAP_PROJECTION_CATALOG= "DSMAP.CAT"
  A_AXIS_RADIUS = 3396.0
  B_AXIS_RADIUS = 3396.0
  C_AXIS_RADIUS = 3396.0
  CENTER_LATITUDE = 0.0
  CENTER_LONGITUDE = 127.0
  COORDINATE_SYSTEM_NAME = PLANETOGRAPHIC
  COORDINATE_SYSTEM_TYPE = "BODY-FIXED ROTATING"
  EASTERNMOST_LONGITUDE = 128.88
  FIRST_STANDARD_PARALLEL = "N/A"
  LINE_FIRST_PIXEL = 1
  LINE_LAST_PIXEL = 8293
  LINE_PROJECTION_OFFSET = 36098.8125
  MAP_PROJECTION_ROTATION = 0.0
  MAP_PROJECTION_TYPE = SINUSOIDAL
  MAP_RESOLUTION = 592.713803866667
  MAP_SCALE = 0.1
  MAXIMUM_LATITUDE = 60.8811
  MINIMUM_LATITUDE = 46.9152
  POSITIVE_LONGITUDE_DIRECTION = EAST
  REFERENCE_LATITUDE = "N/A"
  REFERENCE_LONGITUDE = "N/A"
  SAMPLE_FIRST_PIXEL = 1
  SAMPLE_LAST_PIXEL = 1328
  SAMPLE_PROJECTION_OFFSET = 558.1875
  SECOND_STANDARD_PARALLEL = "N/A"
  WESTERNMOST_LONGITUDE = 125.06
END_OBJECT = IMAGE_MAP_PROJECTION
/* The JPEG2000 image data file associated with this label. */
OBJECT = COMPRESSED_FILE
  FILE_NAME = "H5399_0000_GR3.JP2"
  RECORD_TYPE = UNDEFINED
  FILE_RECORDS = UNK
  ENCODING_TYPE = "JP2"
  INTERCHANGE_FORMAT = BINARY
  UNCOMPRESSED_FILE_NAME = "H5399_0000_GR3.IMG"
  REQUIRED_STORAGE_BYTES = "11031696"
  ^DESCRIPTION = "JP2INFO.TXT"
END_OBJECT = COMPRESSED_FILE
END
