PDS_VERSION_ID = PDS3
/* FILE DATA ELEMENTS */
RECORD_TYPE = STREAM
/* POINTERS TO DATA OBJECTS */
^COMPRESSED_FILE = "H5401_0000_S23.JP2"
/* IDENTIFICATION DATA ELEMENTS */
DATA_SET_ID = "MEX-M-HRSC-5-REFDR-MAPPROJECTED-V3.0"
DATA_SET_NAME = "MARS EXPRESS HRSC MAP PROJECTED REFDR V3.0"
DETECTOR_ID = MEX_HRSC_S2
EVENT_TYPE = "MARS-REGIONAL-MAPPING-Te-Gl-Pf"
INSTRUMENT_HOST_ID = MEX
INSTRUMENT_HOST_NAME = "MARS EXPRESS"
INSTRUMENT_ID = HRSC
INSTRUMENT_NAME = "HIGH RESOLUTION STEREO CAMERA"
MISSION_NAME = "MARS EXPRESS"
MISSION_PHASE_NAME = ME_Phase_11
PROCESSING_LEVEL_ID = 3
PRODUCT_CREATION_TIME = 2016-05-14T17:13:02.000Z
PRODUCT_ID = "H5401_0000_S23.JP2"
RELEASE_ID = 0062
REVISION_ID = 0000
/* QUALITY DATA ELEMENTS */
DATA_QUALITY_ID = 2
DATA_QUALITY_DESC = "Data calculated based on photogrammetrically improved orbit and attitude data"
/* TIME DATA ELEMENTS */
SPACECRAFT_CLOCK_START_COUNT = "1/0153779179.08420"
SPACECRAFT_CLOCK_STOP_COUNT = "1/0153779377.09117"
START_TIME = 2008-03-16T20:27:26.395Z
STOP_TIME = 2008-03-16T20:29:38.874Z
/* ORBITAL DATA ELEMENTS */
ASCENDING_NODE_LONGITUDE = 115.87
MAXIMUM_RESOLUTION = 29.8
FOOTPRINT_POINT_LATITUDE = (55.4776,55.4702,55.4621,55.4533,55.444 ,55.4341,55.4185,55.088,54.916,54.6579, 54.4862,54.3143,54.1426,53.9709,53.7993 ,53.542,53.3704,53.1135,52.9422,52.7707 ,52.5996,52.4284,52.2575,52.0866, 51.8308,51.5741,51.4034,51.233,51.0625, 50.8921,50.7218,50.5516,50.3815,50.2116 ,50.0416,49.8685,49.6158,49.4448,49.277 ,49.1077,48.9366,48.6789,48.5069,48.337 ,48.1709,47.9974,47.6613,47.4888, 47.3192,47.1491,46.9802,46.9729,46.9823 ,46.9879,46.9958,47.0845,47.2534, 47.5069,47.7707,47.9419,48.2764,48.4484 ,48.6988,48.9605,49.1268,49.2976, 49.4711,49.6406,49.815,50.0706,50.2415, 50.4121,50.5819,50.7534,50.9246,51.0955 ,51.2667,51.4378,51.6091,51.866,52.0375 ,52.209,52.3807,52.5525,52.7244,52.8965 ,53.0683,53.2403,53.4124,53.5846, 53.7568,53.929,54.1014,54.2738,54.4463, 54.6189,54.7915,55.0506,55.2233, 55.4776)
FOOTPRINT_POINT_LONGITUDE = (288.035,287.716,287.396,287.075, 286.753,286.431,285.964,285.932,285.958 ,285.997,286.023,286.048,286.073, 286.097,286.121,286.156,286.179,286.213 ,286.236,286.258,286.279,286.301, 286.322,286.342,286.373,286.403,286.423 ,286.442,286.461,286.48,286.498,286.516 ,286.534,286.552,286.569,286.589, 286.612,286.63,286.645,286.661,286.678, 286.704,286.721,286.737,286.75,286.768, 286.795,286.812,286.826,286.841,286.855 ,287.125,287.534,287.908,288.42,288.686 ,288.677,288.662,288.649,288.639, 288.618,288.608,288.591,288.577,288.565 ,288.554,288.544,288.532,288.522, 288.505,288.493,288.481,288.469,288.457 ,288.445,288.433,288.42,288.408,288.395 ,288.376,288.362,288.349,288.336, 288.322,288.309,288.295,288.281,288.266 ,288.252,288.238,288.223,288.208, 288.193,288.178,288.162,288.147,288.131 ,288.107,288.091,288.035)
ORBIT_NUMBER = 5401
ORBITAL_ECCENTRICITY = 0.57
ORBITAL_INCLINATION = 86.74
ORBITAL_SEMIMAJOR_AXIS = 8670.64
PERIAPSIS_ALTITUDE = 345.99
PERIAPSIS_ARGUMENT_ANGLE = 128.14
PERIAPSIS_TIME = 2008-03-16T20:27:53.000Z
SPACECRAFT_ORIENTATION = (0.0,-1.0,0.0)
^MEX_ORIENTATION_DESC = "MEX_ORIENTATION_DESC.TXT"
SPACECRAFT_POINTING_MODE = ACROSSTRACK
^MEX_POINTING_DESC = "MEX_POINTING_DESC.TXT"
RIGHT_ASCENSION = -1e+32
DECLINATION = -1e+32
OFFSET_ANGLE = -0.25
SPACECRAFT_SOLAR_DISTANCE = 2.46815e+08
TARGET_NAME = MARS
/* CAMERA DATA ELEMENTS */
DETECTOR_TEMPERATURE = 18.5744
FOCAL_PLANE_TEMPERATURE = 8.3794
INST_CMPRS_NAME = "DISCRETE COSINE TRANSFORMATION (DCT)"
INST_CMPRS_RATIO = 12.8432
INST_CMPRS_QUALITY = 0
INST_CMPRS_QUANTZ_TBL_ID = 0
INSTRUMENT_TEMPERATURE = 11.0301
LENS_TEMPERATURE = 8.5833
MACROPIXEL_SIZE = 2
MISSING_FRAMES = 0
PIXEL_SUBSAMPLING_FLAG = N
SIGNAL_CHAIN_ID = 1
/* RADIOMETRIC DATA ELEMENTS */
BANDWIDTH = 178.0
CENTER_FILTER_WAVELENGTH = 679.0
RADIANCE_OFFSET = 3.43686
RADIANCE_SCALING_FACTOR = 0.0234515
REFLECTANCE_SCALING_FACTOR = 0.000756559
MEX:REFLECTANCE_OFFSET = 0.110875
/* IMAGE OBJECT DEFINITIONS */
OBJECT = IMAGE
  INTERCHANGE_FORMAT = BINARY
  LINES = 20459
  LINE_SAMPLES = 4273
  SAMPLE_TYPE = UNSIGNED_INTEGER
  SAMPLE_BITS = 8
  BANDS = 1
  BAND_STORAGE_TYPE = BAND_SEQUENTIAL
  MAXIMUM = 255
  MEAN = 154.332
  MINIMUM = 1
  STANDARD_DEVIATION = 33.4236
END_OBJECT = IMAGE
/* MAP OBJECT DEFINITIONS */
OBJECT = IMAGE_MAP_PROJECTION
  ^DATA_SET_MAP_PROJECTION_CATALOG= "DSMAP.CAT"
  A_AXIS_RADIUS = 3396.0
  B_AXIS_RADIUS = 3396.0
  C_AXIS_RADIUS = 3396.0
  CENTER_LATITUDE = 0.0
  CENTER_LONGITUDE = 287.0
  COORDINATE_SYSTEM_NAME = PLANETOGRAPHIC
  COORDINATE_SYSTEM_TYPE = "BODY-FIXED ROTATING"
  EASTERNMOST_LONGITUDE = 288.686
  FIRST_STANDARD_PARALLEL = "N/A"
  LINE_FIRST_PIXEL = 1
  LINE_LAST_PIXEL = 20459
  LINE_PROJECTION_OFFSET = 131778.25
  MAP_PROJECTION_ROTATION = 0.0
  MAP_PROJECTION_TYPE = SINUSOIDAL
  MAP_RESOLUTION = 2370.85521546667
  MAP_SCALE = 0.025
  MAXIMUM_LATITUDE = 55.4776
  MINIMUM_LATITUDE = 46.9729
  POSITIVE_LONGITUDE_DIRECTION = EAST
  REFERENCE_LATITUDE = "N/A"
  REFERENCE_LONGITUDE = "N/A"
  SAMPLE_FIRST_PIXEL = 1
  SAMPLE_LAST_PIXEL = 4273
  SAMPLE_PROJECTION_OFFSET = 1553.75
  SECOND_STANDARD_PARALLEL = "N/A"
  WESTERNMOST_LONGITUDE = 285.932
END_OBJECT = IMAGE_MAP_PROJECTION
/* The JPEG2000 image data file associated with this label. */
OBJECT = COMPRESSED_FILE
  FILE_NAME = "H5401_0000_S23.JP2"
  RECORD_TYPE = UNDEFINED
  FILE_RECORDS = UNK
  ENCODING_TYPE = "JP2"
  INTERCHANGE_FORMAT = BINARY
  UNCOMPRESSED_FILE_NAME = "H5401_0000_S23.IMG"
  REQUIRED_STORAGE_BYTES = "87446945"
  ^DESCRIPTION = "JP2INFO.TXT"
END_OBJECT = COMPRESSED_FILE
END
