PDS_VERSION_ID = PDS3
/* FILE DATA ELEMENTS */
RECORD_TYPE = STREAM
/* POINTERS TO DATA OBJECTS */
^COMPRESSED_FILE = "H5404_0000_P13.JP2"
/* IDENTIFICATION DATA ELEMENTS */
DATA_SET_ID = "MEX-M-HRSC-5-REFDR-MAPPROJECTED-V3.0"
DATA_SET_NAME = "MARS EXPRESS HRSC MAP PROJECTED REFDR V3.0"
DETECTOR_ID = MEX_HRSC_P1
EVENT_TYPE = "MARS-REGIONAL-MAPPING-Im-Pf-Mw"
INSTRUMENT_HOST_ID = MEX
INSTRUMENT_HOST_NAME = "MARS EXPRESS"
INSTRUMENT_ID = HRSC
INSTRUMENT_NAME = "HIGH RESOLUTION STEREO CAMERA"
MISSION_NAME = "MARS EXPRESS"
MISSION_PHASE_NAME = ME_Phase_11
PROCESSING_LEVEL_ID = 3
PRODUCT_CREATION_TIME = 2016-05-14T17:13:02.000Z
PRODUCT_ID = "H5404_0000_P13.JP2"
RELEASE_ID = 0062
REVISION_ID = 0000
/* QUALITY DATA ELEMENTS */
DATA_QUALITY_ID = 1
DATA_QUALITY_DESC = "Data calculated based on original SPICE kernels"
/* TIME DATA ELEMENTS */
SPACECRAFT_CLOCK_START_COUNT = "1/0153852869.07299"
SPACECRAFT_CLOCK_STOP_COUNT = "1/0153853190.55667"
START_TIME = 2008-03-17T16:54:46.882Z
STOP_TIME = 2008-03-17T16:59:00.725Z
/* ORBITAL DATA ELEMENTS */
ASCENDING_NODE_LONGITUDE = 115.81
MAXIMUM_RESOLUTION = 28.8
FOOTPRINT_POINT_LATITUDE = (68.3128,68.2536,68.1853,67.9915, 67.6491,67.1361,66.8006,66.4643,66.1272 ,65.7892,65.4504,65.1109,64.7706, 64.4295,64.0877,63.7451,63.4018,63.0581 ,62.7133,62.368,62.0223,61.6754,61.3281 ,60.9802,60.4684,60.1759,59.8828, 59.5894,59.2955,59.0014,58.7068,58.4086 ,58.1132,57.6694,57.3735,57.0768, 56.7801,56.4828,56.1852,55.8874,55.5892 ,55.2909,54.9923,54.6934,54.3943, 54.0949,53.7949,53.3451,53.0449,52.7442 ,52.4446,52.1425,52.1653,52.2119, 52.6777,52.9792,53.2811,53.7335,54.0351 ,54.3359,54.637,54.9377,55.2379,55.5381 ,55.8378,56.2872,56.5865,56.8856, 57.1841,57.4825,57.7804,58.2271,58.5245 ,58.9735,59.2701,59.5663,59.8623, 60.1578,60.4528,60.9372,61.2883,61.6391 ,61.9893,62.3388,62.688,63.0367,63.3846 ,63.7319,64.0788,64.4246,64.9426, 65.2871,65.6311,65.9743,66.3169,66.6589 ,67.0001,67.3407,67.687,68.3128)
FOOTPRINT_POINT_LONGITUDE = (345.585,344.435,343.283,341.745, 341.917,342.165,342.321,342.471,342.617 ,342.758,342.896,343.029,343.158, 343.283,343.405,343.523,343.637,343.749 ,343.857,343.962,344.064,344.163, 344.259,344.352,344.485,344.558,344.63, 344.7,344.768,344.834,344.9,344.964, 345.026,345.116,345.175,345.232,345.288 ,345.343,345.396,345.448,345.499, 345.549,345.598,345.645,345.692,345.737 ,345.781,345.846,345.888,345.929,345.97 ,346.008,346.736,347.727,347.987, 347.963,347.938,347.899,347.873,347.847 ,347.819,347.792,347.763,347.735, 347.705,347.66,347.63,347.598,347.566, 347.533,347.5,347.449,347.414,347.359, 347.322,347.284,347.246,347.207,347.166 ,347.099,347.048,346.996,346.942, 346.887,346.831,346.772,346.713,346.652 ,346.589,346.524,346.424,346.355, 346.283,346.21,346.134,346.057,345.977, 345.894,345.807,345.585)
ORBIT_NUMBER = 5404
ORBITAL_ECCENTRICITY = 0.57
ORBITAL_INCLINATION = 86.75
ORBITAL_SEMIMAJOR_AXIS = 8666.69
PERIAPSIS_ALTITUDE = 346.45
PERIAPSIS_ARGUMENT_ANGLE = 127.59
PERIAPSIS_TIME = 2008-03-17T16:59:19.000Z
SPACECRAFT_ORIENTATION = (0.0,-1.0,0.0)
^MEX_ORIENTATION_DESC = "MEX_ORIENTATION_DESC.TXT"
SPACECRAFT_POINTING_MODE = ACROSSTRACK
^MEX_POINTING_DESC = "MEX_POINTING_DESC.TXT"
RIGHT_ASCENSION = -1e+32
DECLINATION = -1e+32
OFFSET_ANGLE = -0.35
SPACECRAFT_SOLAR_DISTANCE = 2.46885e+08
TARGET_NAME = MARS
/* CAMERA DATA ELEMENTS */
DETECTOR_TEMPERATURE = 17.351
FOCAL_PLANE_TEMPERATURE = 7.9716
INST_CMPRS_NAME = "DISCRETE COSINE TRANSFORMATION (DCT)"
INST_CMPRS_RATIO = 19.8641
INST_CMPRS_QUALITY = 0
INST_CMPRS_QUANTZ_TBL_ID = 0
INSTRUMENT_TEMPERATURE = 11.0301
LENS_TEMPERATURE = 7.9716
MACROPIXEL_SIZE = 2
MISSING_FRAMES = 1
PIXEL_SUBSAMPLING_FLAG = N
SIGNAL_CHAIN_ID = 3
/* RADIOMETRIC DATA ELEMENTS */
BANDWIDTH = 174.0
CENTER_FILTER_WAVELENGTH = 675.0
RADIANCE_OFFSET = 3.20109
RADIANCE_SCALING_FACTOR = 0.0213025
REFLECTANCE_SCALING_FACTOR = 0.000698401
MEX:REFLECTANCE_OFFSET = 0.104947
/* IMAGE OBJECT DEFINITIONS */
OBJECT = IMAGE
  INTERCHANGE_FORMAT = BINARY
  LINES = 38114
  LINE_SAMPLES = 6646
  SAMPLE_TYPE = UNSIGNED_INTEGER
  SAMPLE_BITS = 8
  BANDS = 1
  BAND_STORAGE_TYPE = BAND_SEQUENTIAL
  MAXIMUM = 255
  MEAN = 64.0694
  MINIMUM = 1
  STANDARD_DEVIATION = 39.401
END_OBJECT = IMAGE
/* MAP OBJECT DEFINITIONS */
OBJECT = IMAGE_MAP_PROJECTION
  ^DATA_SET_MAP_PROJECTION_CATALOG= "DSMAP.CAT"
  A_AXIS_RADIUS = 3396.0
  B_AXIS_RADIUS = 3396.0
  C_AXIS_RADIUS = 3396.0
  CENTER_LATITUDE = 0.0
  CENTER_LONGITUDE = 346.0
  COORDINATE_SYSTEM_NAME = PLANETOGRAPHIC
  COORDINATE_SYSTEM_TYPE = "BODY-FIXED ROTATING"
  EASTERNMOST_LONGITUDE = 347.987
  FIRST_STANDARD_PARALLEL = "N/A"
  LINE_FIRST_PIXEL = 1
  LINE_LAST_PIXEL = 38114
  LINE_PROJECTION_OFFSET = 161747.75
  MAP_PROJECTION_ROTATION = 0.0
  MAP_PROJECTION_TYPE = SINUSOIDAL
  MAP_RESOLUTION = 2370.85521546667
  MAP_SCALE = 0.025
  MAXIMUM_LATITUDE = 68.3128
  MINIMUM_LATITUDE = 52.1425
  POSITIVE_LONGITUDE_DIRECTION = EAST
  REFERENCE_LATITUDE = "N/A"
  REFERENCE_LONGITUDE = "N/A"
  SAMPLE_FIRST_PIXEL = 1
  SAMPLE_LAST_PIXEL = 6646
  SAMPLE_PROJECTION_OFFSET = 3742.25
  SECOND_STANDARD_PARALLEL = "N/A"
  WESTERNMOST_LONGITUDE = 341.745
END_OBJECT = IMAGE_MAP_PROJECTION
/* The JPEG2000 image data file associated with this label. */
OBJECT = COMPRESSED_FILE
  FILE_NAME = "H5404_0000_P13.JP2"
  RECORD_TYPE = UNDEFINED
  FILE_RECORDS = UNK
  ENCODING_TYPE = "JP2"
  INTERCHANGE_FORMAT = BINARY
  UNCOMPRESSED_FILE_NAME = "H5404_0000_P13.IMG"
  REQUIRED_STORAGE_BYTES = "253338874"
  ^DESCRIPTION = "JP2INFO.TXT"
END_OBJECT = COMPRESSED_FILE
END
