PDS_VERSION_ID = PDS3
/* FILE DATA ELEMENTS */
RECORD_TYPE = STREAM
/* POINTERS TO DATA OBJECTS */
^COMPRESSED_FILE = "H5406_0001_BL3.JP2"
/* IDENTIFICATION DATA ELEMENTS */
DATA_SET_ID = "MEX-M-HRSC-5-REFDR-MAPPROJECTED-V3.0"
DATA_SET_NAME = "MARS EXPRESS HRSC MAP PROJECTED REFDR V3.0"
DETECTOR_ID = MEX_HRSC_BLUE
EVENT_TYPE = "MARS-LOCAL-STEREO-Vo-Gl-Pf"
INSTRUMENT_HOST_ID = MEX
INSTRUMENT_HOST_NAME = "MARS EXPRESS"
INSTRUMENT_ID = HRSC
INSTRUMENT_NAME = "HIGH RESOLUTION STEREO CAMERA"
MISSION_NAME = "MARS EXPRESS"
MISSION_PHASE_NAME = ME_Phase_11
PROCESSING_LEVEL_ID = 3
PRODUCT_CREATION_TIME = 2016-05-14T17:13:02.000Z
PRODUCT_ID = "H5406_0001_BL3.JP2"
RELEASE_ID = 0062
REVISION_ID = 0000
/* QUALITY DATA ELEMENTS */
DATA_QUALITY_ID = 2
DATA_QUALITY_DESC = "Data calculated based on photogrammetrically improved orbit and attitude data"
/* TIME DATA ELEMENTS */
SPACECRAFT_CLOCK_START_COUNT = "1/0153902640.08251"
SPACECRAFT_CLOCK_STOP_COUNT = "1/0153902821.24630"
START_TIME = 2008-03-18T06:44:45.630Z
STOP_TIME = 2008-03-18T06:46:24.623Z
/* ORBITAL DATA ELEMENTS */
ASCENDING_NODE_LONGITUDE = 115.76
MAXIMUM_RESOLUTION = 129.7
FOOTPRINT_POINT_LATITUDE = (36.1847,36.1824,36.1794,36.1759,36.172 ,36.1675,36.114,35.7712,35.5429,35.3148 ,35.087,34.8595,34.7433,34.6266,34.5099 ,34.3932,34.2766,34.1602,33.9855,33.869 ,33.7527,33.5784,33.4003,33.2811,33.162 ,32.9834,32.8645,32.6861,32.5674, 32.3894,32.2078,32.0863,31.9649,31.8434 ,31.7222,31.5404,31.4193,31.2984, 31.1761,31.0523,30.9286,30.8049,30.6194 ,30.4341,30.3107,30.1874,30.0738, 30.0769,30.0793,30.0807,30.0825,30.0839 ,30.0845,30.085,30.0854,30.2135,30.3989 ,30.5225,30.6462,30.7696,30.8934, 31.0165,31.14,31.2629,31.3836,31.5048, 31.6258,31.7469,31.8683,32.0519,32.1743 ,32.2967,32.4178,32.5369,32.6557,32.775 ,32.8948,33.0144,33.1338,33.3128, 33.4322,33.6104,33.7268,33.9016,34.0764 ,34.193,34.3098,34.4266,34.5435,34.6604 ,34.7774,34.8934,35.1216,35.3499, 35.5785,35.8073,35.9217,36.0362,36.1508 ,36.1847)
FOOTPRINT_POINT_LONGITUDE = (148.756,148.519,148.267,148.013,147.76 ,147.506,147.164,147.171,147.176, 147.181,147.185,147.189,147.191,147.193 ,147.195,147.197,147.199,147.201, 147.204,147.206,147.208,147.21,147.213, 147.215,147.217,147.22,147.221,147.224, 147.225,147.228,147.23,147.232,147.233, 147.235,147.236,147.238,147.239,147.24, 147.241,147.242,147.242,147.243,147.245 ,147.246,147.247,147.248,147.365, 147.637,147.875,148.027,148.282,148.519 ,148.654,148.79,148.992,149.052,149.048 ,149.045,149.042,149.039,149.036, 149.032,149.028,149.025,149.021,149.018 ,149.015,149.011,149.008,149.006, 149.004,149.002,149.0,148.997,148.994, 148.991,148.99,148.987,148.984,148.98, 148.977,148.972,148.969,148.965,148.96, 148.957,148.953,148.95,148.947,148.944, 148.94,148.937,148.931,148.924,148.917, 148.911,148.907,148.904,148.9,148.756)
ORBIT_NUMBER = 5406
ORBITAL_ECCENTRICITY = 0.57
ORBITAL_INCLINATION = 86.74
ORBITAL_SEMIMAJOR_AXIS = 8668.24
PERIAPSIS_ALTITUDE = 347.16
PERIAPSIS_ARGUMENT_ANGLE = 127.26
PERIAPSIS_TIME = 2008-03-18T06:40:23.000Z
SPACECRAFT_ORIENTATION = (0.0,-1.0,0.0)
^MEX_ORIENTATION_DESC = "MEX_ORIENTATION_DESC.TXT"
SPACECRAFT_POINTING_MODE = ACROSSTRACK
^MEX_POINTING_DESC = "MEX_POINTING_DESC.TXT"
RIGHT_ASCENSION = -1e+32
DECLINATION = -1e+32
OFFSET_ANGLE = -0.2
SPACECRAFT_SOLAR_DISTANCE = 2.46932e+08
TARGET_NAME = MARS
/* CAMERA DATA ELEMENTS */
DETECTOR_TEMPERATURE = 18.9822
FOCAL_PLANE_TEMPERATURE = 8.3794
INST_CMPRS_NAME = "DISCRETE COSINE TRANSFORMATION (DCT)"
INST_CMPRS_RATIO = 24.9316
INST_CMPRS_QUALITY = 0
INST_CMPRS_QUANTZ_TBL_ID = 0
INSTRUMENT_TEMPERATURE = 12.4574
LENS_TEMPERATURE = 8.7872
MACROPIXEL_SIZE = 8
MISSING_FRAMES = 0
PIXEL_SUBSAMPLING_FLAG = N
SIGNAL_CHAIN_ID = 2
/* RADIOMETRIC DATA ELEMENTS */
BANDWIDTH = 76.0
CENTER_FILTER_WAVELENGTH = 444.0
RADIANCE_OFFSET = 0.811661
RADIANCE_SCALING_FACTOR = 0.00188621
REFLECTANCE_SCALING_FACTOR = 0.000118168
MEX:REFLECTANCE_OFFSET = 0.0508494
/* IMAGE OBJECT DEFINITIONS */
OBJECT = IMAGE
  INTERCHANGE_FORMAT = BINARY
  LINES = 3630
  LINE_SAMPLES = 968
  SAMPLE_TYPE = UNSIGNED_INTEGER
  SAMPLE_BITS = 8
  BANDS = 1
  BAND_STORAGE_TYPE = BAND_SEQUENTIAL
  MAXIMUM = 255
  MEAN = 122.528
  MINIMUM = 2
  STANDARD_DEVIATION = 34.798
END_OBJECT = IMAGE
/* MAP OBJECT DEFINITIONS */
OBJECT = IMAGE_MAP_PROJECTION
  ^DATA_SET_MAP_PROJECTION_CATALOG= "DSMAP.CAT"
  A_AXIS_RADIUS = 3396.0
  B_AXIS_RADIUS = 3396.0
  C_AXIS_RADIUS = 3396.0
  CENTER_LATITUDE = 0.0
  CENTER_LONGITUDE = 148.0
  COORDINATE_SYSTEM_NAME = PLANETOGRAPHIC
  COORDINATE_SYSTEM_TYPE = "BODY-FIXED ROTATING"
  EASTERNMOST_LONGITUDE = 149.052
  FIRST_STANDARD_PARALLEL = "N/A"
  LINE_FIRST_PIXEL = 1
  LINE_LAST_PIXEL = 3630
  LINE_PROJECTION_OFFSET = 21456.9375
  MAP_PROJECTION_ROTATION = 0.0
  MAP_PROJECTION_TYPE = SINUSOIDAL
  MAP_RESOLUTION = 592.713803866667
  MAP_SCALE = 0.1
  MAXIMUM_LATITUDE = 36.1847
  MINIMUM_LATITUDE = 30.0738
  POSITIVE_LONGITUDE_DIRECTION = EAST
  REFERENCE_LATITUDE = "N/A"
  REFERENCE_LONGITUDE = "N/A"
  SAMPLE_FIRST_PIXEL = 1
  SAMPLE_LAST_PIXEL = 968
  SAMPLE_PROJECTION_OFFSET = 422.9375
  SECOND_STANDARD_PARALLEL = "N/A"
  WESTERNMOST_LONGITUDE = 147.164
END_OBJECT = IMAGE_MAP_PROJECTION
/* The JPEG2000 image data file associated with this label. */
OBJECT = COMPRESSED_FILE
  FILE_NAME = "H5406_0001_BL3.JP2"
  RECORD_TYPE = UNDEFINED
  FILE_RECORDS = UNK
  ENCODING_TYPE = "JP2"
  INTERCHANGE_FORMAT = BINARY
  UNCOMPRESSED_FILE_NAME = "H5406_0001_BL3.IMG"
  REQUIRED_STORAGE_BYTES = "3532232"
  ^DESCRIPTION = "JP2INFO.TXT"
END_OBJECT = COMPRESSED_FILE
END
