PDS_VERSION_ID = PDS3
/* FILE DATA ELEMENTS */
RECORD_TYPE = STREAM
/* POINTERS TO DATA OBJECTS */
^COMPRESSED_FILE = "H5406_0001_GR3.JP2"
/* IDENTIFICATION DATA ELEMENTS */
DATA_SET_ID = "MEX-M-HRSC-5-REFDR-MAPPROJECTED-V3.0"
DATA_SET_NAME = "MARS EXPRESS HRSC MAP PROJECTED REFDR V3.0"
DETECTOR_ID = MEX_HRSC_GREEN
EVENT_TYPE = "MARS-LOCAL-STEREO-Vo-Gl-Pf"
INSTRUMENT_HOST_ID = MEX
INSTRUMENT_HOST_NAME = "MARS EXPRESS"
INSTRUMENT_ID = HRSC
INSTRUMENT_NAME = "HIGH RESOLUTION STEREO CAMERA"
MISSION_NAME = "MARS EXPRESS"
MISSION_PHASE_NAME = ME_Phase_11
PROCESSING_LEVEL_ID = 3
PRODUCT_CREATION_TIME = 2016-05-14T17:13:02.000Z
PRODUCT_ID = "H5406_0001_GR3.JP2"
RELEASE_ID = 0062
REVISION_ID = 0000
/* QUALITY DATA ELEMENTS */
DATA_QUALITY_ID = 2
DATA_QUALITY_DESC = "Data calculated based on photogrammetrically improved orbit and attitude data"
/* TIME DATA ELEMENTS */
SPACECRAFT_CLOCK_START_COUNT = "1/0153902640.08251"
SPACECRAFT_CLOCK_STOP_COUNT = "1/0153902821.24630"
START_TIME = 2008-03-18T06:44:33.000Z
STOP_TIME = 2008-03-18T06:46:10.309Z
/* ORBITAL DATA ELEMENTS */
ASCENDING_NODE_LONGITUDE = 115.76
MAXIMUM_RESOLUTION = 127.8
FOOTPRINT_POINT_LATITUDE = (36.2109,36.2076,36.2028,36.1983, 36.1932,36.1876,36.1694,36.0531,35.9369 ,35.8208,35.7047,35.5886,35.4726, 35.2407,34.9509,34.7194,34.4881,34.2571 ,34.0261,33.908,33.7896,33.6713,33.5529 ,33.4347,33.3165,33.1395,33.0215, 32.9035,32.7267,32.6062,32.4854,32.3042 ,32.1232,32.0025,31.8819,31.7012, 31.5205,31.336,31.2127,31.0277,30.8429, 30.7198,30.5968,30.4125,30.2879,30.1621 ,30.0665,30.0694,30.0717,30.0742,30.076 ,30.0778,30.079,30.08,30.081,30.2098, 30.3985,30.5217,30.645,30.7685,30.8922, 31.0163,31.1403,31.2644,31.3884,31.5732 ,31.6942,31.8152,31.936,32.0558,32.1763 ,32.2967,32.4173,32.599,32.7202,32.8383 ,32.9561,33.1332,33.2515,33.4292, 33.5477,33.6663,33.7849,33.9036,34.0807 ,34.3122,34.5438,34.7757,35.0077, 35.1237,35.2399,35.356,35.4722,35.5885, 35.7048,35.8211,35.9375,36.054,36.1704, 36.2109)
FOOTPRINT_POINT_LONGITUDE = (148.729,148.48,148.168,147.918,147.668 ,147.417,147.173,147.175,147.178, 147.181,147.183,147.186,147.188,147.193 ,147.199,147.203,147.207,147.211, 147.215,147.217,147.219,147.221,147.223 ,147.225,147.227,147.23,147.232,147.234 ,147.236,147.238,147.24,147.243,147.245 ,147.246,147.248,147.25,147.252,147.254 ,147.255,147.256,147.258,147.259,147.26 ,147.261,147.262,147.263,147.378, 147.562,147.729,147.929,148.112,148.311 ,148.461,148.644,148.91,149.034,149.03, 149.027,149.025,149.022,149.019,149.015 ,149.012,149.008,149.005,149.0,148.997, 148.994,148.991,148.99,148.988,148.986, 148.984,148.98,148.977,148.975,148.973, 148.969,148.966,148.962,148.959,148.956 ,148.953,148.95,148.945,148.939,148.933 ,148.927,148.92,148.917,148.914,148.91, 148.907,148.904,148.901,148.897,148.894 ,148.89,148.887,148.729)
ORBIT_NUMBER = 5406
ORBITAL_ECCENTRICITY = 0.57
ORBITAL_INCLINATION = 86.74
ORBITAL_SEMIMAJOR_AXIS = 8668.24
PERIAPSIS_ALTITUDE = 347.16
PERIAPSIS_ARGUMENT_ANGLE = 127.26
PERIAPSIS_TIME = 2008-03-18T06:40:23.000Z
SPACECRAFT_ORIENTATION = (0.0,-1.0,0.0)
^MEX_ORIENTATION_DESC = "MEX_ORIENTATION_DESC.TXT"
SPACECRAFT_POINTING_MODE = ACROSSTRACK
^MEX_POINTING_DESC = "MEX_POINTING_DESC.TXT"
RIGHT_ASCENSION = -1e+32
DECLINATION = -1e+32
OFFSET_ANGLE = -0.2
SPACECRAFT_SOLAR_DISTANCE = 2.46932e+08
TARGET_NAME = MARS
/* CAMERA DATA ELEMENTS */
DETECTOR_TEMPERATURE = 18.9822
FOCAL_PLANE_TEMPERATURE = 8.3794
INST_CMPRS_NAME = "DISCRETE COSINE TRANSFORMATION (DCT)"
INST_CMPRS_RATIO = 17.4099
INST_CMPRS_QUALITY = 0
INST_CMPRS_QUANTZ_TBL_ID = 0
INSTRUMENT_TEMPERATURE = 12.4574
LENS_TEMPERATURE = 8.7872
MACROPIXEL_SIZE = 8
MISSING_FRAMES = 0
PIXEL_SUBSAMPLING_FLAG = N
SIGNAL_CHAIN_ID = 2
/* RADIOMETRIC DATA ELEMENTS */
BANDWIDTH = 88.0
CENTER_FILTER_WAVELENGTH = 538.0
RADIANCE_OFFSET = 2.05873
RADIANCE_SCALING_FACTOR = 0.00491427
REFLECTANCE_SCALING_FACTOR = 0.000257991
MEX:REFLECTANCE_OFFSET = 0.10808
/* IMAGE OBJECT DEFINITIONS */
OBJECT = IMAGE
  INTERCHANGE_FORMAT = BINARY
  LINES = 3630
  LINE_SAMPLES = 968
  SAMPLE_TYPE = UNSIGNED_INTEGER
  SAMPLE_BITS = 8
  BANDS = 1
  BAND_STORAGE_TYPE = BAND_SEQUENTIAL
  MAXIMUM = 255
  MEAN = 123.428
  MINIMUM = 1
  STANDARD_DEVIATION = 27.3644
END_OBJECT = IMAGE
/* MAP OBJECT DEFINITIONS */
OBJECT = IMAGE_MAP_PROJECTION
  ^DATA_SET_MAP_PROJECTION_CATALOG= "DSMAP.CAT"
  A_AXIS_RADIUS = 3396.0
  B_AXIS_RADIUS = 3396.0
  C_AXIS_RADIUS = 3396.0
  CENTER_LATITUDE = 0.0
  CENTER_LONGITUDE = 148.0
  COORDINATE_SYSTEM_NAME = PLANETOGRAPHIC
  COORDINATE_SYSTEM_TYPE = "BODY-FIXED ROTATING"
  EASTERNMOST_LONGITUDE = 149.034
  FIRST_STANDARD_PARALLEL = "N/A"
  LINE_FIRST_PIXEL = 1
  LINE_LAST_PIXEL = 3630
  LINE_PROJECTION_OFFSET = 21456.9375
  MAP_PROJECTION_ROTATION = 0.0
  MAP_PROJECTION_TYPE = SINUSOIDAL
  MAP_RESOLUTION = 592.713803866667
  MAP_SCALE = 0.1
  MAXIMUM_LATITUDE = 36.2109
  MINIMUM_LATITUDE = 30.0665
  POSITIVE_LONGITUDE_DIRECTION = EAST
  REFERENCE_LATITUDE = "N/A"
  REFERENCE_LONGITUDE = "N/A"
  SAMPLE_FIRST_PIXEL = 1
  SAMPLE_LAST_PIXEL = 968
  SAMPLE_PROJECTION_OFFSET = 422.9375
  SECOND_STANDARD_PARALLEL = "N/A"
  WESTERNMOST_LONGITUDE = 147.173
END_OBJECT = IMAGE_MAP_PROJECTION
/* The JPEG2000 image data file associated with this label. */
OBJECT = COMPRESSED_FILE
  FILE_NAME = "H5406_0001_GR3.JP2"
  RECORD_TYPE = UNDEFINED
  FILE_RECORDS = UNK
  ENCODING_TYPE = "JP2"
  INTERCHANGE_FORMAT = BINARY
  UNCOMPRESSED_FILE_NAME = "H5406_0001_GR3.IMG"
  REQUIRED_STORAGE_BYTES = "3532232"
  ^DESCRIPTION = "JP2INFO.TXT"
END_OBJECT = COMPRESSED_FILE
END
