PDS_VERSION_ID = PDS3
/* FILE DATA ELEMENTS */
RECORD_TYPE = STREAM
/* POINTERS TO DATA OBJECTS */
^COMPRESSED_FILE = "H5406_0001_P13.JP2"
/* IDENTIFICATION DATA ELEMENTS */
DATA_SET_ID = "MEX-M-HRSC-5-REFDR-MAPPROJECTED-V3.0"
DATA_SET_NAME = "MARS EXPRESS HRSC MAP PROJECTED REFDR V3.0"
DETECTOR_ID = MEX_HRSC_P1
EVENT_TYPE = "MARS-LOCAL-STEREO-Vo-Gl-Pf"
INSTRUMENT_HOST_ID = MEX
INSTRUMENT_HOST_NAME = "MARS EXPRESS"
INSTRUMENT_ID = HRSC
INSTRUMENT_NAME = "HIGH RESOLUTION STEREO CAMERA"
MISSION_NAME = "MARS EXPRESS"
MISSION_PHASE_NAME = ME_Phase_11
PROCESSING_LEVEL_ID = 3
PRODUCT_CREATION_TIME = 2016-05-14T17:13:02.000Z
PRODUCT_ID = "H5406_0001_P13.JP2"
RELEASE_ID = 0062
REVISION_ID = 0000
/* QUALITY DATA ELEMENTS */
DATA_QUALITY_ID = 2
DATA_QUALITY_DESC = "Data calculated based on photogrammetrically improved orbit and attitude data"
/* TIME DATA ELEMENTS */
SPACECRAFT_CLOCK_START_COUNT = "1/0153902640.08251"
SPACECRAFT_CLOCK_STOP_COUNT = "1/0153902821.24630"
START_TIME = 2008-03-18T06:44:15.772Z
STOP_TIME = 2008-03-18T06:45:50.502Z
/* ORBITAL DATA ELEMENTS */
ASCENDING_NODE_LONGITUDE = 115.76
MAXIMUM_RESOLUTION = 32.2
FOOTPRINT_POINT_LATITUDE = (36.2289,36.2246,36.216,36.2097,36.2025 ,36.1946,36.1888,35.9646,35.8451, 35.7254,35.6059,35.4265,35.2473,35.0683 ,34.8886,34.7094,34.5902,34.4116, 34.2327,34.1133,33.9943,33.8163,33.6379 ,33.5188,33.4005,33.2226,33.1041, 32.9861,32.8675,32.6861,32.5648,32.3828 ,32.2613,32.1401,31.958,31.8365,31.7153 ,31.5333,31.3474,31.1608,31.0365,30.912 ,30.788,30.6637,30.5399,30.4159,30.2924 ,30.0621,30.066,30.0698,30.0726,30.0766 ,30.079,30.081,30.0833,30.0856,30.0867, 30.152,30.2795,30.4041,30.591,30.7785, 30.9043,31.0325,31.2226,31.3497,31.4747 ,31.5995,31.7223,31.9057,32.1426, 32.3228,32.5037,32.6253,32.7475,32.866, 32.984,33.1617,33.2802,33.3994,33.5779, 33.7569,33.8761,33.9955,34.1152,34.2943 ,34.4138,34.5333,34.653,34.7725,34.8921 ,35.0118,35.1314,35.2511,35.4307, 35.6104,35.7302,35.8501,36.0299, 36.2289)
FOOTPRINT_POINT_LONGITUDE = (148.793,148.554,148.154,147.898, 147.641,147.383,147.206,147.174,147.177 ,147.18,147.183,147.186,147.19,147.194, 147.197,147.201,147.203,147.207,147.21, 147.212,147.214,147.218,147.221,147.223 ,147.225,147.228,147.23,147.232,147.234 ,147.237,147.239,147.242,147.243, 147.245,147.248,147.249,147.251,147.253 ,147.255,147.257,147.258,147.259,147.26 ,147.261,147.262,147.263,147.265, 147.266,147.419,147.59,147.726,147.946, 148.116,148.268,148.454,148.725,148.894 ,149.018,149.015,149.013,149.009, 149.005,149.002,148.998,148.993,148.989 ,148.986,148.983,148.98,148.976,148.973 ,148.97,148.967,148.964,148.962,148.96, 148.958,148.954,148.951,148.949,148.944 ,148.94,148.937,148.934,148.931,148.926 ,148.923,148.92,148.917,148.914,148.911 ,148.908,148.904,148.901,148.896, 148.891,148.888,148.885,148.88,148.793)
ORBIT_NUMBER = 5406
ORBITAL_ECCENTRICITY = 0.57
ORBITAL_INCLINATION = 86.74
ORBITAL_SEMIMAJOR_AXIS = 8668.24
PERIAPSIS_ALTITUDE = 347.16
PERIAPSIS_ARGUMENT_ANGLE = 127.26
PERIAPSIS_TIME = 2008-03-18T06:40:23.000Z
SPACECRAFT_ORIENTATION = (0.0,-1.0,0.0)
^MEX_ORIENTATION_DESC = "MEX_ORIENTATION_DESC.TXT"
SPACECRAFT_POINTING_MODE = ACROSSTRACK
^MEX_POINTING_DESC = "MEX_POINTING_DESC.TXT"
RIGHT_ASCENSION = -1e+32
DECLINATION = -1e+32
OFFSET_ANGLE = -0.2
SPACECRAFT_SOLAR_DISTANCE = 2.46932e+08
TARGET_NAME = MARS
/* CAMERA DATA ELEMENTS */
DETECTOR_TEMPERATURE = 18.3705
FOCAL_PLANE_TEMPERATURE = 8.3794
INST_CMPRS_NAME = "DISCRETE COSINE TRANSFORMATION (DCT)"
INST_CMPRS_RATIO = 11.5197
INST_CMPRS_QUALITY = 0
INST_CMPRS_QUANTZ_TBL_ID = 0
INSTRUMENT_TEMPERATURE = 12.4574
LENS_TEMPERATURE = 8.7872
MACROPIXEL_SIZE = 2
MISSING_FRAMES = 0
PIXEL_SUBSAMPLING_FLAG = N
SIGNAL_CHAIN_ID = 3
/* RADIOMETRIC DATA ELEMENTS */
BANDWIDTH = 174.0
CENTER_FILTER_WAVELENGTH = 675.0
RADIANCE_OFFSET = 6.19101
RADIANCE_SCALING_FACTOR = 0.0195229
REFLECTANCE_SCALING_FACTOR = 0.0006403
MEX:REFLECTANCE_OFFSET = 0.203049
/* IMAGE OBJECT DEFINITIONS */
OBJECT = IMAGE
  INTERCHANGE_FORMAT = BINARY
  LINES = 14517
  LINE_SAMPLES = 3871
  SAMPLE_TYPE = UNSIGNED_INTEGER
  SAMPLE_BITS = 8
  BANDS = 1
  BAND_STORAGE_TYPE = BAND_SEQUENTIAL
  MAXIMUM = 255
  MEAN = 140.756
  MINIMUM = 1
  STANDARD_DEVIATION = 27.8993
END_OBJECT = IMAGE
/* MAP OBJECT DEFINITIONS */
OBJECT = IMAGE_MAP_PROJECTION
  ^DATA_SET_MAP_PROJECTION_CATALOG= "DSMAP.CAT"
  A_AXIS_RADIUS = 3396.0
  B_AXIS_RADIUS = 3396.0
  C_AXIS_RADIUS = 3396.0
  CENTER_LATITUDE = 0.0
  CENTER_LONGITUDE = 148.0
  COORDINATE_SYSTEM_NAME = PLANETOGRAPHIC
  COORDINATE_SYSTEM_TYPE = "BODY-FIXED ROTATING"
  EASTERNMOST_LONGITUDE = 149.018
  FIRST_STANDARD_PARALLEL = "N/A"
  LINE_FIRST_PIXEL = 1
  LINE_LAST_PIXEL = 14517
  LINE_PROJECTION_OFFSET = 85829.25
  MAP_PROJECTION_ROTATION = 0.0
  MAP_PROJECTION_TYPE = SINUSOIDAL
  MAP_RESOLUTION = 2370.85521546667
  MAP_SCALE = 0.025
  MAXIMUM_LATITUDE = 36.2289
  MINIMUM_LATITUDE = 30.0621
  POSITIVE_LONGITUDE_DIRECTION = EAST
  REFERENCE_LATITUDE = "N/A"
  REFERENCE_LONGITUDE = "N/A"
  SAMPLE_FIRST_PIXEL = 1
  SAMPLE_LAST_PIXEL = 3871
  SAMPLE_PROJECTION_OFFSET = 1693.25
  SECOND_STANDARD_PARALLEL = "N/A"
  WESTERNMOST_LONGITUDE = 147.174
END_OBJECT = IMAGE_MAP_PROJECTION
/* The JPEG2000 image data file associated with this label. */
OBJECT = COMPRESSED_FILE
  FILE_NAME = "H5406_0001_P13.JP2"
  RECORD_TYPE = UNDEFINED
  FILE_RECORDS = UNK
  ENCODING_TYPE = "JP2"
  INTERCHANGE_FORMAT = BINARY
  UNCOMPRESSED_FILE_NAME = "H5406_0001_P13.IMG"
  REQUIRED_STORAGE_BYTES = "56218533"
  ^DESCRIPTION = "JP2INFO.TXT"
END_OBJECT = COMPRESSED_FILE
END
