PDS_VERSION_ID = PDS3
/* FILE DATA ELEMENTS */
RECORD_TYPE = STREAM
/* POINTERS TO DATA OBJECTS */
^COMPRESSED_FILE = "H5408_0000_S13.JP2"
/* IDENTIFICATION DATA ELEMENTS */
DATA_SET_ID = "MEX-M-HRSC-5-REFDR-MAPPROJECTED-V3.0"
DATA_SET_NAME = "MARS EXPRESS HRSC MAP PROJECTED REFDR V3.0"
DETECTOR_ID = MEX_HRSC_S1
EVENT_TYPE = "MARS-REGIONAL-MAPPING-Vo-Te-Pf"
INSTRUMENT_HOST_ID = MEX
INSTRUMENT_HOST_NAME = "MARS EXPRESS"
INSTRUMENT_ID = HRSC
INSTRUMENT_NAME = "HIGH RESOLUTION STEREO CAMERA"
MISSION_NAME = "MARS EXPRESS"
MISSION_PHASE_NAME = ME_Phase_11
PROCESSING_LEVEL_ID = 3
PRODUCT_CREATION_TIME = 2016-05-14T17:13:02.000Z
PRODUCT_ID = "H5408_0000_S13.JP2"
RELEASE_ID = 0062
REVISION_ID = 0000
/* QUALITY DATA ELEMENTS */
DATA_QUALITY_ID = 2
DATA_QUALITY_DESC = "Data calculated based on photogrammetrically improved orbit and attitude data"
/* TIME DATA ELEMENTS */
SPACECRAFT_CLOCK_START_COUNT = "1/0153951529.07311"
SPACECRAFT_CLOCK_STOP_COUNT = "1/0153951794.55765"
START_TIME = 2008-03-18T20:18:52.881Z
STOP_TIME = 2008-03-18T20:22:13.244Z
/* ORBITAL DATA ELEMENTS */
ASCENDING_NODE_LONGITUDE = 115.73
MAXIMUM_RESOLUTION = 29.7
FOOTPRINT_POINT_LATITUDE = (60.7748,60.7561,60.721,60.6651,60.4189 ,60.1702,59.9212,59.6719,59.4223, 59.1725,58.9222,58.6716,58.4207,58.1696 ,57.918,57.6662,57.4141,57.1617,56.909, 56.656,56.4028,56.1493,55.8922,55.638, 55.3836,55.0015,54.7466,54.3605,54.1052 ,53.7213,53.4652,53.2089,52.9521, 52.6954,52.31,52.0527,51.7952,51.5373, 51.2793,51.0211,50.7626,50.5045,50.1165 ,49.8578,49.599,49.3396,49.077,48.8178, 48.4289,48.1695,47.9094,47.7594,47.7761 ,47.79,47.7972,47.934,48.324,48.5868, 48.8462,49.2384,49.4988,49.7593,50.0193 ,50.2792,50.5388,50.798,51.0577,51.3172 ,51.5761,51.8347,52.0934,52.3516, 52.7385,53.1251,53.3829,53.6399,54.0251 ,54.4103,54.6702,54.9266,55.1827, 55.4386,55.6942,55.9496,56.2082,56.463, 56.7178,56.972,57.3531,57.7337,57.987, 58.2402,58.4929,58.7454,59.1238,59.3756 ,59.6271,60.0037,60.3796,60.7748)
FOOTPRINT_POINT_LONGITUDE = (307.563,307.023,306.164,305.04,305.014 ,305.07,305.125,305.179,305.231,305.283 ,305.334,305.384,305.432,305.48,305.527 ,305.573,305.618,305.662,305.705, 305.747,305.789,305.829,305.87,305.909, 305.947,306.003,306.039,306.093,306.128 ,306.178,306.211,306.243,306.275, 306.305,306.351,306.38,306.409,306.437, 306.464,306.491,306.518,306.544,306.582 ,306.606,306.63,306.654,306.677,306.7, 306.733,306.754,306.775,307.07,307.584, 308.081,308.383,308.614,308.595,308.581 ,308.569,308.549,308.536,308.521, 308.507,308.493,308.478,308.463,308.448 ,308.433,308.417,308.401,308.385, 308.369,308.344,308.319,308.301,308.284 ,308.257,308.229,308.21,308.19,308.171, 308.151,308.131,308.11,308.089,308.068, 308.046,308.024,307.99,307.955,307.932, 307.908,307.883,307.859,307.82,307.794, 307.768,307.727,307.686,307.563)
ORBIT_NUMBER = 5408
ORBITAL_ECCENTRICITY = 0.57
ORBITAL_INCLINATION = 86.75
ORBITAL_SEMIMAJOR_AXIS = 8665.61
PERIAPSIS_ALTITUDE = 346.86
PERIAPSIS_ARGUMENT_ANGLE = 126.92
PERIAPSIS_TIME = 2008-03-18T20:21:24.000Z
SPACECRAFT_ORIENTATION = (0.0,-1.0,0.0)
^MEX_ORIENTATION_DESC = "MEX_ORIENTATION_DESC.TXT"
SPACECRAFT_POINTING_MODE = NADIR
^MEX_POINTING_DESC = "MEX_POINTING_DESC.TXT"
RIGHT_ASCENSION = -1e+32
DECLINATION = -1e+32
OFFSET_ANGLE = -1e+32
SPACECRAFT_SOLAR_DISTANCE = 2.46978e+08
TARGET_NAME = MARS
/* CAMERA DATA ELEMENTS */
DETECTOR_TEMPERATURE = 17.351
FOCAL_PLANE_TEMPERATURE = 8.1755
INST_CMPRS_NAME = "DISCRETE COSINE TRANSFORMATION (DCT)"
INST_CMPRS_RATIO = 12.3611
INST_CMPRS_QUALITY = 0
INST_CMPRS_QUANTZ_TBL_ID = 0
INSTRUMENT_TEMPERATURE = 11.234
LENS_TEMPERATURE = 8.7872
MACROPIXEL_SIZE = 2
MISSING_FRAMES = 3
PIXEL_SUBSAMPLING_FLAG = N
SIGNAL_CHAIN_ID = 1
/* RADIOMETRIC DATA ELEMENTS */
BANDWIDTH = 180.0
CENTER_FILTER_WAVELENGTH = 677.0
RADIANCE_OFFSET = 2.8019
RADIANCE_SCALING_FACTOR = 0.0183131
REFLECTANCE_SCALING_FACTOR = 0.000582798
MEX:REFLECTANCE_OFFSET = 0.0891681
/* IMAGE OBJECT DEFINITIONS */
OBJECT = IMAGE
  INTERCHANGE_FORMAT = BINARY
  LINES = 30587
  LINE_SAMPLES = 4917
  SAMPLE_TYPE = UNSIGNED_INTEGER
  SAMPLE_BITS = 8
  BANDS = 1
  BAND_STORAGE_TYPE = BAND_SEQUENTIAL
  MAXIMUM = 255
  MEAN = 78.1216
  MINIMUM = 1
  STANDARD_DEVIATION = 65.4099
END_OBJECT = IMAGE
/* MAP OBJECT DEFINITIONS */
OBJECT = IMAGE_MAP_PROJECTION
  ^DATA_SET_MAP_PROJECTION_CATALOG= "DSMAP.CAT"
  A_AXIS_RADIUS = 3396.0
  B_AXIS_RADIUS = 3396.0
  C_AXIS_RADIUS = 3396.0
  CENTER_LATITUDE = 0.0
  CENTER_LONGITUDE = 307.0
  COORDINATE_SYSTEM_NAME = PLANETOGRAPHIC
  COORDINATE_SYSTEM_TYPE = "BODY-FIXED ROTATING"
  EASTERNMOST_LONGITUDE = 308.614
  FIRST_STANDARD_PARALLEL = "N/A"
  LINE_FIRST_PIXEL = 1
  LINE_LAST_PIXEL = 30587
  LINE_PROJECTION_OFFSET = 143842.25
  MAP_PROJECTION_ROTATION = 0.0
  MAP_PROJECTION_TYPE = SINUSOIDAL
  MAP_RESOLUTION = 2370.85521546667
  MAP_SCALE = 0.025
  MAXIMUM_LATITUDE = 60.7748
  MINIMUM_LATITUDE = 47.7594
  POSITIVE_LONGITUDE_DIRECTION = EAST
  REFERENCE_LATITUDE = "N/A"
  REFERENCE_LONGITUDE = "N/A"
  SAMPLE_FIRST_PIXEL = 1
  SAMPLE_LAST_PIXEL = 4917
  SAMPLE_PROJECTION_OFFSET = 2320.25
  SECOND_STANDARD_PARALLEL = "N/A"
  WESTERNMOST_LONGITUDE = 305.014
END_OBJECT = IMAGE_MAP_PROJECTION
/* The JPEG2000 image data file associated with this label. */
OBJECT = COMPRESSED_FILE
  FILE_NAME = "H5408_0000_S13.JP2"
  RECORD_TYPE = UNDEFINED
  FILE_RECORDS = UNK
  ENCODING_TYPE = "JP2"
  INTERCHANGE_FORMAT = BINARY
  UNCOMPRESSED_FILE_NAME = "H5408_0000_S13.IMG"
  REQUIRED_STORAGE_BYTES = "150420864"
  ^DESCRIPTION = "JP2INFO.TXT"
END_OBJECT = COMPRESSED_FILE
END
