PDS_VERSION_ID = PDS3
/* FILE DATA ELEMENTS */
RECORD_TYPE = STREAM
/* POINTERS TO DATA OBJECTS */
^COMPRESSED_FILE = "H5412_0000_IR3.JP2"
/* IDENTIFICATION DATA ELEMENTS */
DATA_SET_ID = "MEX-M-HRSC-5-REFDR-MAPPROJECTED-V3.0"
DATA_SET_NAME = "MARS EXPRESS HRSC MAP PROJECTED REFDR V3.0"
DETECTOR_ID = MEX_HRSC_IR
EVENT_TYPE = "MARS-REGIONAL-MAPPING-Vo-Te"
INSTRUMENT_HOST_ID = MEX
INSTRUMENT_HOST_NAME = "MARS EXPRESS"
INSTRUMENT_ID = HRSC
INSTRUMENT_NAME = "HIGH RESOLUTION STEREO CAMERA"
MISSION_NAME = "MARS EXPRESS"
MISSION_PHASE_NAME = ME_Phase_11
PROCESSING_LEVEL_ID = 3
PRODUCT_CREATION_TIME = 2016-05-14T17:13:02.000Z
PRODUCT_ID = "H5412_0000_IR3.JP2"
RELEASE_ID = 0062
REVISION_ID = 0000
/* QUALITY DATA ELEMENTS */
DATA_QUALITY_ID = 1
DATA_QUALITY_DESC = "Data calculated based on original SPICE kernels"
/* TIME DATA ELEMENTS */
SPACECRAFT_CLOCK_START_COUNT = "1/0154049857.07285"
SPACECRAFT_CLOCK_STOP_COUNT = "1/0154050095.32419"
START_TIME = 2008-03-19T23:37:48.858Z
STOP_TIME = 2008-03-19T23:40:35.814Z
/* ORBITAL DATA ELEMENTS */
ASCENDING_NODE_LONGITUDE = 115.65
MAXIMUM_RESOLUTION = 126.4
FOOTPRINT_POINT_LATITUDE = (73.3983,73.3796,73.3576,73.3326, 73.3044,73.2732,73.2391,72.9323,72.5465 ,72.1594,71.7706,71.3804,70.989,70.7925 ,70.5961,70.3988,70.1029,69.9052, 69.7071,69.5089,69.3097,69.0112,68.8116 ,68.6114,68.4114,68.1104,67.9096, 67.7083,67.5068,67.3048,67.1027,66.9004 ,66.6975,66.4948,66.1896,65.9861,65.782 ,65.5778,65.3733,65.1685,64.9636, 64.7583,64.5528,64.244,64.0379,63.8316, 63.6251,63.4182,63.2113,63.1016,63.113, 63.1222,63.1326,63.1397,63.2485,63.4568 ,63.6653,63.8734,64.0814,64.2891, 64.4965,64.8074,65.0143,65.221,65.4276, 65.6338,65.84,66.0458,66.2514,66.4567, 66.6617,66.8666,67.1734,67.3777,67.5817 ,67.7854,67.989,68.1922,68.3952,68.5981 ,68.8005,69.0023,69.2044,69.4061, 69.6074,69.8085,70.0096,70.2102,70.4106 ,70.6108,70.8105,71.0098,71.2092,71.408 ,71.7061,72.1023,72.4974,72.8913, 73.2844,73.3983)
FOOTPRINT_POINT_LONGITUDE = (266.357,265.546,264.744,263.949, 263.163,262.385,261.614,261.786,262.04, 262.283,262.515,262.737,262.949,263.051 ,263.152,263.25,263.393,263.487,263.578 ,263.667,263.754,263.882,263.965, 264.046,264.126,264.242,264.318,264.392 ,264.465,264.536,264.606,264.674, 264.741,264.807,264.903,264.966,265.028 ,265.088,265.147,265.205,265.262, 265.318,265.372,265.453,265.505,265.556 ,265.606,265.655,265.704,266.107, 266.571,267.012,267.653,268.303,268.684 ,268.666,268.647,268.629,268.609,268.59 ,268.57,268.539,268.518,268.497,268.475 ,268.453,268.431,268.408,268.385, 268.361,268.337,268.312,268.274,268.248 ,268.222,268.195,268.168,268.14,268.112 ,268.083,268.053,268.024,267.993, 267.962,267.93,267.897,267.864,267.83, 267.795,267.759,267.723,267.687,267.649 ,267.611,267.551,267.469,267.382, 267.292,267.197,266.357)
ORBIT_NUMBER = 5412
ORBITAL_ECCENTRICITY = 0.57
ORBITAL_INCLINATION = 86.74
ORBITAL_SEMIMAJOR_AXIS = 8669.59
PERIAPSIS_ALTITUDE = 346.79
PERIAPSIS_ARGUMENT_ANGLE = 126.19
PERIAPSIS_TIME = 2008-03-19T23:43:29.000Z
SPACECRAFT_ORIENTATION = (0.0,-1.0,0.0)
^MEX_ORIENTATION_DESC = "MEX_ORIENTATION_DESC.TXT"
SPACECRAFT_POINTING_MODE = ACROSSTRACK
^MEX_POINTING_DESC = "MEX_POINTING_DESC.TXT"
RIGHT_ASCENSION = -1e+32
DECLINATION = -1e+32
OFFSET_ANGLE = 0.686
SPACECRAFT_SOLAR_DISTANCE = 2.47068e+08
TARGET_NAME = MARS
/* CAMERA DATA ELEMENTS */
DETECTOR_TEMPERATURE = 17.5549
FOCAL_PLANE_TEMPERATURE = 8.1755
INST_CMPRS_NAME = "DISCRETE COSINE TRANSFORMATION (DCT)"
INST_CMPRS_RATIO = 23.4974
INST_CMPRS_QUALITY = 0
INST_CMPRS_QUANTZ_TBL_ID = 0
INSTRUMENT_TEMPERATURE = 11.234
LENS_TEMPERATURE = 8.3794
MACROPIXEL_SIZE = 8
MISSING_FRAMES = 0
PIXEL_SUBSAMPLING_FLAG = N
SIGNAL_CHAIN_ID = 2
/* RADIOMETRIC DATA ELEMENTS */
BANDWIDTH = 81.0
CENTER_FILTER_WAVELENGTH = 955.5
RADIANCE_OFFSET = 0.611334
RADIANCE_SCALING_FACTOR = 0.00874341
REFLECTANCE_SCALING_FACTOR = 0.00115144
MEX:REFLECTANCE_OFFSET = 0.0805079
/* IMAGE OBJECT DEFINITIONS */
OBJECT = IMAGE
  INTERCHANGE_FORMAT = BINARY
  LINES = 6076
  LINE_SAMPLES = 1436
  SAMPLE_TYPE = UNSIGNED_INTEGER
  SAMPLE_BITS = 8
  BANDS = 1
  BAND_STORAGE_TYPE = BAND_SEQUENTIAL
  MAXIMUM = 255
  MEAN = 110.969
  MINIMUM = 1
  STANDARD_DEVIATION = 47.8516
END_OBJECT = IMAGE
/* MAP OBJECT DEFINITIONS */
OBJECT = IMAGE_MAP_PROJECTION
  ^DATA_SET_MAP_PROJECTION_CATALOG= "DSMAP.CAT"
  A_AXIS_RADIUS = 3396.0
  B_AXIS_RADIUS = 3396.0
  C_AXIS_RADIUS = 3396.0
  CENTER_LATITUDE = 0.0
  CENTER_LONGITUDE = 266.0
  COORDINATE_SYSTEM_NAME = PLANETOGRAPHIC
  COORDINATE_SYSTEM_TYPE = "BODY-FIXED ROTATING"
  EASTERNMOST_LONGITUDE = 268.684
  FIRST_STANDARD_PARALLEL = "N/A"
  LINE_FIRST_PIXEL = 1
  LINE_LAST_PIXEL = 6076
  LINE_PROJECTION_OFFSET = 43466.8125
  MAP_PROJECTION_ROTATION = 0.0
  MAP_PROJECTION_TYPE = SINUSOIDAL
  MAP_RESOLUTION = 592.713803866667
  MAP_SCALE = 0.1
  MAXIMUM_LATITUDE = 73.39830000000001
  MINIMUM_LATITUDE = 63.1016
  POSITIVE_LONGITUDE_DIRECTION = EAST
  REFERENCE_LATITUDE = "N/A"
  REFERENCE_LONGITUDE = "N/A"
  SAMPLE_FIRST_PIXEL = 1
  SAMPLE_LAST_PIXEL = 1436
  SAMPLE_PROJECTION_OFFSET = 738.4375
  SECOND_STANDARD_PARALLEL = "N/A"
  WESTERNMOST_LONGITUDE = 261.614
END_OBJECT = IMAGE_MAP_PROJECTION
/* The JPEG2000 image data file associated with this label. */
OBJECT = COMPRESSED_FILE
  FILE_NAME = "H5412_0000_IR3.JP2"
  RECORD_TYPE = UNDEFINED
  FILE_RECORDS = UNK
  ENCODING_TYPE = "JP2"
  INTERCHANGE_FORMAT = BINARY
  UNCOMPRESSED_FILE_NAME = "H5412_0000_IR3.IMG"
  REQUIRED_STORAGE_BYTES = "8743804"
  ^DESCRIPTION = "JP2INFO.TXT"
END_OBJECT = COMPRESSED_FILE
END
