PDS_VERSION_ID = PDS3
/* FILE DATA ELEMENTS */
RECORD_TYPE = STREAM
/* POINTERS TO DATA OBJECTS */
^COMPRESSED_FILE = "H5412_0000_P23.JP2"
/* IDENTIFICATION DATA ELEMENTS */
DATA_SET_ID = "MEX-M-HRSC-5-REFDR-MAPPROJECTED-V3.0"
DATA_SET_NAME = "MARS EXPRESS HRSC MAP PROJECTED REFDR V3.0"
DETECTOR_ID = MEX_HRSC_P2
EVENT_TYPE = "MARS-REGIONAL-MAPPING-Vo-Te"
INSTRUMENT_HOST_ID = MEX
INSTRUMENT_HOST_NAME = "MARS EXPRESS"
INSTRUMENT_ID = HRSC
INSTRUMENT_NAME = "HIGH RESOLUTION STEREO CAMERA"
MISSION_NAME = "MARS EXPRESS"
MISSION_PHASE_NAME = ME_Phase_11
PROCESSING_LEVEL_ID = 3
PRODUCT_CREATION_TIME = 2016-05-14T17:13:02.000Z
PRODUCT_ID = "H5412_0000_P23.JP2"
RELEASE_ID = 0062
REVISION_ID = 0000
/* QUALITY DATA ELEMENTS */
DATA_QUALITY_ID = 1
DATA_QUALITY_DESC = "Data calculated based on original SPICE kernels"
/* TIME DATA ELEMENTS */
SPACECRAFT_CLOCK_START_COUNT = "1/0154049857.07285"
SPACECRAFT_CLOCK_STOP_COUNT = "1/0154050095.32419"
START_TIME = 2008-03-19T23:38:50.451Z
STOP_TIME = 2008-03-19T23:41:25.992Z
/* ORBITAL DATA ELEMENTS */
ASCENDING_NODE_LONGITUDE = 115.65
MAXIMUM_RESOLUTION = 60.2
FOOTPRINT_POINT_LATITUDE = (73.2411,73.2115,73.1798,73.1459, 73.1101,73.0723,73.0325,72.8281,72.6313 ,72.4343,72.2371,71.941,71.7435,71.5455 ,71.3476,71.1494,70.852,70.6536,70.4551 ,70.2564,70.0575,69.8581,69.6589, 69.4595,69.2604,69.0607,68.7613,68.5615 ,68.3616,68.1615,67.9614,67.7612, 67.5608,67.3605,67.16,66.9593,66.7588, 66.5579,66.2568,65.9553,65.7543,65.4526 ,65.2514,65.0502,64.8488,64.6475, 64.3453,64.1439,63.8414,63.6398,63.3372 ,63.1355,63.1184,63.1454,63.1816, 63.2176,63.4209,63.7252,63.9282,64.131, 64.3339,64.6383,64.8412,65.1455,65.4496 ,65.7538,66.0578,66.3617,66.5643, 66.7668,66.9692,67.1718,67.3742,67.5766 ,67.7788,67.981,68.1832,68.3853,68.6883 ,68.8904,69.0926,69.3953,69.5971, 69.7988,70.0003,70.2018,70.5039,70.8061 ,71.0074,71.2085,71.5101,71.7109, 71.9117,72.1125,72.3131,72.5136,72.714, 72.9143,73.1144,73.2411)
FOOTPRINT_POINT_LONGITUDE = (266.193,265.453,264.721,263.998, 263.283,262.576,261.876,262.002,262.127 ,262.249,262.369,262.542,262.655, 262.764,262.871,262.976,263.128,263.227 ,263.324,263.418,263.51,263.601,263.689 ,263.775,263.86,263.942,264.063,264.141 ,264.218,264.293,264.366,264.438, 264.509,264.578,264.645,264.711,264.776 ,264.84,264.933,265.023,265.081,265.167 ,265.223,265.277,265.331,265.383,265.46 ,265.51,265.584,265.631,265.701,265.746 ,266.383,266.938,267.746,268.633, 268.614,268.584,268.564,268.543,268.522 ,268.49,268.468,268.434,268.399,268.364 ,268.327,268.289,268.263,268.237, 268.209,268.182,268.154,268.126,268.096 ,268.066,268.036,268.005,267.957, 267.924,267.892,267.84,267.805,267.769, 267.732,267.694,267.636,267.577,267.536 ,267.494,267.429,267.384,267.338, 267.291,267.244,267.194,267.144,267.092 ,267.039,266.193)
ORBIT_NUMBER = 5412
ORBITAL_ECCENTRICITY = 0.57
ORBITAL_INCLINATION = 86.74
ORBITAL_SEMIMAJOR_AXIS = 8669.59
PERIAPSIS_ALTITUDE = 346.79
PERIAPSIS_ARGUMENT_ANGLE = 126.19
PERIAPSIS_TIME = 2008-03-19T23:43:29.000Z
SPACECRAFT_ORIENTATION = (0.0,-1.0,0.0)
^MEX_ORIENTATION_DESC = "MEX_ORIENTATION_DESC.TXT"
SPACECRAFT_POINTING_MODE = ACROSSTRACK
^MEX_POINTING_DESC = "MEX_POINTING_DESC.TXT"
RIGHT_ASCENSION = -1e+32
DECLINATION = -1e+32
OFFSET_ANGLE = 0.686
SPACECRAFT_SOLAR_DISTANCE = 2.47068e+08
TARGET_NAME = MARS
/* CAMERA DATA ELEMENTS */
DETECTOR_TEMPERATURE = 18.3705
FOCAL_PLANE_TEMPERATURE = 8.1755
INST_CMPRS_NAME = "DISCRETE COSINE TRANSFORMATION (DCT)"
INST_CMPRS_RATIO = 10.6269
INST_CMPRS_QUALITY = 0
INST_CMPRS_QUANTZ_TBL_ID = 0
INSTRUMENT_TEMPERATURE = 11.234
LENS_TEMPERATURE = 8.3794
MACROPIXEL_SIZE = 4
MISSING_FRAMES = 0
PIXEL_SUBSAMPLING_FLAG = N
SIGNAL_CHAIN_ID = 3
/* RADIOMETRIC DATA ELEMENTS */
BANDWIDTH = 177.0
CENTER_FILTER_WAVELENGTH = 676.5
RADIANCE_OFFSET = 2.80517
RADIANCE_SCALING_FACTOR = 0.0345735
REFLECTANCE_SCALING_FACTOR = 0.00111901
MEX:REFLECTANCE_OFFSET = 0.0907921
/* IMAGE OBJECT DEFINITIONS */
OBJECT = IMAGE
  INTERCHANGE_FORMAT = BINARY
  LINES = 12151
  LINE_SAMPLES = 2872
  SAMPLE_TYPE = UNSIGNED_INTEGER
  SAMPLE_BITS = 8
  BANDS = 1
  BAND_STORAGE_TYPE = BAND_SEQUENTIAL
  MAXIMUM = 255
  MEAN = 106.833
  MINIMUM = 1
  STANDARD_DEVIATION = 48.7264
END_OBJECT = IMAGE
/* MAP OBJECT DEFINITIONS */
OBJECT = IMAGE_MAP_PROJECTION
  ^DATA_SET_MAP_PROJECTION_CATALOG= "DSMAP.CAT"
  A_AXIS_RADIUS = 3396.0
  B_AXIS_RADIUS = 3396.0
  C_AXIS_RADIUS = 3396.0
  CENTER_LATITUDE = 0.0
  CENTER_LONGITUDE = 266.0
  COORDINATE_SYSTEM_NAME = PLANETOGRAPHIC
  COORDINATE_SYSTEM_TYPE = "BODY-FIXED ROTATING"
  EASTERNMOST_LONGITUDE = 268.633
  FIRST_STANDARD_PARALLEL = "N/A"
  LINE_FIRST_PIXEL = 1
  LINE_LAST_PIXEL = 12151
  LINE_PROJECTION_OFFSET = 86934.125
  MAP_PROJECTION_ROTATION = 0.0
  MAP_PROJECTION_TYPE = SINUSOIDAL
  MAP_RESOLUTION = 1185.42760773333
  MAP_SCALE = 0.05
  MAXIMUM_LATITUDE = 73.2411
  MINIMUM_LATITUDE = 63.1184
  POSITIVE_LONGITUDE_DIRECTION = EAST
  REFERENCE_LATITUDE = "N/A"
  REFERENCE_LONGITUDE = "N/A"
  SAMPLE_FIRST_PIXEL = 1
  SAMPLE_LAST_PIXEL = 2872
  SAMPLE_PROJECTION_OFFSET = 1477.375
  SECOND_STANDARD_PARALLEL = "N/A"
  WESTERNMOST_LONGITUDE = 261.876
END_OBJECT = IMAGE_MAP_PROJECTION
/* The JPEG2000 image data file associated with this label. */
OBJECT = COMPRESSED_FILE
  FILE_NAME = "H5412_0000_P23.JP2"
  RECORD_TYPE = UNDEFINED
  FILE_RECORDS = UNK
  ENCODING_TYPE = "JP2"
  INTERCHANGE_FORMAT = BINARY
  UNCOMPRESSED_FILE_NAME = "H5412_0000_P23.IMG"
  REQUIRED_STORAGE_BYTES = "34920648"
  ^DESCRIPTION = "JP2INFO.TXT"
END_OBJECT = COMPRESSED_FILE
END
