PDS_VERSION_ID = PDS3
/* FILE DATA ELEMENTS */
RECORD_TYPE = STREAM
/* POINTERS TO DATA OBJECTS */
^COMPRESSED_FILE = "H5413_0000_BL3.JP2"
/* IDENTIFICATION DATA ELEMENTS */
DATA_SET_ID = "MEX-M-HRSC-5-REFDR-MAPPROJECTED-V3.0"
DATA_SET_NAME = "MARS EXPRESS HRSC MAP PROJECTED REFDR V3.0"
DETECTOR_ID = MEX_HRSC_BLUE
EVENT_TYPE = "MARS-REGIONAL-MAPPING-Te-Gl-Pf"
INSTRUMENT_HOST_ID = MEX
INSTRUMENT_HOST_NAME = "MARS EXPRESS"
INSTRUMENT_ID = HRSC
INSTRUMENT_NAME = "HIGH RESOLUTION STEREO CAMERA"
MISSION_NAME = "MARS EXPRESS"
MISSION_PHASE_NAME = ME_Phase_11
PROCESSING_LEVEL_ID = 3
PRODUCT_CREATION_TIME = 2016-05-14T17:13:02.000Z
PRODUCT_ID = "H5413_0000_BL3.JP2"
RELEASE_ID = 0062
REVISION_ID = 0000
/* QUALITY DATA ELEMENTS */
DATA_QUALITY_ID = 1
DATA_QUALITY_DESC = "Data calculated based on original SPICE kernels"
/* TIME DATA ELEMENTS */
SPACECRAFT_CLOCK_START_COUNT = "1/0154074734.09040"
SPACECRAFT_CLOCK_STOP_COUNT = "1/0154075008.09119"
START_TIME = 2008-03-20T06:32:55.689Z
STOP_TIME = 2008-03-20T06:36:21.707Z
/* ORBITAL DATA ELEMENTS */
ASCENDING_NODE_LONGITUDE = 115.62
MAXIMUM_RESOLUTION = 56.2
FOOTPRINT_POINT_LATITUDE = (58.3019,58.2747,58.2438,58.2409, 57.9765,57.712,57.315,57.0503,56.7855, 56.3882,56.1233,55.8584,55.461,55.1959, 54.7983,54.5332,54.2682,53.8705,53.6055 ,53.3404,53.0754,52.8104,52.5453, 52.2803,52.0153,51.7504,51.4856,51.0882 ,50.8234,50.5584,50.1616,49.8962, 49.6322,49.2359,48.9716,48.7076,48.3117 ,47.9158,47.6516,47.3884,47.1249, 46.8616,46.4668,46.0722,45.8094,45.5467 ,45.2841,45.0217,44.9734,44.9908, 44.9999,45.0081,45.2711,45.5344,45.9296 ,46.1933,46.457,46.7211,46.9852,47.2494 ,47.5138,47.7782,48.0429,48.3075, 48.5724,48.8373,49.1024,49.3676,49.6328 ,49.8982,50.1636,50.4291,50.6948, 50.9604,51.2261,51.492,51.7578,52.0237, 52.2898,52.5558,52.8219,53.088,53.3542, 53.6204,54.0197,54.286,54.5523,54.8186, 55.085,55.3513,55.7507,56.0171,56.4166, 56.6829,57.0823,57.4816,57.7478,58.0139 ,58.2799,58.3019)
FOOTPRINT_POINT_LONGITUDE = (166.139,165.472,164.8,164.346,164.4, 164.453,164.531,164.581,164.631,164.703 ,164.75,164.795,164.862,164.906,164.969 ,165.01,165.05,165.109,165.147,165.184, 165.221,165.256,165.291,165.326,165.359 ,165.392,165.424,165.471,165.502, 165.533,165.576,165.609,165.634,165.673 ,165.699,165.723,165.76,165.796,165.821 ,165.842,165.865,165.886,165.917, 165.948,165.968,165.987,166.006,166.024 ,166.471,167.098,167.484,167.84,167.825 ,167.811,167.788,167.773,167.757, 167.742,167.726,167.709,167.693,167.676 ,167.659,167.641,167.624,167.606, 167.588,167.569,167.55,167.531,167.512, 167.492,167.472,167.451,167.43,167.409, 167.388,167.366,167.343,167.321,167.298 ,167.274,167.25,167.226,167.189,167.163 ,167.138,167.111,167.085,167.057, 167.016,166.987,166.944,166.914,166.868 ,166.821,166.789,166.756,166.723, 166.139)
ORBIT_NUMBER = 5413
ORBITAL_ECCENTRICITY = 0.569
ORBITAL_INCLINATION = 86.75
ORBITAL_SEMIMAJOR_AXIS = 8663.71
PERIAPSIS_ALTITUDE = 347.77
PERIAPSIS_ARGUMENT_ANGLE = 126.03
PERIAPSIS_TIME = 2008-03-20T06:33:59.000Z
SPACECRAFT_ORIENTATION = (0.0,-1.0,0.0)
^MEX_ORIENTATION_DESC = "MEX_ORIENTATION_DESC.TXT"
SPACECRAFT_POINTING_MODE = ACROSSTRACK
^MEX_POINTING_DESC = "MEX_POINTING_DESC.TXT"
RIGHT_ASCENSION = -1e+32
DECLINATION = -1e+32
OFFSET_ANGLE = -0.4
SPACECRAFT_SOLAR_DISTANCE = 2.47091e+08
TARGET_NAME = MARS
/* CAMERA DATA ELEMENTS */
DETECTOR_TEMPERATURE = 17.9627
FOCAL_PLANE_TEMPERATURE = 8.5833
INST_CMPRS_NAME = "DISCRETE COSINE TRANSFORMATION (DCT)"
INST_CMPRS_RATIO = 11.7851
INST_CMPRS_QUALITY = 0
INST_CMPRS_QUANTZ_TBL_ID = 0
INSTRUMENT_TEMPERATURE = 11.4379
LENS_TEMPERATURE = 8.9911
MACROPIXEL_SIZE = 4
MISSING_FRAMES = 0
PIXEL_SUBSAMPLING_FLAG = N
SIGNAL_CHAIN_ID = 2
/* RADIOMETRIC DATA ELEMENTS */
BANDWIDTH = 76.0
CENTER_FILTER_WAVELENGTH = 444.0
RADIANCE_OFFSET = 0.57437
RADIANCE_SCALING_FACTOR = 0.00151393
REFLECTANCE_SCALING_FACTOR = 9.49671e-05
MEX:REFLECTANCE_OFFSET = 0.0360296
/* IMAGE OBJECT DEFINITIONS */
OBJECT = IMAGE
  INTERCHANGE_FORMAT = BINARY
  LINES = 15884
  LINE_SAMPLES = 2582
  SAMPLE_TYPE = UNSIGNED_INTEGER
  SAMPLE_BITS = 8
  BANDS = 1
  BAND_STORAGE_TYPE = BAND_SEQUENTIAL
  MAXIMUM = 255
  MEAN = 135.368
  MINIMUM = 1
  STANDARD_DEVIATION = 54.6661
END_OBJECT = IMAGE
/* MAP OBJECT DEFINITIONS */
OBJECT = IMAGE_MAP_PROJECTION
  ^DATA_SET_MAP_PROJECTION_CATALOG= "DSMAP.CAT"
  A_AXIS_RADIUS = 3396.0
  B_AXIS_RADIUS = 3396.0
  C_AXIS_RADIUS = 3396.0
  CENTER_LATITUDE = 0.0
  CENTER_LONGITUDE = 166.0
  COORDINATE_SYSTEM_NAME = PLANETOGRAPHIC
  COORDINATE_SYSTEM_TYPE = "BODY-FIXED ROTATING"
  EASTERNMOST_LONGITUDE = 167.84
  FIRST_STANDARD_PARALLEL = "N/A"
  LINE_FIRST_PIXEL = 1
  LINE_LAST_PIXEL = 15884
  LINE_PROJECTION_OFFSET = 69159.625
  MAP_PROJECTION_ROTATION = 0.0
  MAP_PROJECTION_TYPE = SINUSOIDAL
  MAP_RESOLUTION = 1185.42760773333
  MAP_SCALE = 0.05
  MAXIMUM_LATITUDE = 58.3019
  MINIMUM_LATITUDE = 44.9734
  POSITIVE_LONGITUDE_DIRECTION = EAST
  REFERENCE_LATITUDE = "N/A"
  REFERENCE_LONGITUDE = "N/A"
  SAMPLE_FIRST_PIXEL = 1
  SAMPLE_LAST_PIXEL = 2582
  SAMPLE_PROJECTION_OFFSET = 1034.625
  SECOND_STANDARD_PARALLEL = "N/A"
  WESTERNMOST_LONGITUDE = 164.346
END_OBJECT = IMAGE_MAP_PROJECTION
/* The JPEG2000 image data file associated with this label. */
OBJECT = COMPRESSED_FILE
  FILE_NAME = "H5413_0000_BL3.JP2"
  RECORD_TYPE = UNDEFINED
  FILE_RECORDS = UNK
  ENCODING_TYPE = "JP2"
  INTERCHANGE_FORMAT = BINARY
  UNCOMPRESSED_FILE_NAME = "H5413_0000_BL3.IMG"
  REQUIRED_STORAGE_BYTES = "41033144"
  ^DESCRIPTION = "JP2INFO.TXT"
END_OBJECT = COMPRESSED_FILE
END
