PDS_VERSION_ID = PDS3
/* FILE DATA ELEMENTS */
RECORD_TYPE = STREAM
/* POINTERS TO DATA OBJECTS */
^COMPRESSED_FILE = "H5414_0000_P13.JP2"
/* IDENTIFICATION DATA ELEMENTS */
DATA_SET_ID = "MEX-M-HRSC-5-REFDR-MAPPROJECTED-V3.0"
DATA_SET_NAME = "MARS EXPRESS HRSC MAP PROJECTED REFDR V3.0"
DETECTOR_ID = MEX_HRSC_P1
EVENT_TYPE = "MARS-REGIONAL-MAPPING-Te-Im-Pf"
INSTRUMENT_HOST_ID = MEX
INSTRUMENT_HOST_NAME = "MARS EXPRESS"
INSTRUMENT_ID = HRSC
INSTRUMENT_NAME = "HIGH RESOLUTION STEREO CAMERA"
MISSION_NAME = "MARS EXPRESS"
MISSION_PHASE_NAME = ME_Phase_11
PROCESSING_LEVEL_ID = 3
PRODUCT_CREATION_TIME = 2016-05-14T17:13:02.000Z
PRODUCT_ID = "H5414_0000_P13.JP2"
RELEASE_ID = 0062
REVISION_ID = 0000
/* QUALITY DATA ELEMENTS */
DATA_QUALITY_ID = 1
DATA_QUALITY_DESC = "Data calculated based on original SPICE kernels"
/* TIME DATA ELEMENTS */
SPACECRAFT_CLOCK_START_COUNT = "1/0154099251.08432"
SPACECRAFT_CLOCK_STOP_COUNT = "1/0154099559.39070"
START_TIME = 2008-03-20T13:21:07.392Z
STOP_TIME = 2008-03-20T13:25:09.151Z
/* ORBITAL DATA ELEMENTS */
ASCENDING_NODE_LONGITUDE = 115.6
MAXIMUM_RESOLUTION = 28.6
FOOTPRINT_POINT_LATITUDE = (65.6241,65.6098,65.5939,65.5764, 65.5366,65.2738,64.9285,64.5825,64.2361 ,63.8889,63.5409,63.1924,62.8434,62.494 ,62.1666,61.873,61.5787,61.1372,60.6941 ,60.2502,59.9541,59.6573,59.3605, 58.9145,58.617,58.319,58.0206,57.573, 57.1237,56.6745,56.2246,55.7744,55.4741 ,55.0225,54.7214,54.42,54.1184,53.6655, 53.3634,53.0611,52.6074,52.1532,51.8504 ,51.3959,51.0924,50.6371,50.3335, 50.0298,50.038,50.0497,50.0556,50.0591, 50.3638,50.6681,50.9727,51.2769,51.581, 51.8849,52.189,52.4929,52.7964,53.2512, 53.5549,53.858,54.3126,54.6152,54.9176, 55.2201,55.5223,55.8241,56.1256,56.5777 ,56.8786,57.3295,57.6299,57.9305, 58.2304,58.5299,58.8292,59.2779,59.5767 ,59.8751,60.1732,60.471,60.7685,61.0657 ,61.3625,61.6591,61.9554,62.2512, 62.5806,63.1081,63.4596,63.8107,64.1616 ,64.5118,64.8603,65.2089,65.5571, 65.6241)
FOOTPRINT_POINT_LONGITUDE = (66.8404,66.3523,65.8665,65.3839, 64.4264,64.2181,64.3248,64.4282,64.5284 ,64.6255,64.7195,64.8107,64.8991, 64.9848,65.0625,65.1304,65.1965,65.2926 ,65.3849,65.4738,65.5312,65.5872, 65.6418,65.7211,65.7724,65.8224,65.8711 ,65.942,66.0101,66.0757,66.1389,66.1998 ,66.2392,66.2963,66.3332,66.3691, 66.4042,66.4551,66.4879,66.52,66.5665, 66.6112,66.6401,66.682,66.7089,66.7481, 66.7734,66.798,67.3113,67.9214,68.3884, 68.7147,68.7011,68.6876,68.6733,68.6591 ,68.6445,68.6299,68.6144,68.5986,68.583 ,68.559,68.5417,68.5246,68.498,68.48, 68.4618,68.4426,68.4234,68.4038,68.3841 ,68.3532,68.3324,68.3004,68.2783, 68.2551,68.2319,68.2085,68.1844,68.147, 68.1212,68.0951,68.0685,68.0411,68.0131 ,67.9845,67.9552,67.9252,67.8944, 67.8631,67.8264,67.768,67.7268,67.6841, 67.6395,67.5938,67.5491,67.5019,67.4527 ,66.8404)
ORBIT_NUMBER = 5414
ORBITAL_ECCENTRICITY = 0.57
ORBITAL_INCLINATION = 86.76
ORBITAL_SEMIMAJOR_AXIS = 8669.5
PERIAPSIS_ALTITUDE = 346.69
PERIAPSIS_ARGUMENT_ANGLE = 125.84
PERIAPSIS_TIME = 2008-03-20T13:24:28.000Z
SPACECRAFT_ORIENTATION = (0.0,-1.0,0.0)
^MEX_ORIENTATION_DESC = "MEX_ORIENTATION_DESC.TXT"
SPACECRAFT_POINTING_MODE = ACROSSTRACK
^MEX_POINTING_DESC = "MEX_POINTING_DESC.TXT"
RIGHT_ASCENSION = -1e+32
DECLINATION = -1e+32
OFFSET_ANGLE = 0.35
SPACECRAFT_SOLAR_DISTANCE = 2.47113e+08
TARGET_NAME = MARS
/* CAMERA DATA ELEMENTS */
DETECTOR_TEMPERATURE = 17.5549
FOCAL_PLANE_TEMPERATURE = 8.3794
INST_CMPRS_NAME = "DISCRETE COSINE TRANSFORMATION (DCT)"
INST_CMPRS_RATIO = 17.8765
INST_CMPRS_QUALITY = 0
INST_CMPRS_QUANTZ_TBL_ID = 0
INSTRUMENT_TEMPERATURE = 9.3989
LENS_TEMPERATURE = 9.195
MACROPIXEL_SIZE = 2
MISSING_FRAMES = 0
PIXEL_SUBSAMPLING_FLAG = N
SIGNAL_CHAIN_ID = 3
/* RADIOMETRIC DATA ELEMENTS */
BANDWIDTH = 174.0
CENTER_FILTER_WAVELENGTH = 675.0
RADIANCE_OFFSET = 3.10408
RADIANCE_SCALING_FACTOR = 0.0182593
REFLECTANCE_SCALING_FACTOR = 0.000599736
MEX:REFLECTANCE_OFFSET = 0.101955
/* IMAGE OBJECT DEFINITIONS */
OBJECT = IMAGE
  INTERCHANGE_FORMAT = BINARY
  LINES = 36844
  LINE_SAMPLES = 5344
  SAMPLE_TYPE = UNSIGNED_INTEGER
  SAMPLE_BITS = 8
  BANDS = 1
  BAND_STORAGE_TYPE = BAND_SEQUENTIAL
  MAXIMUM = 255
  MEAN = 80.2724
  MINIMUM = 1
  STANDARD_DEVIATION = 48.5989
END_OBJECT = IMAGE
/* MAP OBJECT DEFINITIONS */
OBJECT = IMAGE_MAP_PROJECTION
  ^DATA_SET_MAP_PROJECTION_CATALOG= "DSMAP.CAT"
  A_AXIS_RADIUS = 3396.0
  B_AXIS_RADIUS = 3396.0
  C_AXIS_RADIUS = 3396.0
  CENTER_LATITUDE = 0.0
  CENTER_LONGITUDE = 67.0
  COORDINATE_SYSTEM_NAME = PLANETOGRAPHIC
  COORDINATE_SYSTEM_TYPE = "BODY-FIXED ROTATING"
  EASTERNMOST_LONGITUDE = 68.71469999999999
  FIRST_STANDARD_PARALLEL = "N/A"
  LINE_FIRST_PIXEL = 1
  LINE_LAST_PIXEL = 36844
  LINE_PROJECTION_OFFSET = 155454.25
  MAP_PROJECTION_ROTATION = 0.0
  MAP_PROJECTION_TYPE = SINUSOIDAL
  MAP_RESOLUTION = 2370.85521546667
  MAP_SCALE = 0.025
  MAXIMUM_LATITUDE = 65.6241
  MINIMUM_LATITUDE = 50.0298
  POSITIVE_LONGITUDE_DIRECTION = EAST
  REFERENCE_LATITUDE = "N/A"
  REFERENCE_LONGITUDE = "N/A"
  SAMPLE_FIRST_PIXEL = 1
  SAMPLE_LAST_PIXEL = 5344
  SAMPLE_PROJECTION_OFFSET = 2739.75
  SECOND_STANDARD_PARALLEL = "N/A"
  WESTERNMOST_LONGITUDE = 64.21810000000001
END_OBJECT = IMAGE_MAP_PROJECTION
/* The JPEG2000 image data file associated with this label. */
OBJECT = COMPRESSED_FILE
  FILE_NAME = "H5414_0000_P13.JP2"
  RECORD_TYPE = UNDEFINED
  FILE_RECORDS = UNK
  ENCODING_TYPE = "JP2"
  INTERCHANGE_FORMAT = BINARY
  UNCOMPRESSED_FILE_NAME = "H5414_0000_P13.IMG"
  REQUIRED_STORAGE_BYTES = "196921056"
  ^DESCRIPTION = "JP2INFO.TXT"
END_OBJECT = COMPRESSED_FILE
END
