PDS_VERSION_ID = PDS3
/* FILE DATA ELEMENTS */
RECORD_TYPE = STREAM
/* POINTERS TO DATA OBJECTS */
^COMPRESSED_FILE = "H5414_0000_RE3.JP2"
/* IDENTIFICATION DATA ELEMENTS */
DATA_SET_ID = "MEX-M-HRSC-5-REFDR-MAPPROJECTED-V3.0"
DATA_SET_NAME = "MARS EXPRESS HRSC MAP PROJECTED REFDR V3.0"
DETECTOR_ID = MEX_HRSC_RED
EVENT_TYPE = "MARS-REGIONAL-MAPPING-Te-Im-Pf"
INSTRUMENT_HOST_ID = MEX
INSTRUMENT_HOST_NAME = "MARS EXPRESS"
INSTRUMENT_ID = HRSC
INSTRUMENT_NAME = "HIGH RESOLUTION STEREO CAMERA"
MISSION_NAME = "MARS EXPRESS"
MISSION_PHASE_NAME = ME_Phase_11
PROCESSING_LEVEL_ID = 3
PRODUCT_CREATION_TIME = 2016-05-14T17:13:02.000Z
PRODUCT_ID = "H5414_0000_RE3.JP2"
RELEASE_ID = 0062
REVISION_ID = 0000
/* QUALITY DATA ELEMENTS */
DATA_QUALITY_ID = 1
DATA_QUALITY_DESC = "Data calculated based on original SPICE kernels"
/* TIME DATA ELEMENTS */
SPACECRAFT_CLOCK_START_COUNT = "1/0154099251.08432"
SPACECRAFT_CLOCK_STOP_COUNT = "1/0154099559.39070"
START_TIME = 2008-03-20T13:21:58.838Z
STOP_TIME = 2008-03-20T13:25:56.072Z
/* ORBITAL DATA ELEMENTS */
ASCENDING_NODE_LONGITUDE = 115.6
MAXIMUM_RESOLUTION = 58.5
FOOTPRINT_POINT_LATITUDE = (65.477,65.4581,65.4392,65.4192,65.3983 ,65.3764,65.3535,65.4379,65.1284, 64.8199,64.5111,64.2021,63.8932,63.5842 ,63.2752,62.966,62.5023,62.193,61.7292, 61.4197,60.9558,60.4924,60.0287,59.5654 ,59.2563,58.7931,58.4841,58.1757, 57.8671,57.4046,57.0965,56.6341,56.1724 ,55.8642,55.5565,55.0956,54.7885, 54.4815,54.1747,53.8682,53.5619,53.2558 ,52.95,52.4912,52.1861,51.8808,51.5757, 51.2712,50.967,50.663,50.3591,50.0557, 50.0419,50.06,50.0704,50.0883,50.0992, 50.556,50.8605,51.1658,51.6241,51.93, 52.2358,52.6954,53.0021,53.3093,53.7698 ,54.0768,54.5388,54.8468,55.1547, 55.4631,55.7717,56.0807,56.3896,56.6989 ,57.1634,57.473,57.9374,58.4026,58.7129 ,59.0231,59.4885,59.9545,60.4206, 60.7315,61.0425,61.3534,61.6644,62.131, 62.5976,63.0649,63.3762,63.6874,63.9979 ,64.3083,64.6205,64.9323,65.2439, 65.477)
FOOTPRINT_POINT_LONGITUDE = (67.2664,66.7883,66.3416,65.8971, 65.4555,65.0166,64.5795,64.2345,64.3292 ,64.4206,64.5093,64.5955,64.6791, 64.7603,64.8392,64.9159,65.0268,65.0982 ,65.2014,65.268,65.3643,65.4564,65.5448 ,65.6295,65.6842,65.7633,65.8143, 65.8638,65.912,65.9818,66.0267,66.092, 66.1546,66.195,66.2343,66.2911,66.3277, 66.3633,66.3979,66.4316,66.4643,66.4961 ,66.527,66.572,66.6008,66.6289,66.6563, 66.6827,66.7084,66.7334,66.7578,66.7813 ,67.1409,67.6094,67.8996,68.4111, 68.7301,68.7084,68.6932,68.6782,68.6547 ,68.6388,68.6222,68.5969,68.5796, 68.5621,68.5345,68.5154,68.4869,68.4671 ,68.4466,68.4258,68.4047,68.3833,68.361 ,68.3385,68.304,68.2801,68.2427,68.2046 ,68.1784,68.1514,68.1094,68.0663, 68.0214,67.9906,67.9591,67.9265,67.8932 ,67.8415,67.7877,67.7323,67.6939, 67.6543,67.6128,67.5701,67.5282,67.4847 ,67.4397,67.2664)
ORBIT_NUMBER = 5414
ORBITAL_ECCENTRICITY = 0.57
ORBITAL_INCLINATION = 86.76
ORBITAL_SEMIMAJOR_AXIS = 8669.5
PERIAPSIS_ALTITUDE = 346.69
PERIAPSIS_ARGUMENT_ANGLE = 125.84
PERIAPSIS_TIME = 2008-03-20T13:24:28.000Z
SPACECRAFT_ORIENTATION = (0.0,-1.0,0.0)
^MEX_ORIENTATION_DESC = "MEX_ORIENTATION_DESC.TXT"
SPACECRAFT_POINTING_MODE = ACROSSTRACK
^MEX_POINTING_DESC = "MEX_POINTING_DESC.TXT"
RIGHT_ASCENSION = -1e+32
DECLINATION = -1e+32
OFFSET_ANGLE = 0.35
SPACECRAFT_SOLAR_DISTANCE = 2.47113e+08
TARGET_NAME = MARS
/* CAMERA DATA ELEMENTS */
DETECTOR_TEMPERATURE = 18.3705
FOCAL_PLANE_TEMPERATURE = 8.3794
INST_CMPRS_NAME = "DISCRETE COSINE TRANSFORMATION (DCT)"
INST_CMPRS_RATIO = 27.8237
INST_CMPRS_QUALITY = 0
INST_CMPRS_QUANTZ_TBL_ID = 0
INSTRUMENT_TEMPERATURE = 9.3989
LENS_TEMPERATURE = 9.195
MACROPIXEL_SIZE = 4
MISSING_FRAMES = 0
PIXEL_SUBSAMPLING_FLAG = N
SIGNAL_CHAIN_ID = 2
/* RADIOMETRIC DATA ELEMENTS */
BANDWIDTH = 48.0
CENTER_FILTER_WAVELENGTH = 748.0
RADIANCE_OFFSET = 0.928771
RADIANCE_SCALING_FACTOR = 0.005691
REFLECTANCE_SCALING_FACTOR = 0.000793059
MEX:REFLECTANCE_OFFSET = 0.129427
/* IMAGE OBJECT DEFINITIONS */
OBJECT = IMAGE
  INTERCHANGE_FORMAT = BINARY
  LINES = 18422
  LINE_SAMPLES = 2672
  SAMPLE_TYPE = UNSIGNED_INTEGER
  SAMPLE_BITS = 8
  BANDS = 1
  BAND_STORAGE_TYPE = BAND_SEQUENTIAL
  MAXIMUM = 255
  MEAN = 81.4601
  MINIMUM = 1
  STANDARD_DEVIATION = 53.9932
END_OBJECT = IMAGE
/* MAP OBJECT DEFINITIONS */
OBJECT = IMAGE_MAP_PROJECTION
  ^DATA_SET_MAP_PROJECTION_CATALOG= "DSMAP.CAT"
  A_AXIS_RADIUS = 3396.0
  B_AXIS_RADIUS = 3396.0
  C_AXIS_RADIUS = 3396.0
  CENTER_LATITUDE = 0.0
  CENTER_LONGITUDE = 67.0
  COORDINATE_SYSTEM_NAME = PLANETOGRAPHIC
  COORDINATE_SYSTEM_TYPE = "BODY-FIXED ROTATING"
  EASTERNMOST_LONGITUDE = 68.73009999999999
  FIRST_STANDARD_PARALLEL = "N/A"
  LINE_FIRST_PIXEL = 1
  LINE_LAST_PIXEL = 18422
  LINE_PROJECTION_OFFSET = 77726.875
  MAP_PROJECTION_ROTATION = 0.0
  MAP_PROJECTION_TYPE = SINUSOIDAL
  MAP_RESOLUTION = 1185.42760773333
  MAP_SCALE = 0.05
  MAXIMUM_LATITUDE = 65.477
  MINIMUM_LATITUDE = 50.0419
  POSITIVE_LONGITUDE_DIRECTION = EAST
  REFERENCE_LATITUDE = "N/A"
  REFERENCE_LONGITUDE = "N/A"
  SAMPLE_FIRST_PIXEL = 1
  SAMPLE_LAST_PIXEL = 2672
  SAMPLE_PROJECTION_OFFSET = 1369.625
  SECOND_STANDARD_PARALLEL = "N/A"
  WESTERNMOST_LONGITUDE = 64.2345
END_OBJECT = IMAGE_MAP_PROJECTION
/* The JPEG2000 image data file associated with this label. */
OBJECT = COMPRESSED_FILE
  FILE_NAME = "H5414_0000_RE3.JP2"
  RECORD_TYPE = UNDEFINED
  FILE_RECORDS = UNK
  ENCODING_TYPE = "JP2"
  INTERCHANGE_FORMAT = BINARY
  UNCOMPRESSED_FILE_NAME = "H5414_0000_RE3.IMG"
  REQUIRED_STORAGE_BYTES = "49244960"
  ^DESCRIPTION = "JP2INFO.TXT"
END_OBJECT = COMPRESSED_FILE
END
