PDS_VERSION_ID = PDS3
/* FILE DATA ELEMENTS */
RECORD_TYPE = STREAM
/* POINTERS TO DATA OBJECTS */
^COMPRESSED_FILE = "H5415_0000_RE3.JP2"
/* IDENTIFICATION DATA ELEMENTS */
DATA_SET_ID = "MEX-M-HRSC-5-REFDR-MAPPROJECTED-V3.0"
DATA_SET_NAME = "MARS EXPRESS HRSC MAP PROJECTED REFDR V3.0"
DETECTOR_ID = MEX_HRSC_RED
EVENT_TYPE = "MARS-REGIONAL-MAPPING-Te-Im-Pf"
INSTRUMENT_HOST_ID = MEX
INSTRUMENT_HOST_NAME = "MARS EXPRESS"
INSTRUMENT_ID = HRSC
INSTRUMENT_NAME = "HIGH RESOLUTION STEREO CAMERA"
MISSION_NAME = "MARS EXPRESS"
MISSION_PHASE_NAME = ME_Phase_11
PROCESSING_LEVEL_ID = 3
PRODUCT_CREATION_TIME = 2016-05-14T17:13:02.000Z
PRODUCT_ID = "H5415_0000_RE3.JP2"
RELEASE_ID = 0062
REVISION_ID = 0000
/* QUALITY DATA ELEMENTS */
DATA_QUALITY_ID = 1
DATA_QUALITY_DESC = "Data calculated based on original SPICE kernels"
/* TIME DATA ELEMENTS */
SPACECRAFT_CLOCK_START_COUNT = "1/0154123900.08252"
SPACECRAFT_CLOCK_STOP_COUNT = "1/0154124175.06042"
START_TIME = 2008-03-20T20:12:46.715Z
STOP_TIME = 2008-03-20T20:16:11.568Z
/* ORBITAL DATA ELEMENTS */
ASCENDING_NODE_LONGITUDE = 115.59
MAXIMUM_RESOLUTION = 58.9
FOOTPRINT_POINT_LATITUDE = (64.4158,64.3973,64.3777,64.3573,64.314 ,64.1316,63.8655,63.5995,63.2004, 62.9343,62.5351,62.2688,62.0027,61.7366 ,61.3374,61.0713,60.8053,60.4061, 60.1399,59.7411,59.4751,59.2094,58.9434 ,58.6777,58.2793,57.881,57.6157,57.3504 ,56.9525,56.6873,56.4224,56.1573, 55.8927,55.6283,55.3636,55.0992,54.8349 ,54.5708,54.3067,54.0429,53.6474, 53.3841,52.989,52.726,52.4633,52.2007, 51.9382,51.6759,51.4138,51.1518,51.1053 ,51.138,51.1523,51.1663,51.4289,51.6919 ,51.9547,52.2178,52.4812,52.7448, 53.0086,53.2721,53.5363,53.9332,54.3302 ,54.7275,54.9924,55.2579,55.5231, 55.7887,56.0543,56.32,56.5859,56.985, 57.2511,57.6509,57.9174,58.1837,58.4503 ,58.8507,59.1176,59.5187,59.7859, 60.1863,60.4538,60.7212,60.9886,61.2562 ,61.5238,61.7917,62.0589,62.3264, 62.5941,62.862,63.1298,63.3975,63.7991, 64.2009,64.4688,64.4158)
FOOTPRINT_POINT_LONGITUDE = (327.682,327.25,326.821,326.397,325.558 ,325.179,325.244,325.308,325.401, 325.461,325.548,325.605,325.66,325.713, 325.791,325.842,325.891,325.962,326.008 ,326.076,326.119,326.161,326.203, 326.243,326.302,326.359,326.395,326.431 ,326.483,326.516,326.549,326.581, 326.613,326.643,326.673,326.702,326.73, 326.758,326.785,326.811,326.849,326.874 ,326.91,326.933,326.956,326.978,326.999 ,327.02,327.041,327.06,327.618,328.367, 328.729,329.081,329.07,329.06,329.049, 329.037,329.026,329.014,329.002,328.989 ,328.977,328.958,328.939,328.918, 328.904,328.89,328.876,328.861,328.846, 328.831,328.815,328.791,328.774,328.749 ,328.732,328.714,328.695,328.667, 328.648,328.619,328.599,328.567,328.546 ,328.524,328.502,328.479,328.456, 328.432,328.407,328.382,328.356,328.33, 328.303,328.275,328.233,328.189,328.158 ,327.682)
ORBIT_NUMBER = 5415
ORBITAL_ECCENTRICITY = 0.569
ORBITAL_INCLINATION = 86.76
ORBITAL_SEMIMAJOR_AXIS = 8662.64
PERIAPSIS_ALTITUDE = 347.47
PERIAPSIS_ARGUMENT_ANGLE = 125.67
PERIAPSIS_TIME = 2008-03-20T20:14:56.000Z
SPACECRAFT_ORIENTATION = (0.0,-1.0,0.0)
^MEX_ORIENTATION_DESC = "MEX_ORIENTATION_DESC.TXT"
SPACECRAFT_POINTING_MODE = ACROSSTRACK
^MEX_POINTING_DESC = "MEX_POINTING_DESC.TXT"
RIGHT_ASCENSION = -1e+32
DECLINATION = -1e+32
OFFSET_ANGLE = 0.6
SPACECRAFT_SOLAR_DISTANCE = 2.47135e+08
TARGET_NAME = MARS
/* CAMERA DATA ELEMENTS */
DETECTOR_TEMPERATURE = 18.3705
FOCAL_PLANE_TEMPERATURE = 8.1755
INST_CMPRS_NAME = "DISCRETE COSINE TRANSFORMATION (DCT)"
INST_CMPRS_RATIO = 32.2348
INST_CMPRS_QUALITY = 0
INST_CMPRS_QUANTZ_TBL_ID = 0
INSTRUMENT_TEMPERATURE = 11.0301
LENS_TEMPERATURE = 7.3599
MACROPIXEL_SIZE = 4
MISSING_FRAMES = 0
PIXEL_SUBSAMPLING_FLAG = N
SIGNAL_CHAIN_ID = 2
/* RADIOMETRIC DATA ELEMENTS */
BANDWIDTH = 48.0
CENTER_FILTER_WAVELENGTH = 748.0
RADIANCE_OFFSET = 0.773976
RADIANCE_SCALING_FACTOR = 0.00220052
REFLECTANCE_SCALING_FACTOR = 0.000306704
MEX:REFLECTANCE_OFFSET = 0.107875
/* IMAGE OBJECT DEFINITIONS */
OBJECT = IMAGE
  INTERCHANGE_FORMAT = BINARY
  LINES = 15908
  LINE_SAMPLES = 2299
  SAMPLE_TYPE = UNSIGNED_INTEGER
  SAMPLE_BITS = 8
  BANDS = 1
  BAND_STORAGE_TYPE = BAND_SEQUENTIAL
  MAXIMUM = 255
  MEAN = 77.6783
  MINIMUM = 1
  STANDARD_DEVIATION = 24.5025
END_OBJECT = IMAGE
/* MAP OBJECT DEFINITIONS */
OBJECT = IMAGE_MAP_PROJECTION
  ^DATA_SET_MAP_PROJECTION_CATALOG= "DSMAP.CAT"
  A_AXIS_RADIUS = 3396.0
  B_AXIS_RADIUS = 3396.0
  C_AXIS_RADIUS = 3396.0
  CENTER_LATITUDE = 0.0
  CENTER_LONGITUDE = 328.0
  COORDINATE_SYSTEM_NAME = PLANETOGRAPHIC
  COORDINATE_SYSTEM_TYPE = "BODY-FIXED ROTATING"
  EASTERNMOST_LONGITUDE = 329.081
  FIRST_STANDARD_PARALLEL = "N/A"
  LINE_FIRST_PIXEL = 1
  LINE_LAST_PIXEL = 15908
  LINE_PROJECTION_OFFSET = 76464.625
  MAP_PROJECTION_ROTATION = 0.0
  MAP_PROJECTION_TYPE = SINUSOIDAL
  MAP_RESOLUTION = 1185.42760773333
  MAP_SCALE = 0.05
  MAXIMUM_LATITUDE = 64.4688
  MINIMUM_LATITUDE = 51.1053
  POSITIVE_LONGITUDE_DIRECTION = EAST
  REFERENCE_LATITUDE = "N/A"
  REFERENCE_LONGITUDE = "N/A"
  SAMPLE_FIRST_PIXEL = 1
  SAMPLE_LAST_PIXEL = 2299
  SAMPLE_PROJECTION_OFFSET = 1498.625
  SECOND_STANDARD_PARALLEL = "N/A"
  WESTERNMOST_LONGITUDE = 325.179
END_OBJECT = IMAGE_MAP_PROJECTION
/* The JPEG2000 image data file associated with this label. */
OBJECT = COMPRESSED_FILE
  FILE_NAME = "H5415_0000_RE3.JP2"
  RECORD_TYPE = UNDEFINED
  FILE_RECORDS = UNK
  ENCODING_TYPE = "JP2"
  INTERCHANGE_FORMAT = BINARY
  UNCOMPRESSED_FILE_NAME = "H5415_0000_RE3.IMG"
  REQUIRED_STORAGE_BYTES = "36595482"
  ^DESCRIPTION = "JP2INFO.TXT"
END_OBJECT = COMPRESSED_FILE
END
