PDS_VERSION_ID = PDS3
/* FILE DATA ELEMENTS */
RECORD_TYPE = STREAM
/* POINTERS TO DATA OBJECTS */
^COMPRESSED_FILE = "H5415_0000_S23.JP2"
/* IDENTIFICATION DATA ELEMENTS */
DATA_SET_ID = "MEX-M-HRSC-5-REFDR-MAPPROJECTED-V3.0"
DATA_SET_NAME = "MARS EXPRESS HRSC MAP PROJECTED REFDR V3.0"
DETECTOR_ID = MEX_HRSC_S2
EVENT_TYPE = "MARS-REGIONAL-MAPPING-Te-Im-Pf"
INSTRUMENT_HOST_ID = MEX
INSTRUMENT_HOST_NAME = "MARS EXPRESS"
INSTRUMENT_ID = HRSC
INSTRUMENT_NAME = "HIGH RESOLUTION STEREO CAMERA"
MISSION_NAME = "MARS EXPRESS"
MISSION_PHASE_NAME = ME_Phase_11
PROCESSING_LEVEL_ID = 3
PRODUCT_CREATION_TIME = 2016-05-14T17:13:02.000Z
PRODUCT_ID = "H5415_0000_S23.JP2"
RELEASE_ID = 0062
REVISION_ID = 0000
/* QUALITY DATA ELEMENTS */
DATA_QUALITY_ID = 1
DATA_QUALITY_DESC = "Data calculated based on original SPICE kernels"
/* TIME DATA ELEMENTS */
SPACECRAFT_CLOCK_START_COUNT = "1/0154123900.08252"
SPACECRAFT_CLOCK_STOP_COUNT = "1/0154124175.06042"
START_TIME = 2008-03-20T20:12:52.379Z
STOP_TIME = 2008-03-20T20:16:16.869Z
/* ORBITAL DATA ELEMENTS */
ASCENDING_NODE_LONGITUDE = 115.59
MAXIMUM_RESOLUTION = 30
FOOTPRINT_POINT_LATITUDE = (64.4125,64.3835,64.3398,64.2928, 64.1292,63.8612,63.5936,63.3257,63.058, 62.7903,62.5227,62.2546,61.987,61.7194, 61.3179,61.0505,60.7831,60.3819,60.1143 ,59.7137,59.4466,59.1797,58.9125, 58.6458,58.2458,57.9793,57.7128,57.4467 ,57.1804,56.9144,56.6483,56.3827, 56.1167,55.8516,55.5864,55.1886,54.7911 ,54.5264,54.1296,53.7336,53.4698, 53.2058,52.9422,52.679,52.416,52.1533, 51.8907,51.6282,51.3661,51.104,51.1304, 51.1463,51.1608,51.1767,51.1924,51.4553 ,51.7183,51.9812,52.2446,52.5084, 52.7721,53.0361,53.2999,53.5645,53.8298 ,54.0947,54.36,54.758,55.1563,55.4223, 55.6884,55.9548,56.2211,56.6211,57.0214 ,57.2884,57.5557,57.8234,58.0907, 58.3582,58.6259,58.8939,59.162,59.4304, 59.8334,60.1015,60.3701,60.6388,60.9077 ,61.1766,61.4456,61.7149,62.1182, 62.3873,62.7914,63.0609,63.3302,63.7344 ,64.0038,64.4125)
FOOTPRINT_POINT_LONGITUDE = (327.991,327.342,326.454,325.582,325.18 ,325.246,325.31,325.372,325.433,325.493 ,325.551,325.607,325.662,325.716, 325.794,325.844,325.893,325.965,326.011 ,326.078,326.122,326.164,326.205, 326.245,326.304,326.342,326.379,326.415 ,326.45,326.484,326.518,326.551,326.583 ,326.614,326.644,326.688,326.731, 326.758,326.798,326.837,326.861,326.886 ,326.909,326.932,326.955,326.977, 326.998,327.019,327.039,327.059,327.715 ,328.047,328.363,328.721,329.09,329.08, 329.069,329.057,329.046,329.034,329.023 ,329.01,328.998,328.985,328.973,328.96, 328.947,328.926,328.905,328.89,328.876, 328.861,328.845,328.822,328.797,328.781 ,328.764,328.747,328.729,328.71,328.692 ,328.673,328.653,328.634,328.604, 328.582,328.561,328.539,328.517,328.494 ,328.471,328.447,328.41,328.384,328.345 ,328.318,328.29,328.248,328.218, 327.991)
ORBIT_NUMBER = 5415
ORBITAL_ECCENTRICITY = 0.569
ORBITAL_INCLINATION = 86.76
ORBITAL_SEMIMAJOR_AXIS = 8662.64
PERIAPSIS_ALTITUDE = 347.47
PERIAPSIS_ARGUMENT_ANGLE = 125.67
PERIAPSIS_TIME = 2008-03-20T20:14:56.000Z
SPACECRAFT_ORIENTATION = (0.0,-1.0,0.0)
^MEX_ORIENTATION_DESC = "MEX_ORIENTATION_DESC.TXT"
SPACECRAFT_POINTING_MODE = ACROSSTRACK
^MEX_POINTING_DESC = "MEX_POINTING_DESC.TXT"
RIGHT_ASCENSION = -1e+32
DECLINATION = -1e+32
OFFSET_ANGLE = 0.6
SPACECRAFT_SOLAR_DISTANCE = 2.47135e+08
TARGET_NAME = MARS
/* CAMERA DATA ELEMENTS */
DETECTOR_TEMPERATURE = 18.3705
FOCAL_PLANE_TEMPERATURE = 8.1755
INST_CMPRS_NAME = "DISCRETE COSINE TRANSFORMATION (DCT)"
INST_CMPRS_RATIO = 14.6223
INST_CMPRS_QUALITY = 0
INST_CMPRS_QUANTZ_TBL_ID = 0
INSTRUMENT_TEMPERATURE = 11.0301
LENS_TEMPERATURE = 7.3599
MACROPIXEL_SIZE = 2
MISSING_FRAMES = 0
PIXEL_SUBSAMPLING_FLAG = N
SIGNAL_CHAIN_ID = 1
/* RADIOMETRIC DATA ELEMENTS */
BANDWIDTH = 178.0
CENTER_FILTER_WAVELENGTH = 679.0
RADIANCE_OFFSET = 3.02444
RADIANCE_SCALING_FACTOR = 0.00835629
REFLECTANCE_SCALING_FACTOR = 0.000270277
MEX:REFLECTANCE_OFFSET = 0.097823
/* IMAGE OBJECT DEFINITIONS */
OBJECT = IMAGE
  INTERCHANGE_FORMAT = BINARY
  LINES = 31816
  LINE_SAMPLES = 4597
  SAMPLE_TYPE = UNSIGNED_INTEGER
  SAMPLE_BITS = 8
  BANDS = 1
  BAND_STORAGE_TYPE = BAND_SEQUENTIAL
  MAXIMUM = 255
  MEAN = 89.4183
  MINIMUM = 1
  STANDARD_DEVIATION = 24.1364
END_OBJECT = IMAGE
/* MAP OBJECT DEFINITIONS */
OBJECT = IMAGE_MAP_PROJECTION
  ^DATA_SET_MAP_PROJECTION_CATALOG= "DSMAP.CAT"
  A_AXIS_RADIUS = 3396.0
  B_AXIS_RADIUS = 3396.0
  C_AXIS_RADIUS = 3396.0
  CENTER_LATITUDE = 0.0
  CENTER_LONGITUDE = 328.0
  COORDINATE_SYSTEM_NAME = PLANETOGRAPHIC
  COORDINATE_SYSTEM_TYPE = "BODY-FIXED ROTATING"
  EASTERNMOST_LONGITUDE = 329.09
  FIRST_STANDARD_PARALLEL = "N/A"
  LINE_FIRST_PIXEL = 1
  LINE_LAST_PIXEL = 31816
  LINE_PROJECTION_OFFSET = 152929.75
  MAP_PROJECTION_ROTATION = 0.0
  MAP_PROJECTION_TYPE = SINUSOIDAL
  MAP_RESOLUTION = 2370.85521546667
  MAP_SCALE = 0.025
  MAXIMUM_LATITUDE = 64.41249999999999
  MINIMUM_LATITUDE = 51.104
  POSITIVE_LONGITUDE_DIRECTION = EAST
  REFERENCE_LATITUDE = "N/A"
  REFERENCE_LONGITUDE = "N/A"
  SAMPLE_FIRST_PIXEL = 1
  SAMPLE_LAST_PIXEL = 4597
  SAMPLE_PROJECTION_OFFSET = 2997.75
  SECOND_STANDARD_PARALLEL = "N/A"
  WESTERNMOST_LONGITUDE = 325.18
END_OBJECT = IMAGE_MAP_PROJECTION
/* The JPEG2000 image data file associated with this label. */
OBJECT = COMPRESSED_FILE
  FILE_NAME = "H5415_0000_S23.JP2"
  RECORD_TYPE = UNDEFINED
  FILE_RECORDS = UNK
  ENCODING_TYPE = "JP2"
  INTERCHANGE_FORMAT = BINARY
  UNCOMPRESSED_FILE_NAME = "H5415_0000_S23.IMG"
  REQUIRED_STORAGE_BYTES = "146285734"
  ^DESCRIPTION = "JP2INFO.TXT"
END_OBJECT = COMPRESSED_FILE
END
