PDS_VERSION_ID = PDS3
/* FILE DATA ELEMENTS */
RECORD_TYPE = STREAM
/* POINTERS TO DATA OBJECTS */
^COMPRESSED_FILE = "H5416_0000_BL3.JP2"
/* IDENTIFICATION DATA ELEMENTS */
DATA_SET_ID = "MEX-M-HRSC-5-REFDR-MAPPROJECTED-V3.0"
DATA_SET_NAME = "MARS EXPRESS HRSC MAP PROJECTED REFDR V3.0"
DETECTOR_ID = MEX_HRSC_BLUE
EVENT_TYPE = "MARS-REGIONAL-MAPPING-Te-Im-Pf"
INSTRUMENT_HOST_ID = MEX
INSTRUMENT_HOST_NAME = "MARS EXPRESS"
INSTRUMENT_ID = HRSC
INSTRUMENT_NAME = "HIGH RESOLUTION STEREO CAMERA"
MISSION_NAME = "MARS EXPRESS"
MISSION_PHASE_NAME = ME_Phase_11
PROCESSING_LEVEL_ID = 3
PRODUCT_CREATION_TIME = 2016-05-14T17:13:02.000Z
PRODUCT_ID = "H5416_0000_BL3.JP2"
RELEASE_ID = 0062
REVISION_ID = 0000
/* QUALITY DATA ELEMENTS */
DATA_QUALITY_ID = 1
DATA_QUALITY_DESC = "Data calculated based on original SPICE kernels"
/* TIME DATA ELEMENTS */
SPACECRAFT_CLOCK_START_COUNT = "1/0154148466.09058"
SPACECRAFT_CLOCK_STOP_COUNT = "1/0154148748.08523"
START_TIME = 2008-03-21T03:01:53.740Z
STOP_TIME = 2008-03-21T03:05:23.706Z
/* ORBITAL DATA ELEMENTS */
ASCENDING_NODE_LONGITUDE = 115.56
MAXIMUM_RESOLUTION = 55.8
FOOTPRINT_POINT_LATITUDE = (68.2798,68.2314,68.1765,68.1269,67.827 ,67.5268,67.226,66.9249,66.6236,66.3218 ,66.0196,65.7171,65.4143,65.1111, 64.8076,64.5039,64.2179,63.7078,63.1969 ,62.9412,62.6854,62.4293,62.1732, 61.9168,61.6604,61.4038,61.147,60.8902, 60.6331,60.376,60.1188,59.8615,59.604, 59.3465,59.0889,58.8312,58.5734,58.3155 ,58.0576,57.7996,57.4125,57.1544, 56.8962,56.638,56.3797,56.1214,55.863, 55.4755,55.2171,54.9587,54.7003,54.7032 ,54.7339,54.7523,55.0119,55.2715,55.661 ,55.9206,56.1802,56.4399,56.8293, 57.0889,57.3485,57.608,57.8675,58.127, 58.5162,58.7756,59.035,59.2943,59.5536, 59.9424,60.2015,60.4606,60.7196,60.9785 ,61.2373,61.496,61.7546,62.0131,62.2716 ,62.5298,62.788,63.1753,63.4332,63.691, 63.9487,64.335,64.6185,64.9254,65.2321, 65.5387,65.8451,66.1511,66.4569,66.7625 ,67.0679,67.3729,67.8301,68.2798)
FOOTPRINT_POINT_LONGITUDE = (224.382,223.353,222.321,221.108, 221.257,221.402,221.543,221.68,221.812, 221.941,222.065,222.187,222.305,222.42, 222.532,222.641,222.74,222.911,223.075, 223.154,223.231,223.307,223.38,223.453, 223.523,223.592,223.66,223.726,223.791, 223.854,223.916,223.977,224.036,224.095 ,224.151,224.207,224.261,224.315, 224.367,224.418,224.493,224.541,224.588 ,224.635,224.68,224.725,224.768,224.832 ,224.874,224.914,224.954,225.691, 226.516,227.068,227.043,227.017,226.977 ,226.95,226.923,226.895,226.852,226.823 ,226.793,226.763,226.732,226.7,226.652, 226.619,226.585,226.551,226.516,226.463 ,226.426,226.389,226.351,226.312, 226.272,226.232,226.191,226.149,226.106 ,226.062,226.017,225.949,225.902, 225.854,225.804,225.729,225.672,225.608 ,225.543,225.476,225.408,225.337, 225.265,225.19,225.114,225.035,224.913, 224.382)
ORBIT_NUMBER = 5416
ORBITAL_ECCENTRICITY = 0.57
ORBITAL_INCLINATION = 86.76
ORBITAL_SEMIMAJOR_AXIS = 8665.17
PERIAPSIS_ALTITUDE = 346.8
PERIAPSIS_ARGUMENT_ANGLE = 125.47
PERIAPSIS_TIME = 2008-03-21T03:05:23.000Z
SPACECRAFT_ORIENTATION = (0.0,-1.0,0.0)
^MEX_ORIENTATION_DESC = "MEX_ORIENTATION_DESC.TXT"
SPACECRAFT_POINTING_MODE = ACROSSTRACK
^MEX_POINTING_DESC = "MEX_POINTING_DESC.TXT"
RIGHT_ASCENSION = -1e+32
DECLINATION = -1e+32
OFFSET_ANGLE = -0.35
SPACECRAFT_SOLAR_DISTANCE = 2.47157e+08
TARGET_NAME = MARS
/* CAMERA DATA ELEMENTS */
DETECTOR_TEMPERATURE = 17.5549
FOCAL_PLANE_TEMPERATURE = 7.7677
INST_CMPRS_NAME = "DISCRETE COSINE TRANSFORMATION (DCT)"
INST_CMPRS_RATIO = 12.0494
INST_CMPRS_QUALITY = 0
INST_CMPRS_QUANTZ_TBL_ID = 0
INSTRUMENT_TEMPERATURE = 11.0301
LENS_TEMPERATURE = 8.3794
MACROPIXEL_SIZE = 4
MISSING_FRAMES = 0
PIXEL_SUBSAMPLING_FLAG = N
SIGNAL_CHAIN_ID = 2
/* RADIOMETRIC DATA ELEMENTS */
BANDWIDTH = 76.0
CENTER_FILTER_WAVELENGTH = 444.0
RADIANCE_OFFSET = 0.552241
RADIANCE_SCALING_FACTOR = 0.0022894
REFLECTANCE_SCALING_FACTOR = 0.000143689
MEX:REFLECTANCE_OFFSET = 0.0346601
/* IMAGE OBJECT DEFINITIONS */
OBJECT = IMAGE
  INTERCHANGE_FORMAT = BINARY
  LINES = 16199
  LINE_SAMPLES = 3120
  SAMPLE_TYPE = UNSIGNED_INTEGER
  SAMPLE_BITS = 8
  BANDS = 1
  BAND_STORAGE_TYPE = BAND_SEQUENTIAL
  MAXIMUM = 255
  MEAN = 46.1541
  MINIMUM = 1
  STANDARD_DEVIATION = 15.6154
END_OBJECT = IMAGE
/* MAP OBJECT DEFINITIONS */
OBJECT = IMAGE_MAP_PROJECTION
  ^DATA_SET_MAP_PROJECTION_CATALOG= "DSMAP.CAT"
  A_AXIS_RADIUS = 3396.0
  B_AXIS_RADIUS = 3396.0
  C_AXIS_RADIUS = 3396.0
  CENTER_LATITUDE = 0.0
  CENTER_LONGITUDE = 225.0
  COORDINATE_SYSTEM_NAME = PLANETOGRAPHIC
  COORDINATE_SYSTEM_TYPE = "BODY-FIXED ROTATING"
  EASTERNMOST_LONGITUDE = 227.068
  FIRST_STANDARD_PARALLEL = "N/A"
  LINE_FIRST_PIXEL = 1
  LINE_LAST_PIXEL = 16199
  LINE_PROJECTION_OFFSET = 80995.125
  MAP_PROJECTION_ROTATION = 0.0
  MAP_PROJECTION_TYPE = SINUSOIDAL
  MAP_RESOLUTION = 1185.42760773333
  MAP_SCALE = 0.05
  MAXIMUM_LATITUDE = 68.27979999999999
  MINIMUM_LATITUDE = 54.7003
  POSITIVE_LONGITUDE_DIRECTION = EAST
  REFERENCE_LATITUDE = "N/A"
  REFERENCE_LONGITUDE = "N/A"
  SAMPLE_FIRST_PIXEL = 1
  SAMPLE_LAST_PIXEL = 3120
  SAMPLE_PROJECTION_OFFSET = 1716.625
  SECOND_STANDARD_PARALLEL = "N/A"
  WESTERNMOST_LONGITUDE = 221.108
END_OBJECT = IMAGE_MAP_PROJECTION
/* The JPEG2000 image data file associated with this label. */
OBJECT = COMPRESSED_FILE
  FILE_NAME = "H5416_0000_BL3.JP2"
  RECORD_TYPE = UNDEFINED
  FILE_RECORDS = UNK
  ENCODING_TYPE = "JP2"
  INTERCHANGE_FORMAT = BINARY
  UNCOMPRESSED_FILE_NAME = "H5416_0000_BL3.IMG"
  REQUIRED_STORAGE_BYTES = "50562720"
  ^DESCRIPTION = "JP2INFO.TXT"
END_OBJECT = COMPRESSED_FILE
END
