PDS_VERSION_ID = PDS3
/* FILE DATA ELEMENTS */
RECORD_TYPE = STREAM
/* POINTERS TO DATA OBJECTS */
^COMPRESSED_FILE = "H5419_0000_BL3.JP2"
/* IDENTIFICATION DATA ELEMENTS */
DATA_SET_ID = "MEX-M-HRSC-5-REFDR-MAPPROJECTED-V3.0"
DATA_SET_NAME = "MARS EXPRESS HRSC MAP PROJECTED REFDR V3.0"
DETECTOR_ID = MEX_HRSC_BLUE
EVENT_TYPE = "MARS-REGIONAL-MAPPING-Te-Im-Pf"
INSTRUMENT_HOST_ID = MEX
INSTRUMENT_HOST_NAME = "MARS EXPRESS"
INSTRUMENT_ID = HRSC
INSTRUMENT_NAME = "HIGH RESOLUTION STEREO CAMERA"
MISSION_NAME = "MARS EXPRESS"
MISSION_PHASE_NAME = ME_Phase_11
PROCESSING_LEVEL_ID = 3
PRODUCT_CREATION_TIME = 2016-05-14T17:13:02.000Z
PRODUCT_ID = "H5419_0000_BL3.JP2"
RELEASE_ID = 0062
REVISION_ID = 0000
/* QUALITY DATA ELEMENTS */
DATA_QUALITY_ID = 1
DATA_QUALITY_DESC = "Data calculated based on original SPICE kernels"
/* TIME DATA ELEMENTS */
SPACECRAFT_CLOCK_START_COUNT = "1/0154222399.08392"
SPACECRAFT_CLOCK_STOP_COUNT = "1/0154222658.48162"
START_TIME = 2008-03-21T23:34:04.876Z
STOP_TIME = 2008-03-21T23:37:14.098Z
/* ORBITAL DATA ELEMENTS */
ASCENDING_NODE_LONGITUDE = 115.51
MAXIMUM_RESOLUTION = 56.1
FOOTPRINT_POINT_LATITUDE = (66.7627,66.7299,66.7036,66.6582, 66.6521,66.3731,66.0939,65.8145,65.3947 ,65.1146,64.7063,64.4712,64.2359, 64.0004,63.7649,63.5291,63.2932,63.0572 ,62.8211,62.5849,62.3485,62.112,61.8754 ,61.6387,61.4019,61.165,60.928,60.5723, 60.3351,59.9791,59.7417,59.3854,59.029, 58.7914,58.4347,58.197,57.9591,57.7212, 57.4833,57.1263,56.7693,56.4122,56.1741 ,55.8171,55.579,55.3409,55.1027,54.8646 ,54.5075,54.4848,54.5063,54.5195, 54.5381,54.6664,54.9054,55.2641,55.5032 ,55.7423,56.101,56.3402,56.6989,56.9381 ,57.1773,57.536,57.8947,58.1338,58.3729 ,58.7315,59.09,59.329,59.5679,59.8068, 60.1651,60.4039,60.6427,60.8814,61.12, 61.3586,61.5971,61.8355,62.0739,62.3122 ,62.5504,62.7886,63.0266,63.2646, 63.5025,63.7403,63.9779,64.2155,64.5717 ,64.809,65.073,65.356,65.6387,65.9213, 66.2038,66.486,66.7681,66.7627)
FOOTPRINT_POINT_LONGITUDE = (285.251,284.483,283.923,283.042, 282.522,282.631,282.736,282.839,282.988 ,283.085,283.22,283.296,283.37,283.442, 283.513,283.583,283.651,283.717,283.783 ,283.846,283.909,283.97,284.03,284.089, 284.146,284.202,284.257,284.338,284.39, 284.467,284.517,284.59,284.66,284.706, 284.773,284.817,284.86,284.901,284.943, 285.003,285.061,285.118,285.154,285.208 ,285.243,285.277,285.311,285.344, 285.392,285.708,286.255,286.627,287.215 ,287.486,287.467,287.437,287.417, 287.396,287.364,287.342,287.309,287.287 ,287.264,287.229,287.193,287.168, 287.143,287.105,287.066,287.039,287.012 ,286.984,286.941,286.912,286.883, 286.852,286.822,286.791,286.759,286.726 ,286.693,286.659,286.625,286.59,286.554 ,286.518,286.481,286.443,286.404, 286.365,286.304,286.263,286.215,286.164 ,286.11,286.056,286.0,285.943,285.884, 285.251)
ORBIT_NUMBER = 5419
ORBITAL_ECCENTRICITY = 0.569
ORBITAL_INCLINATION = 86.74
ORBITAL_SEMIMAJOR_AXIS = 8665.41
PERIAPSIS_ALTITUDE = 347.77
PERIAPSIS_ARGUMENT_ANGLE = 124.98
PERIAPSIS_TIME = 2008-03-21T23:37:02.000Z
SPACECRAFT_ORIENTATION = (0.0,-1.0,0.0)
^MEX_ORIENTATION_DESC = "MEX_ORIENTATION_DESC.TXT"
SPACECRAFT_POINTING_MODE = NADIR
^MEX_POINTING_DESC = "MEX_POINTING_DESC.TXT"
RIGHT_ASCENSION = -1e+32
DECLINATION = -1e+32
OFFSET_ANGLE = -1e+32
SPACECRAFT_SOLAR_DISTANCE = 2.47222e+08
TARGET_NAME = MARS
/* CAMERA DATA ELEMENTS */
DETECTOR_TEMPERATURE = 18.1666
FOCAL_PLANE_TEMPERATURE = 7.7677
INST_CMPRS_NAME = "DISCRETE COSINE TRANSFORMATION (DCT)"
INST_CMPRS_RATIO = 12.5475
INST_CMPRS_QUALITY = 0
INST_CMPRS_QUANTZ_TBL_ID = 0
INSTRUMENT_TEMPERATURE = 11.234
LENS_TEMPERATURE = 8.5833
MACROPIXEL_SIZE = 4
MISSING_FRAMES = 0
PIXEL_SUBSAMPLING_FLAG = N
SIGNAL_CHAIN_ID = 2
/* RADIOMETRIC DATA ELEMENTS */
BANDWIDTH = 76.0
CENTER_FILTER_WAVELENGTH = 444.0
RADIANCE_OFFSET = 0.544352
RADIANCE_SCALING_FACTOR = 0.000897199
REFLECTANCE_SCALING_FACTOR = 5.63404e-05
MEX:REFLECTANCE_OFFSET = 0.0341831
/* IMAGE OBJECT DEFINITIONS */
OBJECT = IMAGE
  INTERCHANGE_FORMAT = BINARY
  LINES = 14637
  LINE_SAMPLES = 2640
  SAMPLE_TYPE = UNSIGNED_INTEGER
  SAMPLE_BITS = 8
  BANDS = 1
  BAND_STORAGE_TYPE = BAND_SEQUENTIAL
  MAXIMUM = 255
  MEAN = 115.431
  MINIMUM = 1
  STANDARD_DEVIATION = 43.9978
END_OBJECT = IMAGE
/* MAP OBJECT DEFINITIONS */
OBJECT = IMAGE_MAP_PROJECTION
  ^DATA_SET_MAP_PROJECTION_CATALOG= "DSMAP.CAT"
  A_AXIS_RADIUS = 3396.0
  B_AXIS_RADIUS = 3396.0
  C_AXIS_RADIUS = 3396.0
  CENTER_LATITUDE = 0.0
  CENTER_LONGITUDE = 286.0
  COORDINATE_SYSTEM_NAME = PLANETOGRAPHIC
  COORDINATE_SYSTEM_TYPE = "BODY-FIXED ROTATING"
  EASTERNMOST_LONGITUDE = 287.486
  FIRST_STANDARD_PARALLEL = "N/A"
  LINE_FIRST_PIXEL = 1
  LINE_LAST_PIXEL = 14637
  LINE_PROJECTION_OFFSET = 79198.625
  MAP_PROJECTION_ROTATION = 0.0
  MAP_PROJECTION_TYPE = SINUSOIDAL
  MAP_RESOLUTION = 1185.42760773333
  MAP_SCALE = 0.05
  MAXIMUM_LATITUDE = 66.7681
  MINIMUM_LATITUDE = 54.4848
  POSITIVE_LONGITUDE_DIRECTION = EAST
  REFERENCE_LATITUDE = "N/A"
  REFERENCE_LONGITUDE = "N/A"
  SAMPLE_FIRST_PIXEL = 1
  SAMPLE_LAST_PIXEL = 2640
  SAMPLE_PROJECTION_OFFSET = 1629.625
  SECOND_STANDARD_PARALLEL = "N/A"
  WESTERNMOST_LONGITUDE = 282.522
END_OBJECT = IMAGE_MAP_PROJECTION
/* The JPEG2000 image data file associated with this label. */
OBJECT = COMPRESSED_FILE
  FILE_NAME = "H5419_0000_BL3.JP2"
  RECORD_TYPE = UNDEFINED
  FILE_RECORDS = UNK
  ENCODING_TYPE = "JP2"
  INTERCHANGE_FORMAT = BINARY
  UNCOMPRESSED_FILE_NAME = "H5419_0000_BL3.IMG"
  REQUIRED_STORAGE_BYTES = "38662800"
  ^DESCRIPTION = "JP2INFO.TXT"
END_OBJECT = COMPRESSED_FILE
END
