PDS_VERSION_ID = PDS3
/* FILE DATA ELEMENTS */
RECORD_TYPE = STREAM
/* POINTERS TO DATA OBJECTS */
^COMPRESSED_FILE = "H5419_0000_GR3.JP2"
/* IDENTIFICATION DATA ELEMENTS */
DATA_SET_ID = "MEX-M-HRSC-5-REFDR-MAPPROJECTED-V3.0"
DATA_SET_NAME = "MARS EXPRESS HRSC MAP PROJECTED REFDR V3.0"
DETECTOR_ID = MEX_HRSC_GREEN
EVENT_TYPE = "MARS-REGIONAL-MAPPING-Te-Im-Pf"
INSTRUMENT_HOST_ID = MEX
INSTRUMENT_HOST_NAME = "MARS EXPRESS"
INSTRUMENT_ID = HRSC
INSTRUMENT_NAME = "HIGH RESOLUTION STEREO CAMERA"
MISSION_NAME = "MARS EXPRESS"
MISSION_PHASE_NAME = ME_Phase_11
PROCESSING_LEVEL_ID = 3
PRODUCT_CREATION_TIME = 2016-05-14T17:13:02.000Z
PRODUCT_ID = "H5419_0000_GR3.JP2"
RELEASE_ID = 0062
REVISION_ID = 0000
/* QUALITY DATA ELEMENTS */
DATA_QUALITY_ID = 1
DATA_QUALITY_DESC = "Data calculated based on original SPICE kernels"
/* TIME DATA ELEMENTS */
SPACECRAFT_CLOCK_START_COUNT = "1/0154222399.08392"
SPACECRAFT_CLOCK_STOP_COUNT = "1/0154222658.48162"
START_TIME = 2008-03-21T23:33:52.877Z
STOP_TIME = 2008-03-21T23:37:03.622Z
/* ORBITAL DATA ELEMENTS */
ASCENDING_NODE_LONGITUDE = 115.51
MAXIMUM_RESOLUTION = 56
FOOTPRINT_POINT_LATITUDE = (66.802,66.7757,66.7258,66.6572,66.3819 ,66.1061,65.83,65.5536,65.277,64.9999, 64.7224,64.4447,64.0292,63.5625,63.095, 62.6269,62.158,61.9233,61.6884,61.4534, 61.2182,60.9829,60.7474,60.5119,60.2761 ,60.0402,59.8043,59.5681,59.3319, 59.0955,58.8591,58.6225,58.3857,58.1489 ,57.912,57.675,57.4379,57.2007,56.9635, 56.7261,56.4887,56.2512,56.0136,55.7759 ,55.5382,55.2936,54.9369,54.699,54.461, 54.4768,54.495,54.5154,54.5348,54.7738, 55.1321,55.4904,55.7361,55.9748,56.2135 ,56.4522,56.6908,56.9293,57.1678, 57.4062,57.6446,57.8829,58.1211,58.3592 ,58.5973,58.8353,59.0732,59.311,59.6675 ,59.9051,60.1426,60.3799,60.6172, 60.8543,61.0914,61.3283,61.5651,61.8018 ,62.0384,62.2748,62.5111,62.7473, 62.9834,63.2193,63.6906,64.1615,64.5805 ,64.8609,65.1409,65.4208,65.7004, 65.9797,66.2588,66.5376,66.8161,66.802)
FOOTPRINT_POINT_LONGITUDE = (284.978,284.38,283.367,282.5,282.608, 282.713,282.815,282.915,283.013,283.107 ,283.2,283.289,283.419,283.56,283.694, 283.824,283.947,284.007,284.066,284.124 ,284.18,284.236,284.29,284.343,284.395, 284.446,284.496,284.546,284.594,284.641 ,284.687,284.732,284.777,284.82,284.863 ,284.905,284.946,284.986,285.025, 285.064,285.102,285.139,285.176,285.211 ,285.246,285.281,285.332,285.365, 285.397,285.806,286.275,286.862,287.496 ,287.477,287.447,287.417,287.396, 287.375,287.354,287.333,287.311,287.289 ,287.266,287.243,287.22,287.196,287.172 ,287.147,287.122,287.097,287.071, 287.044,287.004,286.976,286.948,286.92, 286.891,286.861,286.831,286.801,286.769 ,286.737,286.705,286.672,286.638, 286.604,286.569,286.534,286.46,286.384, 286.314,286.265,286.215,286.164,286.112 ,286.058,286.004,285.947,285.89, 284.978)
ORBIT_NUMBER = 5419
ORBITAL_ECCENTRICITY = 0.569
ORBITAL_INCLINATION = 86.74
ORBITAL_SEMIMAJOR_AXIS = 8665.41
PERIAPSIS_ALTITUDE = 347.77
PERIAPSIS_ARGUMENT_ANGLE = 124.98
PERIAPSIS_TIME = 2008-03-21T23:37:02.000Z
SPACECRAFT_ORIENTATION = (0.0,-1.0,0.0)
^MEX_ORIENTATION_DESC = "MEX_ORIENTATION_DESC.TXT"
SPACECRAFT_POINTING_MODE = NADIR
^MEX_POINTING_DESC = "MEX_POINTING_DESC.TXT"
RIGHT_ASCENSION = -1e+32
DECLINATION = -1e+32
OFFSET_ANGLE = -1e+32
SPACECRAFT_SOLAR_DISTANCE = 2.47222e+08
TARGET_NAME = MARS
/* CAMERA DATA ELEMENTS */
DETECTOR_TEMPERATURE = 18.1666
FOCAL_PLANE_TEMPERATURE = 7.7677
INST_CMPRS_NAME = "DISCRETE COSINE TRANSFORMATION (DCT)"
INST_CMPRS_RATIO = 26.5227
INST_CMPRS_QUALITY = 0
INST_CMPRS_QUANTZ_TBL_ID = 0
INSTRUMENT_TEMPERATURE = 11.234
LENS_TEMPERATURE = 8.5833
MACROPIXEL_SIZE = 4
MISSING_FRAMES = 1
PIXEL_SUBSAMPLING_FLAG = N
SIGNAL_CHAIN_ID = 2
/* RADIOMETRIC DATA ELEMENTS */
BANDWIDTH = 88.0
CENTER_FILTER_WAVELENGTH = 538.0
RADIANCE_OFFSET = 1.11589
RADIANCE_SCALING_FACTOR = 0.00335041
REFLECTANCE_SCALING_FACTOR = 0.000176304
MEX:REFLECTANCE_OFFSET = 0.0587202
/* IMAGE OBJECT DEFINITIONS */
OBJECT = IMAGE
  INTERCHANGE_FORMAT = BINARY
  LINES = 14637
  LINE_SAMPLES = 2640
  SAMPLE_TYPE = UNSIGNED_INTEGER
  SAMPLE_BITS = 8
  BANDS = 1
  BAND_STORAGE_TYPE = BAND_SEQUENTIAL
  MAXIMUM = 255
  MEAN = 129.319
  MINIMUM = 1
  STANDARD_DEVIATION = 46.143
END_OBJECT = IMAGE
/* MAP OBJECT DEFINITIONS */
OBJECT = IMAGE_MAP_PROJECTION
  ^DATA_SET_MAP_PROJECTION_CATALOG= "DSMAP.CAT"
  A_AXIS_RADIUS = 3396.0
  B_AXIS_RADIUS = 3396.0
  C_AXIS_RADIUS = 3396.0
  CENTER_LATITUDE = 0.0
  CENTER_LONGITUDE = 286.0
  COORDINATE_SYSTEM_NAME = PLANETOGRAPHIC
  COORDINATE_SYSTEM_TYPE = "BODY-FIXED ROTATING"
  EASTERNMOST_LONGITUDE = 287.496
  FIRST_STANDARD_PARALLEL = "N/A"
  LINE_FIRST_PIXEL = 1
  LINE_LAST_PIXEL = 14637
  LINE_PROJECTION_OFFSET = 79198.625
  MAP_PROJECTION_ROTATION = 0.0
  MAP_PROJECTION_TYPE = SINUSOIDAL
  MAP_RESOLUTION = 1185.42760773333
  MAP_SCALE = 0.05
  MAXIMUM_LATITUDE = 66.81610000000001
  MINIMUM_LATITUDE = 54.461
  POSITIVE_LONGITUDE_DIRECTION = EAST
  REFERENCE_LATITUDE = "N/A"
  REFERENCE_LONGITUDE = "N/A"
  SAMPLE_FIRST_PIXEL = 1
  SAMPLE_LAST_PIXEL = 2640
  SAMPLE_PROJECTION_OFFSET = 1629.625
  SECOND_STANDARD_PARALLEL = "N/A"
  WESTERNMOST_LONGITUDE = 282.5
END_OBJECT = IMAGE_MAP_PROJECTION
/* The JPEG2000 image data file associated with this label. */
OBJECT = COMPRESSED_FILE
  FILE_NAME = "H5419_0000_GR3.JP2"
  RECORD_TYPE = UNDEFINED
  FILE_RECORDS = UNK
  ENCODING_TYPE = "JP2"
  INTERCHANGE_FORMAT = BINARY
  UNCOMPRESSED_FILE_NAME = "H5419_0000_GR3.IMG"
  REQUIRED_STORAGE_BYTES = "38662800"
  ^DESCRIPTION = "JP2INFO.TXT"
END_OBJECT = COMPRESSED_FILE
END
