PDS_VERSION_ID = PDS3
/* FILE DATA ELEMENTS */
RECORD_TYPE = STREAM
/* POINTERS TO DATA OBJECTS */
^COMPRESSED_FILE = "H5419_0000_IR3.JP2"
/* IDENTIFICATION DATA ELEMENTS */
DATA_SET_ID = "MEX-M-HRSC-5-REFDR-MAPPROJECTED-V3.0"
DATA_SET_NAME = "MARS EXPRESS HRSC MAP PROJECTED REFDR V3.0"
DETECTOR_ID = MEX_HRSC_IR
EVENT_TYPE = "MARS-REGIONAL-MAPPING-Te-Im-Pf"
INSTRUMENT_HOST_ID = MEX
INSTRUMENT_HOST_NAME = "MARS EXPRESS"
INSTRUMENT_ID = HRSC
INSTRUMENT_NAME = "HIGH RESOLUTION STEREO CAMERA"
MISSION_NAME = "MARS EXPRESS"
MISSION_PHASE_NAME = ME_Phase_11
PROCESSING_LEVEL_ID = 3
PRODUCT_CREATION_TIME = 2016-05-14T17:13:02.000Z
PRODUCT_ID = "H5419_0000_IR3.JP2"
RELEASE_ID = 0062
REVISION_ID = 0000
/* QUALITY DATA ELEMENTS */
DATA_QUALITY_ID = 1
DATA_QUALITY_DESC = "Data calculated based on original SPICE kernels"
/* TIME DATA ELEMENTS */
SPACECRAFT_CLOCK_START_COUNT = "1/0154222399.08392"
SPACECRAFT_CLOCK_STOP_COUNT = "1/0154222658.48162"
START_TIME = 2008-03-21T23:33:29.260Z
STOP_TIME = 2008-03-21T23:36:42.987Z
/* ORBITAL DATA ELEMENTS */
ASCENDING_NODE_LONGITUDE = 115.51
MAXIMUM_RESOLUTION = 58.6
FOOTPRINT_POINT_LATITUDE = (66.8803,66.8488,66.818,66.7925,66.7583 ,66.6292,66.3635,65.9643,65.6978, 65.4305,65.1634,64.8951,64.6265,64.3573 ,64.0878,63.818,63.5478,63.2772,63.0062 ,62.6009,62.3729,62.1448,61.802,61.4586 ,61.2294,60.9998,60.7701,60.5402, 60.1948,59.9644,59.6181,59.2714,59.0399 ,58.6923,58.4603,58.228,57.9956,57.763, 57.5302,57.1806,56.8306,56.4801,56.2464 ,56.0122,55.7779,55.5433,55.3088, 54.9569,54.7225,54.4543,54.4726,54.4898 ,54.5006,54.5205,54.7626,54.9987, 55.2345,55.5882,55.8236,56.1767,56.4118 ,56.7642,56.9989,57.2334,57.5849,57.819 ,58.0529,58.4037,58.7539,59.1039,59.453 ,59.6857,59.918,60.1502,60.3822,60.614, 60.8455,61.1924,61.4235,61.6543,61.885, 62.1154,62.3455,62.5754,62.818,63.0919, 63.3654,63.6384,63.9112,64.3197,64.5915 ,64.8631,65.1342,65.4049,65.6754, 65.9455,66.215,66.4841,66.7526,66.8803)
FOOTPRINT_POINT_LONGITUDE = (285.359,284.619,283.973,283.483,282.87 ,282.471,282.576,282.729,282.828, 282.924,283.018,283.11,283.2,283.287, 283.372,283.456,283.537,283.617,283.695 ,283.807,283.869,283.929,284.017, 284.103,284.159,284.213,284.267,284.32, 284.397,284.447,284.521,284.592,284.639 ,284.707,284.751,284.795,284.837, 284.879,284.92,284.981,285.039,285.096, 285.133,285.169,285.205,285.24,285.274, 285.325,285.358,285.531,285.963,286.395 ,286.691,287.321,287.487,287.468, 287.449,287.42,287.4,287.369,287.349, 287.317,287.296,287.274,287.241,287.218 ,287.195,287.16,287.124,287.086,287.049 ,287.023,286.997,286.97,286.943,286.915 ,286.887,286.844,286.815,286.785, 286.755,286.724,286.692,286.66,286.626, 286.586,286.546,286.504,286.462,286.396 ,286.352,286.306,286.259,286.211, 286.162,286.112,286.061,286.009,285.955 ,285.359)
ORBIT_NUMBER = 5419
ORBITAL_ECCENTRICITY = 0.569
ORBITAL_INCLINATION = 86.74
ORBITAL_SEMIMAJOR_AXIS = 8665.41
PERIAPSIS_ALTITUDE = 347.77
PERIAPSIS_ARGUMENT_ANGLE = 124.98
PERIAPSIS_TIME = 2008-03-21T23:37:02.000Z
SPACECRAFT_ORIENTATION = (0.0,-1.0,0.0)
^MEX_ORIENTATION_DESC = "MEX_ORIENTATION_DESC.TXT"
SPACECRAFT_POINTING_MODE = NADIR
^MEX_POINTING_DESC = "MEX_POINTING_DESC.TXT"
RIGHT_ASCENSION = -1e+32
DECLINATION = -1e+32
OFFSET_ANGLE = -1e+32
SPACECRAFT_SOLAR_DISTANCE = 2.47222e+08
TARGET_NAME = MARS
/* CAMERA DATA ELEMENTS */
DETECTOR_TEMPERATURE = 16.9432
FOCAL_PLANE_TEMPERATURE = 7.7677
INST_CMPRS_NAME = "DISCRETE COSINE TRANSFORMATION (DCT)"
INST_CMPRS_RATIO = 21.1802
INST_CMPRS_QUALITY = 0
INST_CMPRS_QUANTZ_TBL_ID = 0
INSTRUMENT_TEMPERATURE = 11.234
LENS_TEMPERATURE = 8.5833
MACROPIXEL_SIZE = 4
MISSING_FRAMES = 0
PIXEL_SUBSAMPLING_FLAG = N
SIGNAL_CHAIN_ID = 2
/* RADIOMETRIC DATA ELEMENTS */
BANDWIDTH = 81.0
CENTER_FILTER_WAVELENGTH = 955.5
RADIANCE_OFFSET = 0.579544
RADIANCE_SCALING_FACTOR = 0.00483682
REFLECTANCE_SCALING_FACTOR = 0.000637769
MEX:REFLECTANCE_OFFSET = 0.076417
/* IMAGE OBJECT DEFINITIONS */
OBJECT = IMAGE
  INTERCHANGE_FORMAT = BINARY
  LINES = 14637
  LINE_SAMPLES = 2640
  SAMPLE_TYPE = UNSIGNED_INTEGER
  SAMPLE_BITS = 8
  BANDS = 1
  BAND_STORAGE_TYPE = BAND_SEQUENTIAL
  MAXIMUM = 255
  MEAN = 131.198
  MINIMUM = 1
  STANDARD_DEVIATION = 46.6743
END_OBJECT = IMAGE
/* MAP OBJECT DEFINITIONS */
OBJECT = IMAGE_MAP_PROJECTION
  ^DATA_SET_MAP_PROJECTION_CATALOG= "DSMAP.CAT"
  A_AXIS_RADIUS = 3396.0
  B_AXIS_RADIUS = 3396.0
  C_AXIS_RADIUS = 3396.0
  CENTER_LATITUDE = 0.0
  CENTER_LONGITUDE = 286.0
  COORDINATE_SYSTEM_NAME = PLANETOGRAPHIC
  COORDINATE_SYSTEM_TYPE = "BODY-FIXED ROTATING"
  EASTERNMOST_LONGITUDE = 287.487
  FIRST_STANDARD_PARALLEL = "N/A"
  LINE_FIRST_PIXEL = 1
  LINE_LAST_PIXEL = 14637
  LINE_PROJECTION_OFFSET = 79198.625
  MAP_PROJECTION_ROTATION = 0.0
  MAP_PROJECTION_TYPE = SINUSOIDAL
  MAP_RESOLUTION = 1185.42760773333
  MAP_SCALE = 0.05
  MAXIMUM_LATITUDE = 66.88030000000001
  MINIMUM_LATITUDE = 54.4543
  POSITIVE_LONGITUDE_DIRECTION = EAST
  REFERENCE_LATITUDE = "N/A"
  REFERENCE_LONGITUDE = "N/A"
  SAMPLE_FIRST_PIXEL = 1
  SAMPLE_LAST_PIXEL = 2640
  SAMPLE_PROJECTION_OFFSET = 1629.625
  SECOND_STANDARD_PARALLEL = "N/A"
  WESTERNMOST_LONGITUDE = 282.471
END_OBJECT = IMAGE_MAP_PROJECTION
/* The JPEG2000 image data file associated with this label. */
OBJECT = COMPRESSED_FILE
  FILE_NAME = "H5419_0000_IR3.JP2"
  RECORD_TYPE = UNDEFINED
  FILE_RECORDS = UNK
  ENCODING_TYPE = "JP2"
  INTERCHANGE_FORMAT = BINARY
  UNCOMPRESSED_FILE_NAME = "H5419_0000_IR3.IMG"
  REQUIRED_STORAGE_BYTES = "38662800"
  ^DESCRIPTION = "JP2INFO.TXT"
END_OBJECT = COMPRESSED_FILE
END
