PDS_VERSION_ID = PDS3
/* FILE DATA ELEMENTS */
RECORD_TYPE = STREAM
/* POINTERS TO DATA OBJECTS */
^COMPRESSED_FILE = "H5419_0000_P13.JP2"
/* IDENTIFICATION DATA ELEMENTS */
DATA_SET_ID = "MEX-M-HRSC-5-REFDR-MAPPROJECTED-V3.0"
DATA_SET_NAME = "MARS EXPRESS HRSC MAP PROJECTED REFDR V3.0"
DETECTOR_ID = MEX_HRSC_P1
EVENT_TYPE = "MARS-REGIONAL-MAPPING-Te-Im-Pf"
INSTRUMENT_HOST_ID = MEX
INSTRUMENT_HOST_NAME = "MARS EXPRESS"
INSTRUMENT_ID = HRSC
INSTRUMENT_NAME = "HIGH RESOLUTION STEREO CAMERA"
MISSION_NAME = "MARS EXPRESS"
MISSION_PHASE_NAME = ME_Phase_11
PROCESSING_LEVEL_ID = 3
PRODUCT_CREATION_TIME = 2016-05-14T17:13:02.000Z
PRODUCT_ID = "H5419_0000_P13.JP2"
RELEASE_ID = 0062
REVISION_ID = 0000
/* QUALITY DATA ELEMENTS */
DATA_QUALITY_ID = 1
DATA_QUALITY_DESC = "Data calculated based on original SPICE kernels"
/* TIME DATA ELEMENTS */
SPACECRAFT_CLOCK_START_COUNT = "1/0154222399.08392"
SPACECRAFT_CLOCK_STOP_COUNT = "1/0154222658.48162"
START_TIME = 2008-03-21T23:33:35.515Z
STOP_TIME = 2008-03-21T23:36:48.394Z
/* ORBITAL DATA ELEMENTS */
ASCENDING_NODE_LONGITUDE = 115.51
MAXIMUM_RESOLUTION = 28.8
FOOTPRINT_POINT_LATITUDE = (66.8702,66.8425,66.804,66.7536,66.6371 ,66.3684,66.0992,65.8296,65.5597, 65.2896,64.883,64.4755,64.067,63.7945, 63.5215,63.2481,62.9754,62.7458,62.5159 ,62.2857,62.0551,61.8245,61.5936, 61.2467,60.8994,60.5516,60.3195,60.0872 ,59.7383,59.389,59.1559,58.8057,58.5721 ,58.2213,57.87,57.6357,57.2838,57.0491, 56.6966,56.4614,56.2263,55.9905,55.7548 ,55.5189,55.1653,54.9293,54.6931, 54.4627,54.4795,54.4929,54.5092,54.5218 ,54.7644,55.0017,55.2388,55.5945, 55.8313,56.1864,56.423,56.7776,57.0138, 57.2499,57.4858,57.7216,57.9572,58.1927 ,58.428,58.6633,58.8983,59.1333,59.3678 ,59.7196,59.9538,60.1878,60.4218, 60.6555,60.8889,61.1222,61.4719,61.7047 ,61.9374,62.1699,62.4021,62.6342,62.866 ,63.0977,63.3712,63.647,63.9226,64.3353 ,64.6099,64.8844,65.1584,65.4321, 65.7056,65.9787,66.2512,66.5235,66.7951 ,66.8702)
FOOTPRINT_POINT_LONGITUDE = (285.492,284.823,283.997,283.048, 282.468,282.575,282.678,282.779,282.878 ,282.974,283.114,283.248,283.378, 283.462,283.544,283.624,283.702,283.766 ,283.828,283.89,283.95,284.009,284.067, 284.152,284.234,284.314,284.366,284.418 ,284.492,284.565,284.612,284.681, 284.726,284.792,284.856,284.898,284.959 ,284.999,285.057,285.095,285.132, 285.168,285.204,285.239,285.29,285.324, 285.357,285.695,286.103,286.451,286.921 ,287.331,287.484,287.465,287.445, 287.416,287.396,287.365,287.344,287.312 ,287.29,287.268,287.246,287.223,287.2, 287.176,287.152,287.128,287.103,287.078 ,287.052,287.013,286.986,286.959, 286.931,286.903,286.875,286.846,286.801 ,286.77,286.739,286.708,286.676,286.643 ,286.61,286.576,286.535,286.493,286.449 ,286.383,286.337,286.29,286.243,286.194 ,286.144,286.092,286.04,285.986,285.932 ,285.492)
ORBIT_NUMBER = 5419
ORBITAL_ECCENTRICITY = 0.569
ORBITAL_INCLINATION = 86.74
ORBITAL_SEMIMAJOR_AXIS = 8665.41
PERIAPSIS_ALTITUDE = 347.77
PERIAPSIS_ARGUMENT_ANGLE = 124.98
PERIAPSIS_TIME = 2008-03-21T23:37:02.000Z
SPACECRAFT_ORIENTATION = (0.0,-1.0,0.0)
^MEX_ORIENTATION_DESC = "MEX_ORIENTATION_DESC.TXT"
SPACECRAFT_POINTING_MODE = NADIR
^MEX_POINTING_DESC = "MEX_POINTING_DESC.TXT"
RIGHT_ASCENSION = -1e+32
DECLINATION = -1e+32
OFFSET_ANGLE = -1e+32
SPACECRAFT_SOLAR_DISTANCE = 2.47222e+08
TARGET_NAME = MARS
/* CAMERA DATA ELEMENTS */
DETECTOR_TEMPERATURE = 16.9432
FOCAL_PLANE_TEMPERATURE = 7.7677
INST_CMPRS_NAME = "DISCRETE COSINE TRANSFORMATION (DCT)"
INST_CMPRS_RATIO = 18.0184
INST_CMPRS_QUALITY = 0
INST_CMPRS_QUANTZ_TBL_ID = 0
INSTRUMENT_TEMPERATURE = 11.234
LENS_TEMPERATURE = 8.5833
MACROPIXEL_SIZE = 2
MISSING_FRAMES = 0
PIXEL_SUBSAMPLING_FLAG = N
SIGNAL_CHAIN_ID = 3
/* RADIOMETRIC DATA ELEMENTS */
BANDWIDTH = 174.0
CENTER_FILTER_WAVELENGTH = 675.0
RADIANCE_OFFSET = 2.66757
RADIANCE_SCALING_FACTOR = 0.0155965
REFLECTANCE_SCALING_FACTOR = 0.000512728
MEX:REFLECTANCE_OFFSET = 0.0876953
/* IMAGE OBJECT DEFINITIONS */
OBJECT = IMAGE
  INTERCHANGE_FORMAT = BINARY
  LINES = 29273
  LINE_SAMPLES = 5280
  SAMPLE_TYPE = UNSIGNED_INTEGER
  SAMPLE_BITS = 8
  BANDS = 1
  BAND_STORAGE_TYPE = BAND_SEQUENTIAL
  MAXIMUM = 255
  MEAN = 135.426
  MINIMUM = 1
  STANDARD_DEVIATION = 45.5667
END_OBJECT = IMAGE
/* MAP OBJECT DEFINITIONS */
OBJECT = IMAGE_MAP_PROJECTION
  ^DATA_SET_MAP_PROJECTION_CATALOG= "DSMAP.CAT"
  A_AXIS_RADIUS = 3396.0
  B_AXIS_RADIUS = 3396.0
  C_AXIS_RADIUS = 3396.0
  CENTER_LATITUDE = 0.0
  CENTER_LONGITUDE = 286.0
  COORDINATE_SYSTEM_NAME = PLANETOGRAPHIC
  COORDINATE_SYSTEM_TYPE = "BODY-FIXED ROTATING"
  EASTERNMOST_LONGITUDE = 287.484
  FIRST_STANDARD_PARALLEL = "N/A"
  LINE_FIRST_PIXEL = 1
  LINE_LAST_PIXEL = 29273
  LINE_PROJECTION_OFFSET = 158397.75
  MAP_PROJECTION_ROTATION = 0.0
  MAP_PROJECTION_TYPE = SINUSOIDAL
  MAP_RESOLUTION = 2370.85521546667
  MAP_SCALE = 0.025
  MAXIMUM_LATITUDE = 66.8702
  MINIMUM_LATITUDE = 54.4627
  POSITIVE_LONGITUDE_DIRECTION = EAST
  REFERENCE_LATITUDE = "N/A"
  REFERENCE_LONGITUDE = "N/A"
  SAMPLE_FIRST_PIXEL = 1
  SAMPLE_LAST_PIXEL = 5280
  SAMPLE_PROJECTION_OFFSET = 3259.75
  SECOND_STANDARD_PARALLEL = "N/A"
  WESTERNMOST_LONGITUDE = 282.468
END_OBJECT = IMAGE_MAP_PROJECTION
/* The JPEG2000 image data file associated with this label. */
OBJECT = COMPRESSED_FILE
  FILE_NAME = "H5419_0000_P13.JP2"
  RECORD_TYPE = UNDEFINED
  FILE_RECORDS = UNK
  ENCODING_TYPE = "JP2"
  INTERCHANGE_FORMAT = BINARY
  UNCOMPRESSED_FILE_NAME = "H5419_0000_P13.IMG"
  REQUIRED_STORAGE_BYTES = "154587840"
  ^DESCRIPTION = "JP2INFO.TXT"
END_OBJECT = COMPRESSED_FILE
END
