PDS_VERSION_ID = PDS3
/* FILE DATA ELEMENTS */
RECORD_TYPE = STREAM
/* POINTERS TO DATA OBJECTS */
^COMPRESSED_FILE = "H5421_0000_IR3.JP2"
/* IDENTIFICATION DATA ELEMENTS */
DATA_SET_ID = "MEX-M-HRSC-5-REFDR-MAPPROJECTED-V3.0"
DATA_SET_NAME = "MARS EXPRESS HRSC MAP PROJECTED REFDR V3.0"
DETECTOR_ID = MEX_HRSC_IR
EVENT_TYPE = "MARS-REGIONAL-MAPPING-Te-Im-Pf"
INSTRUMENT_HOST_ID = MEX
INSTRUMENT_HOST_NAME = "MARS EXPRESS"
INSTRUMENT_ID = HRSC
INSTRUMENT_NAME = "HIGH RESOLUTION STEREO CAMERA"
MISSION_NAME = "MARS EXPRESS"
MISSION_PHASE_NAME = ME_Phase_11
PROCESSING_LEVEL_ID = 3
PRODUCT_CREATION_TIME = 2016-05-14T17:13:02.000Z
PRODUCT_ID = "H5421_0000_IR3.JP2"
RELEASE_ID = 0062
REVISION_ID = 0000
/* QUALITY DATA ELEMENTS */
DATA_QUALITY_ID = 1
DATA_QUALITY_DESC = "Data calculated based on original SPICE kernels"
/* TIME DATA ELEMENTS */
SPACECRAFT_CLOCK_START_COUNT = "1/0154271722.09067"
SPACECRAFT_CLOCK_STOP_COUNT = "1/0154271928.17786"
START_TIME = 2008-03-22T13:15:31.850Z
STOP_TIME = 2008-03-22T13:17:52.788Z
/* ORBITAL DATA ELEMENTS */
ASCENDING_NODE_LONGITUDE = 115.46
MAXIMUM_RESOLUTION = 58.4
FOOTPRINT_POINT_LATITUDE = (63.2385,63.2261,63.2124,63.1974,63.168 ,63.1458,62.9617,62.7864,62.6108, 62.4352,62.2592,62.0831,61.9068,61.6421 ,61.4656,61.2888,61.1118,60.847,60.6693 ,60.403,60.2254,60.0476,59.7809,59.6028 ,59.3357,59.0678,58.7999,58.621,58.3529 ,58.1738,57.9945,57.7256,57.5462, 57.2768,57.0072,56.8274,56.6477,56.468, 56.1977,56.0174,55.8371,55.6567,55.4759 ,55.2949,55.1141,54.9332,54.7522, 54.5713,54.3901,54.0718,54.0852,54.1027 ,54.1121,54.1223,54.2201,54.4021, 54.5841,54.7657,54.9473,55.2197,55.4014 ,55.6734,55.8548,56.0361,56.2172, 56.4887,56.6696,56.9409,57.1217,57.3023 ,57.5731,57.7533,57.9332,58.1133, 58.3833,58.5633,58.7432,58.9227,59.1023 ,59.2816,59.5506,59.7299,59.9089, 60.0889,60.2673,60.5359,60.7153,60.9823 ,61.1607,61.3375,61.6045,61.7825, 61.9601,62.1377,62.3149,62.5807,62.7577 ,62.9344,63.1112,63.2385)
FOOTPRINT_POINT_LONGITUDE = (86.5334,86.1236,85.7148,85.3076, 84.5989,84.1198,84.1098,84.1554,84.2003 ,84.2446,84.2881,84.331,84.3732,84.4354 ,84.4761,84.5161,84.5555,84.6138, 84.6516,84.7075,84.744,84.78,84.8331, 84.8678,84.9189,84.9688,85.0176,85.0495 ,85.0966,85.1274,85.1577,85.2023, 85.2315,85.2745,85.3166,85.3441,85.3713 ,85.3981,85.4374,85.4631,85.4885, 85.5135,85.538,85.5622,85.586,85.6095, 85.6326,85.6555,85.6779,85.7165,86.0823 ,86.6448,87.0154,87.4852,87.8001, 87.7878,87.7754,87.7631,87.7505,87.7312 ,87.7181,87.6983,87.6847,87.6711, 87.6574,87.6363,87.6222,87.6004,87.5856 ,87.5707,87.548,87.5327,87.5175,87.5018 ,87.4779,87.4616,87.4449,87.4285, 87.4116,87.3946,87.3685,87.3507,87.3328 ,87.3135,87.2955,87.2669,87.2468, 87.2185,87.1986,87.1802,87.1497,87.1289 ,87.108,87.0867,87.0655,87.0327,87.0106 ,86.9883,86.9654,86.5334)
ORBIT_NUMBER = 5421
ORBITAL_ECCENTRICITY = 0.57
ORBITAL_INCLINATION = 86.76
ORBITAL_SEMIMAJOR_AXIS = 8668.33
PERIAPSIS_ALTITUDE = 347.1
PERIAPSIS_ARGUMENT_ANGLE = 124.6
PERIAPSIS_TIME = 2008-03-22T13:18:00.000Z
SPACECRAFT_ORIENTATION = (0.0,-1.0,0.0)
^MEX_ORIENTATION_DESC = "MEX_ORIENTATION_DESC.TXT"
SPACECRAFT_POINTING_MODE = ACROSSTRACK
^MEX_POINTING_DESC = "MEX_POINTING_DESC.TXT"
RIGHT_ASCENSION = -1e+32
DECLINATION = -1e+32
OFFSET_ANGLE = 0.2
SPACECRAFT_SOLAR_DISTANCE = 2.47266e+08
TARGET_NAME = MARS
/* CAMERA DATA ELEMENTS */
DETECTOR_TEMPERATURE = 17.1471
FOCAL_PLANE_TEMPERATURE = 8.1755
INST_CMPRS_NAME = "DISCRETE COSINE TRANSFORMATION (DCT)"
INST_CMPRS_RATIO = 26.807
INST_CMPRS_QUALITY = 0
INST_CMPRS_QUANTZ_TBL_ID = 0
INSTRUMENT_TEMPERATURE = 11.0301
LENS_TEMPERATURE = 8.5833
MACROPIXEL_SIZE = 4
MISSING_FRAMES = 0
PIXEL_SUBSAMPLING_FLAG = N
SIGNAL_CHAIN_ID = 2
/* RADIOMETRIC DATA ELEMENTS */
BANDWIDTH = 81.0
CENTER_FILTER_WAVELENGTH = 955.5
RADIANCE_OFFSET = 0.478869
RADIANCE_SCALING_FACTOR = 0.00312986
REFLECTANCE_SCALING_FACTOR = 0.000412839
MEX:REFLECTANCE_OFFSET = 0.0631643
/* IMAGE OBJECT DEFINITIONS */
OBJECT = IMAGE
  INTERCHANGE_FORMAT = BINARY
  LINES = 10770
  LINE_SAMPLES = 2255
  SAMPLE_TYPE = UNSIGNED_INTEGER
  SAMPLE_BITS = 8
  BANDS = 1
  BAND_STORAGE_TYPE = BAND_SEQUENTIAL
  MAXIMUM = 255
  MEAN = 102.675
  MINIMUM = 1
  STANDARD_DEVIATION = 34.9787
END_OBJECT = IMAGE
/* MAP OBJECT DEFINITIONS */
OBJECT = IMAGE_MAP_PROJECTION
  ^DATA_SET_MAP_PROJECTION_CATALOG= "DSMAP.CAT"
  A_AXIS_RADIUS = 3396.0
  B_AXIS_RADIUS = 3396.0
  C_AXIS_RADIUS = 3396.0
  CENTER_LATITUDE = 0.0
  CENTER_LONGITUDE = 86.0
  COORDINATE_SYSTEM_NAME = PLANETOGRAPHIC
  COORDINATE_SYSTEM_TYPE = "BODY-FIXED ROTATING"
  EASTERNMOST_LONGITUDE = 87.8001
  FIRST_STANDARD_PARALLEL = "N/A"
  LINE_FIRST_PIXEL = 1
  LINE_LAST_PIXEL = 10770
  LINE_PROJECTION_OFFSET = 74883.875
  MAP_PROJECTION_ROTATION = 0.0
  MAP_PROJECTION_TYPE = SINUSOIDAL
  MAP_RESOLUTION = 1185.42760773333
  MAP_SCALE = 0.05
  MAXIMUM_LATITUDE = 63.2385
  MINIMUM_LATITUDE = 54.0718
  POSITIVE_LONGITUDE_DIRECTION = EAST
  REFERENCE_LATITUDE = "N/A"
  REFERENCE_LONGITUDE = "N/A"
  SAMPLE_FIRST_PIXEL = 1
  SAMPLE_LAST_PIXEL = 2255
  SAMPLE_PROJECTION_OFFSET = 1019.375
  SECOND_STANDARD_PARALLEL = "N/A"
  WESTERNMOST_LONGITUDE = 84.10980000000001
END_OBJECT = IMAGE_MAP_PROJECTION
/* The JPEG2000 image data file associated with this label. */
OBJECT = COMPRESSED_FILE
  FILE_NAME = "H5421_0000_IR3.JP2"
  RECORD_TYPE = UNDEFINED
  FILE_RECORDS = UNK
  ENCODING_TYPE = "JP2"
  INTERCHANGE_FORMAT = BINARY
  UNCOMPRESSED_FILE_NAME = "H5421_0000_IR3.IMG"
  REQUIRED_STORAGE_BYTES = "24308900"
  ^DESCRIPTION = "JP2INFO.TXT"
END_OBJECT = COMPRESSED_FILE
END
