PDS_VERSION_ID = PDS3
/* FILE DATA ELEMENTS */
RECORD_TYPE = STREAM
/* POINTERS TO DATA OBJECTS */
^COMPRESSED_FILE = "H5421_0000_ND3.JP2"
/* IDENTIFICATION DATA ELEMENTS */
DATA_SET_ID = "MEX-M-HRSC-5-REFDR-MAPPROJECTED-V3.0"
DATA_SET_NAME = "MARS EXPRESS HRSC MAP PROJECTED REFDR V3.0"
DETECTOR_ID = MEX_HRSC_NADIR
EVENT_TYPE = "MARS-REGIONAL-MAPPING-Te-Im-Pf"
INSTRUMENT_HOST_ID = MEX
INSTRUMENT_HOST_NAME = "MARS EXPRESS"
INSTRUMENT_ID = HRSC
INSTRUMENT_NAME = "HIGH RESOLUTION STEREO CAMERA"
MISSION_NAME = "MARS EXPRESS"
MISSION_PHASE_NAME = ME_Phase_11
PROCESSING_LEVEL_ID = 3
PRODUCT_CREATION_TIME = 2016-05-14T17:13:02.000Z
PRODUCT_ID = "H5421_0000_ND3.JP2"
RELEASE_ID = 0062
REVISION_ID = 0000
/* QUALITY DATA ELEMENTS */
DATA_QUALITY_ID = 1
DATA_QUALITY_DESC = "Data calculated based on original SPICE kernels"
/* TIME DATA ELEMENTS */
SPACECRAFT_CLOCK_START_COUNT = "1/0154271722.09067"
SPACECRAFT_CLOCK_STOP_COUNT = "1/0154271928.17786"
START_TIME = 2008-03-22T13:15:59.526Z
STOP_TIME = 2008-03-22T13:18:18.517Z
/* ORBITAL DATA ELEMENTS */
ASCENDING_NODE_LONGITUDE = 115.46
MAXIMUM_RESOLUTION = 14
FOOTPRINT_POINT_LATITUDE = (63.1657,63.1512,63.1366,63.1198, 63.1018,63.0675,62.7939,62.4375,62.0808 ,61.7238,61.3665,61.0089,60.6511, 60.4721,60.293,60.1139,59.9348,59.7556, 59.5763,59.397,59.2176,59.0382,58.8588, 58.6793,58.4997,58.3202,58.1405,57.9609 ,57.7812,57.6015,57.4217,57.242,57.0621 ,56.8823,56.7024,56.5226,56.3426, 56.1627,55.9828,55.8028,55.6228,55.4428 ,55.2628,55.0828,54.9028,54.7227, 54.5427,54.3626,54.0925,54.1083,54.1277 ,54.1435,54.2443,54.425,54.6058,54.7865 ,54.9673,55.148,55.3287,55.5095,55.6902 ,55.8709,56.142,56.3227,56.5034,56.6841 ,56.8648,57.0454,57.226,57.4067,57.5873 ,57.7679,57.9484,58.129,58.3095,58.49, 58.6705,58.8509,59.0313,59.2117,59.3921 ,59.5724,59.7527,59.9329,60.1131, 60.3833,60.5634,60.7435,61.0135,61.1935 ,61.3734,61.5533,61.7331,61.9129, 62.0926,62.2723,62.4519,62.6314,62.9903 ,63.1657)
FOOTPRINT_POINT_LONGITUDE = (86.6567,86.2321,85.8353,85.4136, 84.9939,84.2622,84.1639,84.2532,84.3396 ,84.4233,84.5045,84.583,84.6593,84.6964 ,84.733,84.769,84.8045,84.8394,84.8738, 84.9076,84.941,84.9737,85.006,85.0378, 85.0691,85.1,85.1304,85.1602,85.1896, 85.2187,85.2472,85.2753,85.303,85.3303, 85.3572,85.3837,85.4098,85.4354,85.4607 ,85.4856,85.5101,85.534,85.5577,85.581, 85.604,85.6266,85.6489,85.6709,85.7031, 86.277,86.8529,87.3912,87.7904,87.7776, 87.7649,87.7522,87.7392,87.7259,87.7125 ,87.699,87.6853,87.6713,87.6501,87.6357 ,87.6212,87.6066,87.5917,87.5764,87.561 ,87.5454,87.5297,87.5139,87.498,87.4818 ,87.4653,87.4485,87.4312,87.4141, 87.3966,87.3791,87.3611,87.3429,87.3244 ,87.3056,87.2856,87.2564,87.2365, 87.2161,87.1862,87.1656,87.1457,87.1245 ,87.1027,87.0809,87.0588,87.0365, 87.0137,86.9905,86.9434,86.6567)
ORBIT_NUMBER = 5421
ORBITAL_ECCENTRICITY = 0.57
ORBITAL_INCLINATION = 86.76
ORBITAL_SEMIMAJOR_AXIS = 8668.33
PERIAPSIS_ALTITUDE = 347.1
PERIAPSIS_ARGUMENT_ANGLE = 124.6
PERIAPSIS_TIME = 2008-03-22T13:18:00.000Z
SPACECRAFT_ORIENTATION = (0.0,-1.0,0.0)
^MEX_ORIENTATION_DESC = "MEX_ORIENTATION_DESC.TXT"
SPACECRAFT_POINTING_MODE = ACROSSTRACK
^MEX_POINTING_DESC = "MEX_POINTING_DESC.TXT"
RIGHT_ASCENSION = -1e+32
DECLINATION = -1e+32
OFFSET_ANGLE = 0.2
SPACECRAFT_SOLAR_DISTANCE = 2.47266e+08
TARGET_NAME = MARS
/* CAMERA DATA ELEMENTS */
DETECTOR_TEMPERATURE = 18.1666
FOCAL_PLANE_TEMPERATURE = 8.1755
INST_CMPRS_NAME = "DISCRETE COSINE TRANSFORMATION (DCT)"
INST_CMPRS_RATIO = 7.12567
INST_CMPRS_QUALITY = 0
INST_CMPRS_QUANTZ_TBL_ID = 0
INSTRUMENT_TEMPERATURE = 11.0301
LENS_TEMPERATURE = 8.5833
MACROPIXEL_SIZE = 1
MISSING_FRAMES = 0
PIXEL_SUBSAMPLING_FLAG = N
SIGNAL_CHAIN_ID = 0
/* RADIOMETRIC DATA ELEMENTS */
BANDWIDTH = 177.0
CENTER_FILTER_WAVELENGTH = 677.5
RADIANCE_OFFSET = 2.03061
RADIANCE_SCALING_FACTOR = 0.0123566
REFLECTANCE_SCALING_FACTOR = 0.000401338
MEX:REFLECTANCE_OFFSET = 0.0659532
/* IMAGE OBJECT DEFINITIONS */
OBJECT = IMAGE
  INTERCHANGE_FORMAT = BINARY
  LINES = 43079
  LINE_SAMPLES = 9020
  SAMPLE_TYPE = UNSIGNED_INTEGER
  SAMPLE_BITS = 8
  BANDS = 1
  BAND_STORAGE_TYPE = BAND_SEQUENTIAL
  MAXIMUM = 254
  MEAN = 114.42
  MINIMUM = 1
  STANDARD_DEVIATION = 32.9774
END_OBJECT = IMAGE
/* MAP OBJECT DEFINITIONS */
OBJECT = IMAGE_MAP_PROJECTION
  ^DATA_SET_MAP_PROJECTION_CATALOG= "DSMAP.CAT"
  A_AXIS_RADIUS = 3396.0
  B_AXIS_RADIUS = 3396.0
  C_AXIS_RADIUS = 3396.0
  CENTER_LATITUDE = 0.0
  CENTER_LONGITUDE = 86.0
  COORDINATE_SYSTEM_NAME = PLANETOGRAPHIC
  COORDINATE_SYSTEM_TYPE = "BODY-FIXED ROTATING"
  EASTERNMOST_LONGITUDE = 87.79040000000001
  FIRST_STANDARD_PARALLEL = "N/A"
  LINE_FIRST_PIXEL = 1
  LINE_LAST_PIXEL = 43079
  LINE_PROJECTION_OFFSET = 299537.0
  MAP_PROJECTION_ROTATION = 0.0
  MAP_PROJECTION_TYPE = SINUSOIDAL
  MAP_RESOLUTION = 4741.71043093333
  MAP_SCALE = 0.0125
  MAXIMUM_LATITUDE = 63.1657
  MINIMUM_LATITUDE = 54.0925
  POSITIVE_LONGITUDE_DIRECTION = EAST
  REFERENCE_LATITUDE = "N/A"
  REFERENCE_LONGITUDE = "N/A"
  SAMPLE_FIRST_PIXEL = 1
  SAMPLE_LAST_PIXEL = 9020
  SAMPLE_PROJECTION_OFFSET = 4079.0
  SECOND_STANDARD_PARALLEL = "N/A"
  WESTERNMOST_LONGITUDE = 84.1639
END_OBJECT = IMAGE_MAP_PROJECTION
/* The JPEG2000 image data file associated with this label. */
OBJECT = COMPRESSED_FILE
  FILE_NAME = "H5421_0000_ND3.JP2"
  RECORD_TYPE = UNDEFINED
  FILE_RECORDS = UNK
  ENCODING_TYPE = "JP2"
  INTERCHANGE_FORMAT = BINARY
  UNCOMPRESSED_FILE_NAME = "H5421_0000_ND3.IMG"
  REQUIRED_STORAGE_BYTES = "388608660"
  ^DESCRIPTION = "JP2INFO.TXT"
END_OBJECT = COMPRESSED_FILE
END
