PDS_VERSION_ID = PDS3
/* FILE DATA ELEMENTS */
RECORD_TYPE = STREAM
/* POINTERS TO DATA OBJECTS */
^COMPRESSED_FILE = "H5425_0009_S13.JP2"
/* IDENTIFICATION DATA ELEMENTS */
DATA_SET_ID = "MEX-M-HRSC-5-REFDR-MAPPROJECTED-V3.0"
DATA_SET_NAME = "MARS EXPRESS HRSC MAP PROJECTED REFDR V3.0"
DETECTOR_ID = MEX_HRSC_S1
EVENT_TYPE = "MARS-REGIONAL-MAPPING-Te-Im-Pf"
INSTRUMENT_HOST_ID = MEX
INSTRUMENT_HOST_NAME = "MARS EXPRESS"
INSTRUMENT_ID = HRSC
INSTRUMENT_NAME = "HIGH RESOLUTION STEREO CAMERA"
MISSION_NAME = "MARS EXPRESS"
MISSION_PHASE_NAME = ME_Phase_11
PROCESSING_LEVEL_ID = 3
PRODUCT_CREATION_TIME = 2016-05-14T17:13:02.000Z
PRODUCT_ID = "H5425_0009_S13.JP2"
RELEASE_ID = 0062
REVISION_ID = 0000
/* QUALITY DATA ELEMENTS */
DATA_QUALITY_ID = 2
DATA_QUALITY_DESC = "Data calculated based on photogrammetrically improved orbit and attitude data"
/* TIME DATA ELEMENTS */
SPACECRAFT_CLOCK_START_COUNT = "1/0154370220.08236"
SPACECRAFT_CLOCK_STOP_COUNT = "1/0154370470.32938"
START_TIME = 2008-03-23T16:37:03.877Z
STOP_TIME = 2008-03-23T16:40:08.996Z
/* ORBITAL DATA ELEMENTS */
ASCENDING_NODE_LONGITUDE = 115.38
MAXIMUM_RESOLUTION = 29.7
FOOTPRINT_POINT_LATITUDE = (65.3023,65.28,65.2604,65.2321,65.2086, 65.1834,65.1601,64.9034,64.5068,64.2423 ,63.9771,63.7113,63.445,63.1957,62.8601 ,62.524,62.1871,61.9624,61.737,61.5114, 61.1726,60.9466,60.7201,60.4936,60.2669 ,60.0396,59.8125,59.5851,59.3575, 59.1295,58.901,58.5583,58.2147,57.9857, 57.6417,57.2972,57.0672,56.8371,56.4922 ,56.1462,55.7997,55.453,55.106,54.8741, 54.5261,54.1776,53.9453,53.713,53.3611, 53.3387,53.3546,53.3667,53.3817,53.3996 ,53.6334,53.8705,54.1039,54.4532, 54.6862,55.0364,55.3848,55.6168,55.9647 ,56.1967,56.4285,56.7759,57.0074, 57.2388,57.4698,57.7005,57.9313,58.1622 ,58.392,58.6221,58.9669,59.1967,59.4261 ,59.6553,59.884,60.1129,60.456,60.6845, 60.9122,61.1399,61.4813,61.7087,61.9359 ,62.1627,62.3892,62.6158,62.8418, 63.0676,63.4062,63.8065,64.0747,64.3425 ,64.61,64.8772,65.1438,65.3023)
FOOTPRINT_POINT_LONGITUDE = (45.7901,45.2048,44.7375,44.1253, 43.6603,43.1956,42.7895,42.7774,42.908, 42.9927,43.0753,43.1559,43.2346,43.3067 ,43.4011,43.4928,43.5819,43.6399, 43.6967,43.7525,43.8342,43.8874,43.9395 ,43.9908,44.0411,44.0903,44.1388, 44.1864,44.2331,44.2788,44.3236,44.3895 ,44.4533,44.495,44.556,44.6154,44.654, 44.692,44.7478,44.8019,44.8544,44.9055, 44.9553,44.9876,45.0349,45.0809,45.1109 ,45.1404,45.1841,45.5065,45.8849, 46.2035,46.6423,47.2484,47.2313,47.2136 ,47.1961,47.1696,47.1514,47.1229, 47.0947,47.0757,47.0463,47.0262,47.0058 ,46.9746,46.9533,46.9316,46.9097, 46.8875,46.8649,46.8416,46.8186,46.7949 ,46.7586,46.7338,46.7086,46.6832, 46.6575,46.631,46.5904,46.5627,46.5351, 46.5067,46.4631,46.4333,46.4031,46.3724 ,46.3412,46.3092,46.277,46.2441,46.1934 ,46.1321,46.0897,46.0464,46.0021, 45.9568,45.9106,45.7901)
ORBIT_NUMBER = 5425
ORBITAL_ECCENTRICITY = 0.569
ORBITAL_INCLINATION = 86.75
ORBITAL_SEMIMAJOR_AXIS = 8665.83
PERIAPSIS_ALTITUDE = 348.34
PERIAPSIS_ARGUMENT_ANGLE = 123.93
PERIAPSIS_TIME = 2008-03-23T16:40:00.000Z
SPACECRAFT_ORIENTATION = (0.0,-1.0,0.0)
^MEX_ORIENTATION_DESC = "MEX_ORIENTATION_DESC.TXT"
SPACECRAFT_POINTING_MODE = NADIR
^MEX_POINTING_DESC = "MEX_POINTING_DESC.TXT"
RIGHT_ASCENSION = -1e+32
DECLINATION = -1e+32
OFFSET_ANGLE = -1e+32
SPACECRAFT_SOLAR_DISTANCE = 2.4735e+08
TARGET_NAME = MARS
/* CAMERA DATA ELEMENTS */
DETECTOR_TEMPERATURE = 17.351
FOCAL_PLANE_TEMPERATURE = 8.3794
INST_CMPRS_NAME = "DISCRETE COSINE TRANSFORMATION (DCT)"
INST_CMPRS_RATIO = 11.8838
INST_CMPRS_QUALITY = 0
INST_CMPRS_QUANTZ_TBL_ID = 0
INSTRUMENT_TEMPERATURE = 11.4379
LENS_TEMPERATURE = 8.7872
MACROPIXEL_SIZE = 2
MISSING_FRAMES = 1
PIXEL_SUBSAMPLING_FLAG = N
SIGNAL_CHAIN_ID = 1
/* RADIOMETRIC DATA ELEMENTS */
BANDWIDTH = 180.0
CENTER_FILTER_WAVELENGTH = 677.0
RADIANCE_OFFSET = 3.57727
RADIANCE_SCALING_FACTOR = 0.0144669
REFLECTANCE_SCALING_FACTOR = 0.000461788
MEX:REFLECTANCE_OFFSET = 0.114188
/* IMAGE OBJECT DEFINITIONS */
OBJECT = IMAGE
  INTERCHANGE_FORMAT = BINARY
  LINES = 28115
  LINE_SAMPLES = 5406
  SAMPLE_TYPE = UNSIGNED_INTEGER
  SAMPLE_BITS = 8
  BANDS = 1
  BAND_STORAGE_TYPE = BAND_SEQUENTIAL
  MAXIMUM = 255
  MEAN = 85.0924
  MINIMUM = 1
  STANDARD_DEVIATION = 33.2634
END_OBJECT = IMAGE
/* MAP OBJECT DEFINITIONS */
OBJECT = IMAGE_MAP_PROJECTION
  ^DATA_SET_MAP_PROJECTION_CATALOG= "DSMAP.CAT"
  A_AXIS_RADIUS = 3396.0
  B_AXIS_RADIUS = 3396.0
  C_AXIS_RADIUS = 3396.0
  CENTER_LATITUDE = 0.0
  CENTER_LONGITUDE = 45.0
  COORDINATE_SYSTEM_NAME = PLANETOGRAPHIC
  COORDINATE_SYSTEM_TYPE = "BODY-FIXED ROTATING"
  EASTERNMOST_LONGITUDE = 47.2484
  FIRST_STANDARD_PARALLEL = "N/A"
  LINE_FIRST_PIXEL = 1
  LINE_LAST_PIXEL = 28115
  LINE_PROJECTION_OFFSET = 154561.25
  MAP_PROJECTION_ROTATION = 0.0
  MAP_PROJECTION_TYPE = SINUSOIDAL
  MAP_RESOLUTION = 2370.85521546667
  MAP_SCALE = 0.025
  MAXIMUM_LATITUDE = 65.3023
  MINIMUM_LATITUDE = 53.3387
  POSITIVE_LONGITUDE_DIRECTION = EAST
  REFERENCE_LATITUDE = "N/A"
  REFERENCE_LONGITUDE = "N/A"
  SAMPLE_FIRST_PIXEL = 1
  SAMPLE_LAST_PIXEL = 5406
  SAMPLE_PROJECTION_OFFSET = 2225.25
  SECOND_STANDARD_PARALLEL = "N/A"
  WESTERNMOST_LONGITUDE = 42.7774
END_OBJECT = IMAGE_MAP_PROJECTION
/* The JPEG2000 image data file associated with this label. */
OBJECT = COMPRESSED_FILE
  FILE_NAME = "H5425_0009_S13.JP2"
  RECORD_TYPE = UNDEFINED
  FILE_RECORDS = UNK
  ENCODING_TYPE = "JP2"
  INTERCHANGE_FORMAT = BINARY
  UNCOMPRESSED_FILE_NAME = "H5425_0009_S13.IMG"
  REQUIRED_STORAGE_BYTES = "152016720"
  ^DESCRIPTION = "JP2INFO.TXT"
END_OBJECT = COMPRESSED_FILE
END
