PDS_VERSION_ID = PDS3
/* FILE DATA ELEMENTS */
RECORD_TYPE = STREAM
/* POINTERS TO DATA OBJECTS */
^COMPRESSED_FILE = "H5427_0000_RE3.JP2"
/* IDENTIFICATION DATA ELEMENTS */
DATA_SET_ID = "MEX-M-HRSC-5-REFDR-MAPPROJECTED-V3.0"
DATA_SET_NAME = "MARS EXPRESS HRSC MAP PROJECTED REFDR V3.0"
DETECTOR_ID = MEX_HRSC_RED
EVENT_TYPE = "MARS-REGIONAL-MAPPING-Te-Im-Pf"
INSTRUMENT_HOST_ID = MEX
INSTRUMENT_HOST_NAME = "MARS EXPRESS"
INSTRUMENT_ID = HRSC
INSTRUMENT_NAME = "HIGH RESOLUTION STEREO CAMERA"
MISSION_NAME = "MARS EXPRESS"
MISSION_PHASE_NAME = ME_Phase_11
PROCESSING_LEVEL_ID = 3
PRODUCT_CREATION_TIME = 2016-05-14T17:13:02.000Z
PRODUCT_ID = "H5427_0000_RE3.JP2"
RELEASE_ID = 0062
REVISION_ID = 0000
/* QUALITY DATA ELEMENTS */
DATA_QUALITY_ID = 1
DATA_QUALITY_DESC = "Data calculated based on original SPICE kernels"
/* TIME DATA ELEMENTS */
SPACECRAFT_CLOCK_START_COUNT = "1/0154419470.09066"
SPACECRAFT_CLOCK_STOP_COUNT = "1/0154419713.31332"
START_TIME = 2008-03-24T06:18:56.155Z
STOP_TIME = 2008-03-24T06:21:49.897Z
/* ORBITAL DATA ELEMENTS */
ASCENDING_NODE_LONGITUDE = 115.34
MAXIMUM_RESOLUTION = 58.9
FOOTPRINT_POINT_LATITUDE = (65.9215,65.904,65.8854,65.8656,65.8446 ,65.8181,65.9152,65.6907,65.4662, 65.2415,65.0171,64.6795,64.3431,64.1185 ,63.8937,63.5566,63.3316,63.1065,62.882 ,62.6571,62.3202,62.0955,61.8706, 61.6458,61.421,61.0839,60.7469,60.5221, 60.2974,60.0729,59.8484,59.6235,59.399, 59.1746,58.8381,58.6137,58.3894,58.1653 ,57.8293,57.6054,57.3814,57.1578, 56.9338,56.7102,56.375,56.1516,55.8166, 55.5934,55.3704,55.036,54.8133,54.678, 54.6868,54.6988,54.706,54.7122,54.7205, 54.7277,54.7348,54.9584,55.2944,55.6305 ,55.9669,56.1912,56.4154,56.6401, 56.9773,57.202,57.4267,57.6518,57.99, 58.2152,58.4405,58.6659,59.0042,59.3428 ,59.6815,60.0203,60.2463,60.5854, 60.8119,61.038,61.3774,61.6037,61.943, 62.2828,62.7361,63.0761,63.3026,63.5294 ,63.7562,64.0965,64.4364,64.7767, 65.0035,65.2301,65.4571,65.6835,65.9104 ,65.9215)
FOOTPRINT_POINT_LONGITUDE = (204.08,203.638,203.195,202.751,202.306 ,201.775,201.592,201.679,201.764, 201.847,201.928,202.048,202.162,202.237 ,202.31,202.417,202.487,202.555,202.621 ,202.687,202.782,202.844,202.905, 202.964,203.023,203.109,203.191,203.246 ,203.299,203.35,203.401,203.452,203.501 ,203.549,203.619,203.665,203.71,203.754 ,203.818,203.86,203.901,203.941,203.981 ,204.02,204.077,204.113,204.168,204.203 ,204.238,204.288,204.321,204.483, 204.746,205.13,205.371,205.592,205.912, 206.211,206.496,206.473,206.44,206.405, 206.369,206.345,206.321,206.296,206.258 ,206.232,206.205,206.178,206.137,206.11 ,206.081,206.052,206.008,205.963, 205.916,205.868,205.836,205.786,205.752 ,205.718,205.665,205.628,205.573, 205.516,205.437,205.377,205.335,205.293 ,205.25,205.184,205.115,205.045,204.997 ,204.948,204.898,204.848,204.796, 204.08)
ORBIT_NUMBER = 5427
ORBITAL_ECCENTRICITY = 0.569
ORBITAL_INCLINATION = 86.76
ORBITAL_SEMIMAJOR_AXIS = 8659.82
PERIAPSIS_ALTITUDE = 348.25
PERIAPSIS_ARGUMENT_ANGLE = 123.56
PERIAPSIS_TIME = 2008-03-24T06:20:59.000Z
SPACECRAFT_ORIENTATION = (0.0,-1.0,0.0)
^MEX_ORIENTATION_DESC = "MEX_ORIENTATION_DESC.TXT"
SPACECRAFT_POINTING_MODE = ACROSSTRACK
^MEX_POINTING_DESC = "MEX_POINTING_DESC.TXT"
RIGHT_ASCENSION = -1e+32
DECLINATION = -1e+32
OFFSET_ANGLE = -0.3
SPACECRAFT_SOLAR_DISTANCE = 2.47392e+08
TARGET_NAME = MARS
/* CAMERA DATA ELEMENTS */
DETECTOR_TEMPERATURE = 18.3705
FOCAL_PLANE_TEMPERATURE = 7.9716
INST_CMPRS_NAME = "DISCRETE COSINE TRANSFORMATION (DCT)"
INST_CMPRS_RATIO = 28.6971
INST_CMPRS_QUALITY = 0
INST_CMPRS_QUANTZ_TBL_ID = 0
INSTRUMENT_TEMPERATURE = 11.234
LENS_TEMPERATURE = 8.3794
MACROPIXEL_SIZE = 4
MISSING_FRAMES = 0
PIXEL_SUBSAMPLING_FLAG = N
SIGNAL_CHAIN_ID = 2
/* RADIOMETRIC DATA ELEMENTS */
BANDWIDTH = 48.0
CENTER_FILTER_WAVELENGTH = 748.0
RADIANCE_OFFSET = 0.928771
RADIANCE_SCALING_FACTOR = 0.00440104
REFLECTANCE_SCALING_FACTOR = 0.000614686
MEX:REFLECTANCE_OFFSET = 0.12972
/* IMAGE OBJECT DEFINITIONS */
OBJECT = IMAGE
  INTERCHANGE_FORMAT = BINARY
  LINES = 13510
  LINE_SAMPLES = 2616
  SAMPLE_TYPE = UNSIGNED_INTEGER
  SAMPLE_BITS = 8
  BANDS = 1
  BAND_STORAGE_TYPE = BAND_SEQUENTIAL
  MAXIMUM = 255
  MEAN = 118.424
  MINIMUM = 1
  STANDARD_DEVIATION = 28.2326
END_OBJECT = IMAGE
/* MAP OBJECT DEFINITIONS */
OBJECT = IMAGE_MAP_PROJECTION
  ^DATA_SET_MAP_PROJECTION_CATALOG= "DSMAP.CAT"
  A_AXIS_RADIUS = 3396.0
  B_AXIS_RADIUS = 3396.0
  C_AXIS_RADIUS = 3396.0
  CENTER_LATITUDE = 0.0
  CENTER_LONGITUDE = 205.0
  COORDINATE_SYSTEM_NAME = PLANETOGRAPHIC
  COORDINATE_SYSTEM_TYPE = "BODY-FIXED ROTATING"
  EASTERNMOST_LONGITUDE = 206.496
  FIRST_STANDARD_PARALLEL = "N/A"
  LINE_FIRST_PIXEL = 1
  LINE_LAST_PIXEL = 13510
  LINE_PROJECTION_OFFSET = 78292.375
  MAP_PROJECTION_ROTATION = 0.0
  MAP_PROJECTION_TYPE = SINUSOIDAL
  MAP_RESOLUTION = 1185.42760773333
  MAP_SCALE = 0.05
  MAXIMUM_LATITUDE = 65.92149999999999
  MINIMUM_LATITUDE = 54.678
  POSITIVE_LONGITUDE_DIRECTION = EAST
  REFERENCE_LATITUDE = "N/A"
  REFERENCE_LONGITUDE = "N/A"
  SAMPLE_FIRST_PIXEL = 1
  SAMPLE_LAST_PIXEL = 2616
  SAMPLE_PROJECTION_OFFSET = 1615.875
  SECOND_STANDARD_PARALLEL = "N/A"
  WESTERNMOST_LONGITUDE = 201.592
END_OBJECT = IMAGE_MAP_PROJECTION
/* The JPEG2000 image data file associated with this label. */
OBJECT = COMPRESSED_FILE
  FILE_NAME = "H5427_0000_RE3.JP2"
  RECORD_TYPE = UNDEFINED
  FILE_RECORDS = UNK
  ENCODING_TYPE = "JP2"
  INTERCHANGE_FORMAT = BINARY
  UNCOMPRESSED_FILE_NAME = "H5427_0000_RE3.IMG"
  REQUIRED_STORAGE_BYTES = "35363088"
  ^DESCRIPTION = "JP2INFO.TXT"
END_OBJECT = COMPRESSED_FILE
END
