PDS_VERSION_ID = PDS3
/* FILE DATA ELEMENTS */
RECORD_TYPE = STREAM
/* POINTERS TO DATA OBJECTS */
^COMPRESSED_FILE = "H5429_0000_IR3.JP2"
/* IDENTIFICATION DATA ELEMENTS */
DATA_SET_ID = "MEX-M-HRSC-5-REFDR-MAPPROJECTED-V3.0"
DATA_SET_NAME = "MARS EXPRESS HRSC MAP PROJECTED REFDR V3.0"
DETECTOR_ID = MEX_HRSC_IR
EVENT_TYPE = "MARS-REGIONAL-MAPPING-Te-Im-Pf"
INSTRUMENT_HOST_ID = MEX
INSTRUMENT_HOST_NAME = "MARS EXPRESS"
INSTRUMENT_ID = HRSC
INSTRUMENT_NAME = "HIGH RESOLUTION STEREO CAMERA"
MISSION_NAME = "MARS EXPRESS"
MISSION_PHASE_NAME = ME_Phase_11
PROCESSING_LEVEL_ID = 3
PRODUCT_CREATION_TIME = 2016-05-14T17:13:02.000Z
PRODUCT_ID = "H5429_0000_IR3.JP2"
RELEASE_ID = 0062
REVISION_ID = 0000
/* QUALITY DATA ELEMENTS */
DATA_QUALITY_ID = 1
DATA_QUALITY_DESC = "Data calculated based on original SPICE kernels"
/* TIME DATA ELEMENTS */
SPACECRAFT_CLOCK_START_COUNT = "1/0154468718.09060"
SPACECRAFT_CLOCK_STOP_COUNT = "1/0154468975.25965"
START_TIME = 2008-03-24T19:58:48.351Z
STOP_TIME = 2008-03-24T20:01:59.434Z
/* ORBITAL DATA ELEMENTS */
ASCENDING_NODE_LONGITUDE = 115.3
MAXIMUM_RESOLUTION = 58.8
FOOTPRINT_POINT_LATITUDE = (67.3806,67.3228,67.2912,67.2577, 67.2224,67.1582,66.9065,66.51,66.2453, 65.98,65.7142,65.4482,65.1813,64.9141, 64.6468,64.3786,64.1102,63.7136,63.4878 ,63.2618,63.0356,62.809,62.5822,62.2414 ,62.014,61.7863,61.4442,61.1018,60.8733 ,60.6443,60.4152,60.1859,59.9566, 59.7266,59.4963,59.2662,59.0358,58.8052 ,58.4589,58.2278,57.9964,57.7652, 57.4175,57.1857,56.9535,56.7213,56.4888 ,56.2564,56.0236,55.6744,55.441,55.2079 ,55.0145,55.0463,55.0921,55.1146,55.149 ,55.3836,55.6182,55.8524,56.0869,56.438 ,56.7887,57.0222,57.3724,57.6056, 57.9551,58.3045,58.6536,58.886,59.2345, 59.5821,59.8139,60.0454,60.2767,60.5081 ,60.7388,61.085,61.3154,61.6609,61.891, 62.1206,62.4649,62.6941,62.923,63.1518, 63.4944,63.8369,64.0876,64.3592,64.6305 ,64.9013,65.3072,65.5771,65.9814, 66.2503,66.519,66.7873,67.1891,67.3806)
FOOTPRINT_POINT_LONGITUDE = (3.76416,2.78605,2.29443,1.80163, 1.30763,0.469646,0.394055,0.575311, 0.692682,0.807112,0.918747,1.02799, 1.13421,1.23807,1.33972,1.43868,1.53545 ,1.67431,1.75092,1.82611,1.89991, 1.97214,2.04314,2.14698,2.2147,2.28106, 2.37826,2.47292,2.53464,2.59497,2.65425 ,2.71247,2.76987,2.82569,2.88044, 2.93456,2.98763,3.03974,3.11604,3.16577 ,3.21446,3.26266,3.33288,3.3788,3.42359 ,3.4678,3.51115,3.55389,3.5956,3.65713, 3.69683,3.73619,3.76815,4.21755,4.92731 ,5.30942,5.93397,5.90855,5.88269, 5.85651,5.82984,5.78913,5.74747,5.71921 ,5.67591,5.64649,5.60148,5.55534, 5.50807,5.47593,5.4267,5.3764,5.34213, 5.30728,5.27188,5.23579,5.19924,5.14313 ,5.10498,5.04644,5.00656,4.96609, 4.90396,4.86164,4.81862,4.77479,4.70765 ,4.63857,4.58678,4.52938,4.47073, 4.41083,4.31832,4.25504,4.15729,4.09035 ,4.0218,3.95159,3.84315,3.76416)
ORBIT_NUMBER = 5429
ORBITAL_ECCENTRICITY = 0.569
ORBITAL_INCLINATION = 86.74
ORBITAL_SEMIMAJOR_AXIS = 8661.82
PERIAPSIS_ALTITUDE = 349.02
PERIAPSIS_ARGUMENT_ANGLE = 123.2
PERIAPSIS_TIME = 2008-03-24T20:02:02.000Z
SPACECRAFT_ORIENTATION = (0.0,-1.0,0.0)
^MEX_ORIENTATION_DESC = "MEX_ORIENTATION_DESC.TXT"
SPACECRAFT_POINTING_MODE = ACROSSTRACK
^MEX_POINTING_DESC = "MEX_POINTING_DESC.TXT"
RIGHT_ASCENSION = -1e+32
DECLINATION = -1e+32
OFFSET_ANGLE = -0.5
SPACECRAFT_SOLAR_DISTANCE = 2.47433e+08
TARGET_NAME = MARS
/* CAMERA DATA ELEMENTS */
DETECTOR_TEMPERATURE = 17.351
FOCAL_PLANE_TEMPERATURE = 8.1755
INST_CMPRS_NAME = "DISCRETE COSINE TRANSFORMATION (DCT)"
INST_CMPRS_RATIO = 20.9627
INST_CMPRS_QUALITY = 0
INST_CMPRS_QUANTZ_TBL_ID = 0
INSTRUMENT_TEMPERATURE = 11.4379
LENS_TEMPERATURE = 8.5833
MACROPIXEL_SIZE = 4
MISSING_FRAMES = 0
PIXEL_SUBSAMPLING_FLAG = N
SIGNAL_CHAIN_ID = 2
/* RADIOMETRIC DATA ELEMENTS */
BANDWIDTH = 81.0
CENTER_FILTER_WAVELENGTH = 955.5
RADIANCE_OFFSET = 1.12937
RADIANCE_SCALING_FACTOR = 0.00308857
REFLECTANCE_SCALING_FACTOR = 0.000407946
MEX:REFLECTANCE_OFFSET = 0.14917
/* IMAGE OBJECT DEFINITIONS */
OBJECT = IMAGE
  INTERCHANGE_FORMAT = BINARY
  LINES = 14485
  LINE_SAMPLES = 2978
  SAMPLE_TYPE = UNSIGNED_INTEGER
  SAMPLE_BITS = 8
  BANDS = 1
  BAND_STORAGE_TYPE = BAND_SEQUENTIAL
  MAXIMUM = 255
  MEAN = 160.767
  MINIMUM = 1
  STANDARD_DEVIATION = 29.9968
END_OBJECT = IMAGE
/* MAP OBJECT DEFINITIONS */
OBJECT = IMAGE_MAP_PROJECTION
  ^DATA_SET_MAP_PROJECTION_CATALOG= "DSMAP.CAT"
  A_AXIS_RADIUS = 3396.0
  B_AXIS_RADIUS = 3396.0
  C_AXIS_RADIUS = 3396.0
  CENTER_LATITUDE = 0.0
  CENTER_LONGITUDE = 4.0
  COORDINATE_SYSTEM_NAME = PLANETOGRAPHIC
  COORDINATE_SYSTEM_TYPE = "BODY-FIXED ROTATING"
  EASTERNMOST_LONGITUDE = 5.93397
  FIRST_STANDARD_PARALLEL = "N/A"
  LINE_FIRST_PIXEL = 1
  LINE_LAST_PIXEL = 14485
  LINE_PROJECTION_OFFSET = 79763.375
  MAP_PROJECTION_ROTATION = 0.0
  MAP_PROJECTION_TYPE = SINUSOIDAL
  MAP_RESOLUTION = 1185.42760773333
  MAP_SCALE = 0.05
  MAXIMUM_LATITUDE = 67.3806
  MINIMUM_LATITUDE = 55.0145
  POSITIVE_LONGITUDE_DIRECTION = EAST
  REFERENCE_LATITUDE = "N/A"
  REFERENCE_LONGITUDE = "N/A"
  SAMPLE_FIRST_PIXEL = 1
  SAMPLE_LAST_PIXEL = 2978
  SAMPLE_PROJECTION_OFFSET = 1674.875
  SECOND_STANDARD_PARALLEL = "N/A"
  WESTERNMOST_LONGITUDE = 0.394055
END_OBJECT = IMAGE_MAP_PROJECTION
/* The JPEG2000 image data file associated with this label. */
OBJECT = COMPRESSED_FILE
  FILE_NAME = "H5429_0000_IR3.JP2"
  RECORD_TYPE = UNDEFINED
  FILE_RECORDS = UNK
  ENCODING_TYPE = "JP2"
  INTERCHANGE_FORMAT = BINARY
  UNCOMPRESSED_FILE_NAME = "H5429_0000_IR3.IMG"
  REQUIRED_STORAGE_BYTES = "43160154"
  ^DESCRIPTION = "JP2INFO.TXT"
END_OBJECT = COMPRESSED_FILE
END
