PDS_VERSION_ID = PDS3
/* FILE DATA ELEMENTS */
RECORD_TYPE = STREAM
/* POINTERS TO DATA OBJECTS */
^COMPRESSED_FILE = "H5429_0000_P13.JP2"
/* IDENTIFICATION DATA ELEMENTS */
DATA_SET_ID = "MEX-M-HRSC-5-REFDR-MAPPROJECTED-V3.0"
DATA_SET_NAME = "MARS EXPRESS HRSC MAP PROJECTED REFDR V3.0"
DETECTOR_ID = MEX_HRSC_P1
EVENT_TYPE = "MARS-REGIONAL-MAPPING-Te-Im-Pf"
INSTRUMENT_HOST_ID = MEX
INSTRUMENT_HOST_NAME = "MARS EXPRESS"
INSTRUMENT_ID = HRSC
INSTRUMENT_NAME = "HIGH RESOLUTION STEREO CAMERA"
MISSION_NAME = "MARS EXPRESS"
MISSION_PHASE_NAME = ME_Phase_11
PROCESSING_LEVEL_ID = 3
PRODUCT_CREATION_TIME = 2016-05-14T17:13:02.000Z
PRODUCT_ID = "H5429_0000_P13.JP2"
RELEASE_ID = 0062
REVISION_ID = 0000
/* QUALITY DATA ELEMENTS */
DATA_QUALITY_ID = 1
DATA_QUALITY_DESC = "Data calculated based on original SPICE kernels"
/* TIME DATA ELEMENTS */
SPACECRAFT_CLOCK_START_COUNT = "1/0154468718.09060"
SPACECRAFT_CLOCK_STOP_COUNT = "1/0154468975.25965"
START_TIME = 2008-03-24T19:58:54.291Z
STOP_TIME = 2008-03-24T20:02:04.629Z
/* ORBITAL DATA ELEMENTS */
ASCENDING_NODE_LONGITUDE = 115.3
MAXIMUM_RESOLUTION = 28.9
FOOTPRINT_POINT_LATITUDE = (67.3606,67.3009,67.2335,67.1604, 66.9297,66.6617,66.3932,66.1243,65.7202 ,65.4506,65.1798,64.9089,64.6377, 64.3661,64.0987,63.6421,63.4134,63.1844 ,62.9552,62.7257,62.381,62.151,61.9207, 61.6902,61.4594,61.2285,60.9974,60.766, 60.5345,60.3026,60.0709,59.7223,59.4897 ,59.1407,58.9078,58.6747,58.4414, 58.2079,57.9743,57.7407,57.3897,57.1557 ,56.9212,56.6869,56.449,56.2143,55.9794 ,55.6269,55.3918,55.1565,55.0729, 55.1145,55.1469,55.3994,55.6359,55.8721 ,56.1086,56.3447,56.5807,56.9379, 57.1735,57.4091,57.7622,57.9974,58.2325 ,58.5851,58.8199,59.0545,59.2893, 59.5234,59.7576,59.9916,60.2255,60.5763 ,60.8096,61.0431,61.2761,61.5091, 61.7419,61.9746,62.2069,62.5552,62.7871 ,63.1345,63.366,63.5971,63.8283,64.059, 64.2895,64.6967,64.9712,65.2454,65.5191 ,65.7925,66.0656,66.3383,66.6106, 66.8827,67.1545,67.3606)
FOOTPRINT_POINT_LONGITUDE = (3.50272,2.48871,1.46847,0.473057, 0.384759,0.508309,0.628582,0.746109, 0.916914,1.02785,1.13506,1.23998, 1.34269,1.44281,1.53913,1.69795,1.77502 ,1.85046,1.92451,1.99708,2.10337, 2.17258,2.24046,2.30698,2.37215,2.43634 ,2.49914,2.56074,2.62128,2.68057, 2.73902,2.82405,2.87931,2.9607,3.01371, 3.06572,3.11665,3.16669,3.21576,3.26421 ,3.33485,3.38112,3.42602,3.47053, 3.51474,3.5576,3.59939,3.66098,3.70107, 3.7404,4.31374,5.00898,5.6138,5.90594, 5.87974,5.85317,5.82609,5.79866,5.7708, 5.72775,5.69877,5.66932,5.62425,5.59361 ,5.56244,5.5147,5.48223,5.44925,5.41564 ,5.38162,5.34695,5.3117,5.27585,5.22087 ,5.1835,5.14542,5.10677,5.06737,5.02731 ,4.9865,4.94506,4.88143,4.8381,4.77162, 4.72627,4.68013,4.63305,4.58522,4.53646 ,4.44795,4.38651,4.32364,4.25944, 4.19372,4.12643,4.05758,3.98712,3.91488 ,3.84089,3.50272)
ORBIT_NUMBER = 5429
ORBITAL_ECCENTRICITY = 0.569
ORBITAL_INCLINATION = 86.74
ORBITAL_SEMIMAJOR_AXIS = 8661.82
PERIAPSIS_ALTITUDE = 349.02
PERIAPSIS_ARGUMENT_ANGLE = 123.2
PERIAPSIS_TIME = 2008-03-24T20:02:02.000Z
SPACECRAFT_ORIENTATION = (0.0,-1.0,0.0)
^MEX_ORIENTATION_DESC = "MEX_ORIENTATION_DESC.TXT"
SPACECRAFT_POINTING_MODE = ACROSSTRACK
^MEX_POINTING_DESC = "MEX_POINTING_DESC.TXT"
RIGHT_ASCENSION = -1e+32
DECLINATION = -1e+32
OFFSET_ANGLE = -0.5
SPACECRAFT_SOLAR_DISTANCE = 2.47433e+08
TARGET_NAME = MARS
/* CAMERA DATA ELEMENTS */
DETECTOR_TEMPERATURE = 17.351
FOCAL_PLANE_TEMPERATURE = 8.1755
INST_CMPRS_NAME = "DISCRETE COSINE TRANSFORMATION (DCT)"
INST_CMPRS_RATIO = 16.0908
INST_CMPRS_QUALITY = 0
INST_CMPRS_QUANTZ_TBL_ID = 0
INSTRUMENT_TEMPERATURE = 11.4379
LENS_TEMPERATURE = 8.5833
MACROPIXEL_SIZE = 2
MISSING_FRAMES = 1
PIXEL_SUBSAMPLING_FLAG = N
SIGNAL_CHAIN_ID = 3
/* RADIOMETRIC DATA ELEMENTS */
BANDWIDTH = 174.0
CENTER_FILTER_WAVELENGTH = 675.0
RADIANCE_OFFSET = 4.36512
RADIANCE_SCALING_FACTOR = 0.0106513
REFLECTANCE_SCALING_FACTOR = 0.000350753
MEX:REFLECTANCE_OFFSET = 0.143746
/* IMAGE OBJECT DEFINITIONS */
OBJECT = IMAGE
  INTERCHANGE_FORMAT = BINARY
  LINES = 28970
  LINE_SAMPLES = 5956
  SAMPLE_TYPE = UNSIGNED_INTEGER
  SAMPLE_BITS = 8
  BANDS = 1
  BAND_STORAGE_TYPE = BAND_SEQUENTIAL
  MAXIMUM = 255
  MEAN = 163.056
  MINIMUM = 1
  STANDARD_DEVIATION = 27.6476
END_OBJECT = IMAGE
/* MAP OBJECT DEFINITIONS */
OBJECT = IMAGE_MAP_PROJECTION
  ^DATA_SET_MAP_PROJECTION_CATALOG= "DSMAP.CAT"
  A_AXIS_RADIUS = 3396.0
  B_AXIS_RADIUS = 3396.0
  C_AXIS_RADIUS = 3396.0
  CENTER_LATITUDE = 0.0
  CENTER_LONGITUDE = 4.0
  COORDINATE_SYSTEM_NAME = PLANETOGRAPHIC
  COORDINATE_SYSTEM_TYPE = "BODY-FIXED ROTATING"
  EASTERNMOST_LONGITUDE = 5.90594
  FIRST_STANDARD_PARALLEL = "N/A"
  LINE_FIRST_PIXEL = 1
  LINE_LAST_PIXEL = 28970
  LINE_PROJECTION_OFFSET = 159527.25
  MAP_PROJECTION_ROTATION = 0.0
  MAP_PROJECTION_TYPE = SINUSOIDAL
  MAP_RESOLUTION = 2370.85521546667
  MAP_SCALE = 0.025
  MAXIMUM_LATITUDE = 67.36060000000001
  MINIMUM_LATITUDE = 55.0729
  POSITIVE_LONGITUDE_DIRECTION = EAST
  REFERENCE_LATITUDE = "N/A"
  REFERENCE_LONGITUDE = "N/A"
  SAMPLE_FIRST_PIXEL = 1
  SAMPLE_LAST_PIXEL = 5956
  SAMPLE_PROJECTION_OFFSET = 3350.25
  SECOND_STANDARD_PARALLEL = "N/A"
  WESTERNMOST_LONGITUDE = 0.384759
END_OBJECT = IMAGE_MAP_PROJECTION
/* The JPEG2000 image data file associated with this label. */
OBJECT = COMPRESSED_FILE
  FILE_NAME = "H5429_0000_P13.JP2"
  RECORD_TYPE = UNDEFINED
  FILE_RECORDS = UNK
  ENCODING_TYPE = "JP2"
  INTERCHANGE_FORMAT = BINARY
  UNCOMPRESSED_FILE_NAME = "H5429_0000_P13.IMG"
  REQUIRED_STORAGE_BYTES = "172575100"
  ^DESCRIPTION = "JP2INFO.TXT"
END_OBJECT = COMPRESSED_FILE
END
