PDS_VERSION_ID = PDS3
/* FILE DATA ELEMENTS */
RECORD_TYPE = STREAM
/* POINTERS TO DATA OBJECTS */
^COMPRESSED_FILE = "H5429_0000_S23.JP2"
/* IDENTIFICATION DATA ELEMENTS */
DATA_SET_ID = "MEX-M-HRSC-5-REFDR-MAPPROJECTED-V3.0"
DATA_SET_NAME = "MARS EXPRESS HRSC MAP PROJECTED REFDR V3.0"
DETECTOR_ID = MEX_HRSC_S2
EVENT_TYPE = "MARS-REGIONAL-MAPPING-Te-Im-Pf"
INSTRUMENT_HOST_ID = MEX
INSTRUMENT_HOST_NAME = "MARS EXPRESS"
INSTRUMENT_ID = HRSC
INSTRUMENT_NAME = "HIGH RESOLUTION STEREO CAMERA"
MISSION_NAME = "MARS EXPRESS"
MISSION_PHASE_NAME = ME_Phase_11
PROCESSING_LEVEL_ID = 3
PRODUCT_CREATION_TIME = 2016-05-14T17:13:02.000Z
PRODUCT_ID = "H5429_0000_S23.JP2"
RELEASE_ID = 0062
REVISION_ID = 0000
/* QUALITY DATA ELEMENTS */
DATA_QUALITY_ID = 1
DATA_QUALITY_DESC = "Data calculated based on original SPICE kernels"
/* TIME DATA ELEMENTS */
SPACECRAFT_CLOCK_START_COUNT = "1/0154468718.09060"
SPACECRAFT_CLOCK_STOP_COUNT = "1/0154468975.25965"
START_TIME = 2008-03-24T19:59:51.039Z
STOP_TIME = 2008-03-24T20:02:57.115Z
/* ORBITAL DATA ELEMENTS */
ASCENDING_NODE_LONGITUDE = 115.3
MAXIMUM_RESOLUTION = 30.1
FOOTPRINT_POINT_LATITUDE = (67.1549,67.1384,67.1205,67.1012, 67.0807,67.0587,67.0245,66.6639,66.4233 ,66.1826,65.9419,65.7011,65.4603, 65.0989,64.858,64.4966,64.2555,63.894, 63.6529,63.412,63.1711,62.8097,62.5689, 62.2074,61.8462,61.6053,61.3645,61.0034 ,60.6425,60.4018,60.041,59.8005,59.5608 ,59.3205,59.0804,58.8403,58.6004, 58.3607,58.0012,57.7615,57.522,57.2827, 56.9241,56.6849,56.446,56.2071,55.9687, 55.7298,55.3727,55.1347,55.1286,55.1396 ,55.1482,55.1573,55.1635,55.1695, 55.4086,55.7678,56.0074,56.3668,56.6069 ,56.847,57.2079,57.4486,57.8098,58.0507 ,58.2916,58.5325,58.7737,59.0154, 59.2565,59.4985,59.7403,59.9822,60.2241 ,60.5873,60.8294,61.1931,61.5566, 61.9206,62.1632,62.4061,62.7705,63.0134 ,63.2564,63.6211,63.8643,64.1076, 64.4724,64.7159,64.9591,65.2023,65.4459 ,65.8112,66.0546,66.2983,66.5419, 66.7854,67.0285,67.1549)
FOOTPRINT_POINT_LONGITUDE = (3.75717,3.27167,2.78372,2.29322, 1.80075,1.30574,0.588636,0.556543, 0.662211,0.765667,0.866605,0.965118, 1.0616,1.2021,1.29312,1.42583,1.51203, 1.63749,1.71901,1.79841,1.87612,1.98964 ,2.06317,2.17091,2.27503,2.34273, 2.40893,2.50572,2.59935,2.66045,2.74947 ,2.80738,2.86314,2.9187,2.97294,3.02612 ,3.07823,3.12906,3.20353,3.25218, 3.29975,3.34628,3.41413,3.45851,3.50194 ,3.54456,3.58595,3.62735,3.68658, 3.72534,4.03319,4.46693,4.83235,5.28102 ,5.599,5.94377,5.91665,5.87511,5.84683, 5.80353,5.77404,5.74405,5.69807,5.66676 ,5.61875,5.58605,5.55278,5.51891, 5.48443,5.44931,5.4136,5.37717,5.34011, 5.30236,5.26391,5.20487,5.16459,5.1027, 5.03905,4.97351,4.92876,4.88311,4.81293 ,4.76497,4.71604,4.64076,4.58927, 4.53671,4.45583,4.40044,4.34392,4.28618 ,4.22713,4.13617,4.07386,4.01013, 3.94498,3.87835,3.81026,3.75717)
ORBIT_NUMBER = 5429
ORBITAL_ECCENTRICITY = 0.569
ORBITAL_INCLINATION = 86.74
ORBITAL_SEMIMAJOR_AXIS = 8661.82
PERIAPSIS_ALTITUDE = 349.02
PERIAPSIS_ARGUMENT_ANGLE = 123.2
PERIAPSIS_TIME = 2008-03-24T20:02:02.000Z
SPACECRAFT_ORIENTATION = (0.0,-1.0,0.0)
^MEX_ORIENTATION_DESC = "MEX_ORIENTATION_DESC.TXT"
SPACECRAFT_POINTING_MODE = ACROSSTRACK
^MEX_POINTING_DESC = "MEX_POINTING_DESC.TXT"
RIGHT_ASCENSION = -1e+32
DECLINATION = -1e+32
OFFSET_ANGLE = -0.5
SPACECRAFT_SOLAR_DISTANCE = 2.47433e+08
TARGET_NAME = MARS
/* CAMERA DATA ELEMENTS */
DETECTOR_TEMPERATURE = 18.5744
FOCAL_PLANE_TEMPERATURE = 8.1755
INST_CMPRS_NAME = "DISCRETE COSINE TRANSFORMATION (DCT)"
INST_CMPRS_RATIO = 13.9813
INST_CMPRS_QUALITY = 0
INST_CMPRS_QUANTZ_TBL_ID = 0
INSTRUMENT_TEMPERATURE = 11.4379
LENS_TEMPERATURE = 8.5833
MACROPIXEL_SIZE = 2
MISSING_FRAMES = 0
PIXEL_SUBSAMPLING_FLAG = N
SIGNAL_CHAIN_ID = 1
/* RADIOMETRIC DATA ELEMENTS */
BANDWIDTH = 178.0
CENTER_FILTER_WAVELENGTH = 679.0
RADIANCE_OFFSET = 5.15529
RADIANCE_SCALING_FACTOR = 0.0113214
REFLECTANCE_SCALING_FACTOR = 0.000367067
MEX:REFLECTANCE_OFFSET = 0.167147
/* IMAGE OBJECT DEFINITIONS */
OBJECT = IMAGE
  INTERCHANGE_FORMAT = BINARY
  LINES = 28970
  LINE_SAMPLES = 5956
  SAMPLE_TYPE = UNSIGNED_INTEGER
  SAMPLE_BITS = 8
  BANDS = 1
  BAND_STORAGE_TYPE = BAND_SEQUENTIAL
  MAXIMUM = 255
  MEAN = 160.183
  MINIMUM = 1
  STANDARD_DEVIATION = 30.48
END_OBJECT = IMAGE
/* MAP OBJECT DEFINITIONS */
OBJECT = IMAGE_MAP_PROJECTION
  ^DATA_SET_MAP_PROJECTION_CATALOG= "DSMAP.CAT"
  A_AXIS_RADIUS = 3396.0
  B_AXIS_RADIUS = 3396.0
  C_AXIS_RADIUS = 3396.0
  CENTER_LATITUDE = 0.0
  CENTER_LONGITUDE = 4.0
  COORDINATE_SYSTEM_NAME = PLANETOGRAPHIC
  COORDINATE_SYSTEM_TYPE = "BODY-FIXED ROTATING"
  EASTERNMOST_LONGITUDE = 5.94377
  FIRST_STANDARD_PARALLEL = "N/A"
  LINE_FIRST_PIXEL = 1
  LINE_LAST_PIXEL = 28970
  LINE_PROJECTION_OFFSET = 159527.25
  MAP_PROJECTION_ROTATION = 0.0
  MAP_PROJECTION_TYPE = SINUSOIDAL
  MAP_RESOLUTION = 2370.85521546667
  MAP_SCALE = 0.025
  MAXIMUM_LATITUDE = 67.1549
  MINIMUM_LATITUDE = 55.1286
  POSITIVE_LONGITUDE_DIRECTION = EAST
  REFERENCE_LATITUDE = "N/A"
  REFERENCE_LONGITUDE = "N/A"
  SAMPLE_FIRST_PIXEL = 1
  SAMPLE_LAST_PIXEL = 5956
  SAMPLE_PROJECTION_OFFSET = 3350.25
  SECOND_STANDARD_PARALLEL = "N/A"
  WESTERNMOST_LONGITUDE = 0.556543
END_OBJECT = IMAGE_MAP_PROJECTION
/* The JPEG2000 image data file associated with this label. */
OBJECT = COMPRESSED_FILE
  FILE_NAME = "H5429_0000_S23.JP2"
  RECORD_TYPE = UNDEFINED
  FILE_RECORDS = UNK
  ENCODING_TYPE = "JP2"
  INTERCHANGE_FORMAT = BINARY
  UNCOMPRESSED_FILE_NAME = "H5429_0000_S23.IMG"
  REQUIRED_STORAGE_BYTES = "172575100"
  ^DESCRIPTION = "JP2INFO.TXT"
END_OBJECT = COMPRESSED_FILE
END
