PDS_VERSION_ID = PDS3
/* FILE DATA ELEMENTS */
RECORD_TYPE = STREAM
/* POINTERS TO DATA OBJECTS */
^COMPRESSED_FILE = "H5430_0000_S23.JP2"
/* IDENTIFICATION DATA ELEMENTS */
DATA_SET_ID = "MEX-M-HRSC-5-REFDR-MAPPROJECTED-V3.0"
DATA_SET_NAME = "MARS EXPRESS HRSC MAP PROJECTED REFDR V3.0"
DETECTOR_ID = MEX_HRSC_S2
EVENT_TYPE = "MARS-REGIONAL-MAPPING-Vo-Te-Pf"
INSTRUMENT_HOST_ID = MEX
INSTRUMENT_HOST_NAME = "MARS EXPRESS"
INSTRUMENT_ID = HRSC
INSTRUMENT_NAME = "HIGH RESOLUTION STEREO CAMERA"
MISSION_NAME = "MARS EXPRESS"
MISSION_PHASE_NAME = ME_Phase_11
PROCESSING_LEVEL_ID = 3
PRODUCT_CREATION_TIME = 2016-05-14T17:13:02.000Z
PRODUCT_ID = "H5430_0000_S23.JP2"
RELEASE_ID = 0062
REVISION_ID = 0000
/* QUALITY DATA ELEMENTS */
DATA_QUALITY_ID = 1
DATA_QUALITY_DESC = "Data calculated based on original SPICE kernels"
/* TIME DATA ELEMENTS */
SPACECRAFT_CLOCK_START_COUNT = "1/0154493340.08232"
SPACECRAFT_CLOCK_STOP_COUNT = "1/0154493697.16362"
START_TIME = 2008-03-25T02:50:13.633Z
STOP_TIME = 2008-03-25T02:54:59.021Z
/* ORBITAL DATA ELEMENTS */
ASCENDING_NODE_LONGITUDE = 115.29
MAXIMUM_RESOLUTION = 29.8
FOOTPRINT_POINT_LATITUDE = (68.206,68.184,68.1608,68.1362,68.0885, 68.0604,67.8115,67.4403,66.8829,66.3254 ,65.7676,65.3958,65.024,64.6524,64.0945 ,63.7226,63.351,62.9792,62.6075,62.2359 ,61.8645,61.4933,60.9365,60.5653, 60.0087,59.6375,59.2672,58.8971,58.342, 57.9728,57.4192,56.8661,56.3135,55.9466 ,55.5786,55.2114,54.8453,54.4796, 53.9312,53.5665,53.202,52.8381,52.4751, 51.9304,51.3875,51.0256,50.6656,50.1256 ,49.7665,49.7583,49.7724,49.7915, 49.8074,50.3506,50.894,51.2565,51.6192, 51.9827,52.3465,52.7109,53.0753,53.4408 ,53.99,54.3559,54.7232,55.2747,55.6429, 56.0124,56.3808,56.7501,57.1201,57.4906 ,57.8615,58.4189,58.7906,59.1624, 59.7207,60.0937,60.467,60.8396,61.2127, 61.5859,61.9594,62.3335,62.8944,63.2687 ,63.6431,64.018,64.3924,64.7673,65.1422 ,65.7048,66.0798,66.4551,67.0177, 67.2058,67.3936,67.7689,68.1442,68.206)
FOOTPRINT_POINT_LONGITUDE = (264.807,264.29,263.775,263.263,262.339 ,261.832,261.852,262.003,262.219, 262.423,262.617,262.74,262.858,262.973, 263.137,263.242,263.342,263.44,263.534, 263.625,263.713,263.798,263.921,263.999 ,264.112,264.184,264.253,264.321, 264.418,264.479,264.569,264.653,264.734 ,264.786,264.836,264.884,264.931, 264.976,265.041,265.082,265.123,265.162 ,265.199,265.253,265.304,265.337, 265.369,265.414,265.443,265.788,266.21, 266.863,267.429,267.399,267.367,267.345 ,267.322,267.299,267.275,267.25,267.225 ,267.199,267.159,267.131,267.103, 267.059,267.029,266.999,266.966,266.934 ,266.9,266.866,266.831,266.776,266.738, 266.699,266.639,266.597,266.554,266.509 ,266.463,266.415,266.366,266.316, 266.237,266.183,266.126,266.068,266.008 ,265.945,265.881,265.78,265.71,265.638, 265.523,265.484,265.444,265.362,265.277 ,264.807)
ORBIT_NUMBER = 5430
ORBITAL_ECCENTRICITY = 0.569
ORBITAL_INCLINATION = 86.74
ORBITAL_SEMIMAJOR_AXIS = 8663.76
PERIAPSIS_ALTITUDE = 348.5
PERIAPSIS_ARGUMENT_ANGLE = 123.02
PERIAPSIS_TIME = 2008-03-25T02:52:36.000Z
SPACECRAFT_ORIENTATION = (0.0,-1.0,0.0)
^MEX_ORIENTATION_DESC = "MEX_ORIENTATION_DESC.TXT"
SPACECRAFT_POINTING_MODE = ACROSSTRACK
^MEX_POINTING_DESC = "MEX_POINTING_DESC.TXT"
RIGHT_ASCENSION = -1e+32
DECLINATION = -1e+32
OFFSET_ANGLE = 0.15
SPACECRAFT_SOLAR_DISTANCE = 2.47454e+08
TARGET_NAME = MARS
/* CAMERA DATA ELEMENTS */
DETECTOR_TEMPERATURE = 18.7783
FOCAL_PLANE_TEMPERATURE = 7.9716
INST_CMPRS_NAME = "DISCRETE COSINE TRANSFORMATION (DCT)"
INST_CMPRS_RATIO = 13.7136
INST_CMPRS_QUALITY = 0
INST_CMPRS_QUANTZ_TBL_ID = 0
INSTRUMENT_TEMPERATURE = 11.0301
LENS_TEMPERATURE = 8.7872
MACROPIXEL_SIZE = 2
MISSING_FRAMES = 0
PIXEL_SUBSAMPLING_FLAG = N
SIGNAL_CHAIN_ID = 1
/* RADIOMETRIC DATA ELEMENTS */
BANDWIDTH = 178.0
CENTER_FILTER_WAVELENGTH = 679.0
RADIANCE_OFFSET = 5.15529
RADIANCE_SCALING_FACTOR = 0.0172517
REFLECTANCE_SCALING_FACTOR = 0.000559433
MEX:REFLECTANCE_OFFSET = 0.167174
/* IMAGE OBJECT DEFINITIONS */
OBJECT = IMAGE
  INTERCHANGE_FORMAT = BINARY
  LINES = 44017
  LINE_SAMPLES = 5965
  SAMPLE_TYPE = UNSIGNED_INTEGER
  SAMPLE_BITS = 8
  BANDS = 1
  BAND_STORAGE_TYPE = BAND_SEQUENTIAL
  MAXIMUM = 255
  MEAN = 111.838
  MINIMUM = 1
  STANDARD_DEVIATION = 52.8465
END_OBJECT = IMAGE
/* MAP OBJECT DEFINITIONS */
OBJECT = IMAGE_MAP_PROJECTION
  ^DATA_SET_MAP_PROJECTION_CATALOG= "DSMAP.CAT"
  A_AXIS_RADIUS = 3396.0
  B_AXIS_RADIUS = 3396.0
  C_AXIS_RADIUS = 3396.0
  CENTER_LATITUDE = 0.0
  CENTER_LONGITUDE = 266.0
  COORDINATE_SYSTEM_NAME = PLANETOGRAPHIC
  COORDINATE_SYSTEM_TYPE = "BODY-FIXED ROTATING"
  EASTERNMOST_LONGITUDE = 267.429
  FIRST_STANDARD_PARALLEL = "N/A"
  LINE_FIRST_PIXEL = 1
  LINE_LAST_PIXEL = 44017
  LINE_PROJECTION_OFFSET = 161986.75
  MAP_PROJECTION_ROTATION = 0.0
  MAP_PROJECTION_TYPE = SINUSOIDAL
  MAP_RESOLUTION = 2370.85521546667
  MAP_SCALE = 0.025
  MAXIMUM_LATITUDE = 68.206
  MINIMUM_LATITUDE = 49.7583
  POSITIVE_LONGITUDE_DIRECTION = EAST
  REFERENCE_LATITUDE = "N/A"
  REFERENCE_LONGITUDE = "N/A"
  SAMPLE_FIRST_PIXEL = 1
  SAMPLE_LAST_PIXEL = 5965
  SAMPLE_PROJECTION_OFFSET = 3792.25
  SECOND_STANDARD_PARALLEL = "N/A"
  WESTERNMOST_LONGITUDE = 261.832
END_OBJECT = IMAGE_MAP_PROJECTION
/* The JPEG2000 image data file associated with this label. */
OBJECT = COMPRESSED_FILE
  FILE_NAME = "H5430_0000_S23.JP2"
  RECORD_TYPE = UNDEFINED
  FILE_RECORDS = UNK
  ENCODING_TYPE = "JP2"
  INTERCHANGE_FORMAT = BINARY
  UNCOMPRESSED_FILE_NAME = "H5430_0000_S23.IMG"
  REQUIRED_STORAGE_BYTES = "262591230"
  ^DESCRIPTION = "JP2INFO.TXT"
END_OBJECT = COMPRESSED_FILE
END
