PDS_VERSION_ID = PDS3
/* FILE DATA ELEMENTS */
RECORD_TYPE = STREAM
/* POINTERS TO DATA OBJECTS */
^COMPRESSED_FILE = "H5431_0000_S23.JP2"
/* IDENTIFICATION DATA ELEMENTS */
DATA_SET_ID = "MEX-M-HRSC-5-REFDR-MAPPROJECTED-V3.0"
DATA_SET_NAME = "MARS EXPRESS HRSC MAP PROJECTED REFDR V3.0"
DETECTOR_ID = MEX_HRSC_S2
EVENT_TYPE = "MARS-REGIONAL-MAPPING-Te-Im-Pf"
INSTRUMENT_HOST_ID = MEX
INSTRUMENT_HOST_NAME = "MARS EXPRESS"
INSTRUMENT_ID = HRSC
INSTRUMENT_NAME = "HIGH RESOLUTION STEREO CAMERA"
MISSION_NAME = "MARS EXPRESS"
MISSION_PHASE_NAME = ME_Phase_11
PROCESSING_LEVEL_ID = 3
PRODUCT_CREATION_TIME = 2016-05-14T17:13:02.000Z
PRODUCT_ID = "H5431_0000_S23.JP2"
RELEASE_ID = 0062
REVISION_ID = 0000
/* QUALITY DATA ELEMENTS */
DATA_QUALITY_ID = 1
DATA_QUALITY_DESC = "Data calculated based on original SPICE kernels"
/* TIME DATA ELEMENTS */
SPACECRAFT_CLOCK_START_COUNT = "1/0154517986.09046"
SPACECRAFT_CLOCK_STOP_COUNT = "1/0154518215.07024"
START_TIME = 2008-03-25T09:40:58.791Z
STOP_TIME = 2008-03-25T09:43:36.879Z
/* ORBITAL DATA ELEMENTS */
ASCENDING_NODE_LONGITUDE = 115.26
MAXIMUM_RESOLUTION = 30.1
FOOTPRINT_POINT_LATITUDE = (67.4121,67.3823,67.3349,67.2832, 67.3803,67.1743,66.9681,66.7615,66.5553 ,66.3473,66.1416,65.833,65.627,65.4207, 65.1113,64.9051,64.6987,64.4925,64.1831 ,63.9768,63.7705,63.5643,63.255,63.049, 62.8428,62.6367,62.4308,62.2249,61.9156 ,61.6072,61.4012,61.1958,60.99,60.7846, 60.579,60.3735,60.1681,59.9625,59.7572, 59.5522,59.3473,59.1423,58.9373,58.7325 ,58.5277,58.3231,58.1184,57.914,57.7097 ,57.5053,57.3013,57.1144,57.1387, 57.1638,57.1879,57.4061,57.7136,57.919, 58.124,58.329,58.6378,58.8436,59.0496, 59.2555,59.4614,59.6672,59.8735,60.0799 ,60.2861,60.4926,60.6989,60.9057, 61.1124,61.319,61.5259,61.7333,62.0442, 62.2512,62.4574,62.6649,62.8723,63.0793 ,63.2869,63.5981,63.8057,64.1171, 64.4288,64.6365,64.8442,65.1559,65.3639 ,65.5719,65.78,66.0919,66.3,66.5081, 66.7164,66.9243,67.1328,67.4121)
FOOTPRINT_POINT_LONGITUDE = (165.947,165.256,164.262,163.283, 162.681,162.755,162.828,162.9,162.969, 163.039,163.105,163.202,163.266,163.328 ,163.419,163.478,163.536,163.593, 163.676,163.73,163.783,163.835,163.911, 163.96,164.009,164.056,164.103,164.148, 164.215,164.28,164.322,164.364,164.404, 164.444,164.483,164.522,164.559,164.596 ,164.633,164.668,164.703,164.737, 164.771,164.804,164.836,164.868,164.899 ,164.929,164.959,164.989,165.018, 165.398,165.908,166.467,167.032,167.343 ,167.318,167.301,167.284,167.266,167.24 ,167.222,167.203,167.185,167.166, 167.146,167.127,167.107,167.086,167.066 ,167.044,167.023,167.001,166.979, 166.957,166.934,166.9,166.876,166.85, 166.826,166.801,166.775,166.749,166.709 ,166.682,166.64,166.597,166.567,166.537 ,166.491,166.46,166.428,166.395,166.345 ,166.311,166.276,166.241,166.204, 166.167,165.947)
ORBIT_NUMBER = 5431
ORBITAL_ECCENTRICITY = 0.569
ORBITAL_INCLINATION = 86.75
ORBITAL_SEMIMAJOR_AXIS = 8659.22
PERIAPSIS_ALTITUDE = 349.53
PERIAPSIS_ARGUMENT_ANGLE = 122.87
PERIAPSIS_TIME = 2008-03-25T09:43:06.000Z
SPACECRAFT_ORIENTATION = (0.0,-1.0,0.0)
^MEX_ORIENTATION_DESC = "MEX_ORIENTATION_DESC.TXT"
SPACECRAFT_POINTING_MODE = ACROSSTRACK
^MEX_POINTING_DESC = "MEX_POINTING_DESC.TXT"
RIGHT_ASCENSION = -1e+32
DECLINATION = -1e+32
OFFSET_ANGLE = 0.4
SPACECRAFT_SOLAR_DISTANCE = 2.47474e+08
TARGET_NAME = MARS
/* CAMERA DATA ELEMENTS */
DETECTOR_TEMPERATURE = 18.5744
FOCAL_PLANE_TEMPERATURE = 7.9716
INST_CMPRS_NAME = "DISCRETE COSINE TRANSFORMATION (DCT)"
INST_CMPRS_RATIO = 14.7563
INST_CMPRS_QUALITY = 0
INST_CMPRS_QUANTZ_TBL_ID = 0
INSTRUMENT_TEMPERATURE = 11.234
LENS_TEMPERATURE = 9.195
MACROPIXEL_SIZE = 2
MISSING_FRAMES = 0
PIXEL_SUBSAMPLING_FLAG = N
SIGNAL_CHAIN_ID = 1
/* RADIOMETRIC DATA ELEMENTS */
BANDWIDTH = 178.0
CENTER_FILTER_WAVELENGTH = 679.0
RADIANCE_OFFSET = 3.36812
RADIANCE_SCALING_FACTOR = 0.032886
REFLECTANCE_SCALING_FACTOR = 0.0010666
MEX:REFLECTANCE_OFFSET = 0.109239
/* IMAGE OBJECT DEFINITIONS */
OBJECT = IMAGE
  INTERCHANGE_FORMAT = BINARY
  LINES = 24726
  LINE_SAMPLES = 5107
  SAMPLE_TYPE = UNSIGNED_INTEGER
  SAMPLE_BITS = 8
  BANDS = 1
  BAND_STORAGE_TYPE = BAND_SEQUENTIAL
  MAXIMUM = 255
  MEAN = 57.9871
  MINIMUM = 1
  STANDARD_DEVIATION = 14.3921
END_OBJECT = IMAGE
/* MAP OBJECT DEFINITIONS */
OBJECT = IMAGE_MAP_PROJECTION
  ^DATA_SET_MAP_PROJECTION_CATALOG= "DSMAP.CAT"
  A_AXIS_RADIUS = 3396.0
  B_AXIS_RADIUS = 3396.0
  C_AXIS_RADIUS = 3396.0
  CENTER_LATITUDE = 0.0
  CENTER_LONGITUDE = 165.0
  COORDINATE_SYSTEM_NAME = PLANETOGRAPHIC
  COORDINATE_SYSTEM_TYPE = "BODY-FIXED ROTATING"
  EASTERNMOST_LONGITUDE = 167.343
  FIRST_STANDARD_PARALLEL = "N/A"
  LINE_FIRST_PIXEL = 1
  LINE_LAST_PIXEL = 24726
  LINE_PROJECTION_OFFSET = 160081.25
  MAP_PROJECTION_ROTATION = 0.0
  MAP_PROJECTION_TYPE = SINUSOIDAL
  MAP_RESOLUTION = 2370.85521546667
  MAP_SCALE = 0.025
  MAXIMUM_LATITUDE = 67.4121
  MINIMUM_LATITUDE = 57.1144
  POSITIVE_LONGITUDE_DIRECTION = EAST
  REFERENCE_LATITUDE = "N/A"
  REFERENCE_LONGITUDE = "N/A"
  SAMPLE_FIRST_PIXEL = 1
  SAMPLE_LAST_PIXEL = 5107
  SAMPLE_PROJECTION_OFFSET = 2122.25
  SECOND_STANDARD_PARALLEL = "N/A"
  WESTERNMOST_LONGITUDE = 162.681
END_OBJECT = IMAGE_MAP_PROJECTION
/* The JPEG2000 image data file associated with this label. */
OBJECT = COMPRESSED_FILE
  FILE_NAME = "H5431_0000_S23.JP2"
  RECORD_TYPE = UNDEFINED
  FILE_RECORDS = UNK
  ENCODING_TYPE = "JP2"
  INTERCHANGE_FORMAT = BINARY
  UNCOMPRESSED_FILE_NAME = "H5431_0000_S23.IMG"
  REQUIRED_STORAGE_BYTES = "126301217"
  ^DESCRIPTION = "JP2INFO.TXT"
END_OBJECT = COMPRESSED_FILE
END
