PDS_VERSION_ID = PDS3
/* FILE DATA ELEMENTS */
RECORD_TYPE = STREAM
/* POINTERS TO DATA OBJECTS */
^COMPRESSED_FILE = "H5434_0000_P23.JP2"
/* IDENTIFICATION DATA ELEMENTS */
DATA_SET_ID = "MEX-M-HRSC-5-REFDR-MAPPROJECTED-V3.0"
DATA_SET_NAME = "MARS EXPRESS HRSC MAP PROJECTED REFDR V3.0"
DETECTOR_ID = MEX_HRSC_P2
EVENT_TYPE = "MARS-REGIONAL-MAPPING-Te-Im-Pf"
INSTRUMENT_HOST_ID = MEX
INSTRUMENT_HOST_NAME = "MARS EXPRESS"
INSTRUMENT_ID = HRSC
INSTRUMENT_NAME = "HIGH RESOLUTION STEREO CAMERA"
MISSION_NAME = "MARS EXPRESS"
MISSION_PHASE_NAME = ME_Phase_11
PROCESSING_LEVEL_ID = 3
PRODUCT_CREATION_TIME = 2016-05-14T17:13:02.000Z
PRODUCT_ID = "H5434_0000_P23.JP2"
RELEASE_ID = 0062
REVISION_ID = 0000
/* QUALITY DATA ELEMENTS */
DATA_QUALITY_ID = 1
DATA_QUALITY_DESC = "Data calculated based on original SPICE kernels"
/* TIME DATA ELEMENTS */
SPACECRAFT_CLOCK_START_COUNT = "1/0154591861.07309"
SPACECRAFT_CLOCK_STOP_COUNT = "1/0154592131.57333"
START_TIME = 2008-03-26T06:12:03.094Z
STOP_TIME = 2008-03-26T06:15:22.587Z
/* ORBITAL DATA ELEMENTS */
ASCENDING_NODE_LONGITUDE = 115.2
MAXIMUM_RESOLUTION = 28.9
FOOTPRINT_POINT_LATITUDE = (68.3924,68.3711,68.3482,68.3236, 68.2975,68.2696,68.2418,67.8608,67.5976 ,67.3439,66.963,66.7092,66.4549,66.2008 ,65.8194,65.4374,65.0555,64.8007, 64.5456,64.1642,63.9078,63.5251,63.2699 ,62.887,62.6332,62.3761,62.1211,61.8657 ,61.4825,61.0992,60.7164,60.461,60.2055 ,59.9504,59.6951,59.4398,59.0571, 58.8021,58.547,58.292,57.9095,57.6547, 57.4,57.1453,56.8907,56.6362,56.3817, 56.1274,55.8732,55.6191,55.4702,55.4857 ,55.4983,55.508,55.5209,55.7839,56.0391 ,56.2947,56.5504,56.8061,57.0619, 57.3179,57.574,57.8302,58.0866,58.4714, 58.728,58.9846,59.2413,59.4982,59.7552, 60.0121,60.3979,60.7839,61.0411,61.2983 ,61.5557,61.8129,62.0704,62.4566, 62.7141,63.1004,63.358,63.7442,64.0018, 64.2594,64.5171,64.7744,65.0318,65.4182 ,65.6757,66.0619,66.3188,66.5767,66.834 ,67.091,67.348,67.7331,68.1485,68.3924)
FOOTPRINT_POINT_LONGITUDE = (222.574,222.059,221.541,221.019, 220.496,219.969,219.471,219.449,219.582 ,219.708,219.891,220.008,220.124, 220.235,220.398,220.555,220.707,220.805 ,220.901,221.038,221.131,221.263, 221.348,221.473,221.549,221.632,221.708 ,221.784,221.894,222.0,222.102,222.169, 222.234,222.298,222.36,222.421,222.51, 222.567,222.624,222.679,222.76,222.813, 222.864,222.914,222.963,223.011,223.059 ,223.105,223.15,223.194,223.396,223.854 ,224.264,224.606,225.115,225.408, 225.376,225.344,225.312,225.279,225.245 ,225.211,225.176,225.14,225.104,225.048 ,225.01,224.972,224.932,224.892,224.851 ,224.809,224.745,224.679,224.634, 224.588,224.541,224.493,224.444,224.369 ,224.317,224.238,224.183,224.1,224.043, 223.984,223.924,223.863,223.801,223.704 ,223.638,223.536,223.466,223.394, 223.321,223.246,223.169,223.05,222.917, 222.574)
ORBIT_NUMBER = 5434
ORBITAL_ECCENTRICITY = 0.569
ORBITAL_INCLINATION = 86.76
ORBITAL_SEMIMAJOR_AXIS = 8659.57
PERIAPSIS_ALTITUDE = 348.49
PERIAPSIS_ARGUMENT_ANGLE = 122.31
PERIAPSIS_TIME = 2008-03-26T06:14:30.000Z
SPACECRAFT_ORIENTATION = (0.0,-1.0,0.0)
^MEX_ORIENTATION_DESC = "MEX_ORIENTATION_DESC.TXT"
SPACECRAFT_POINTING_MODE = ACROSSTRACK
^MEX_POINTING_DESC = "MEX_POINTING_DESC.TXT"
RIGHT_ASCENSION = -1e+32
DECLINATION = -1e+32
OFFSET_ANGLE = -0.6
SPACECRAFT_SOLAR_DISTANCE = 2.47534e+08
TARGET_NAME = MARS
/* CAMERA DATA ELEMENTS */
DETECTOR_TEMPERATURE = 18.3705
FOCAL_PLANE_TEMPERATURE = 8.3794
INST_CMPRS_NAME = "DISCRETE COSINE TRANSFORMATION (DCT)"
INST_CMPRS_RATIO = 9.11431
INST_CMPRS_QUALITY = 0
INST_CMPRS_QUANTZ_TBL_ID = 0
INSTRUMENT_TEMPERATURE = 10.0106
LENS_TEMPERATURE = 8.5833
MACROPIXEL_SIZE = 2
MISSING_FRAMES = 0
PIXEL_SUBSAMPLING_FLAG = N
SIGNAL_CHAIN_ID = 3
/* RADIOMETRIC DATA ELEMENTS */
BANDWIDTH = 177.0
CENTER_FILTER_WAVELENGTH = 676.5
RADIANCE_OFFSET = 2.80736
RADIANCE_SCALING_FACTOR = 0.0188464
REFLECTANCE_SCALING_FACTOR = 0.000612286
MEX:REFLECTANCE_OFFSET = 0.0912063
/* IMAGE OBJECT DEFINITIONS */
OBJECT = IMAGE
  INTERCHANGE_FORMAT = BINARY
  LINES = 30952
  LINE_SAMPLES = 6496
  SAMPLE_TYPE = UNSIGNED_INTEGER
  SAMPLE_BITS = 8
  BANDS = 1
  BAND_STORAGE_TYPE = BAND_SEQUENTIAL
  MAXIMUM = 255
  MEAN = 144.469
  MINIMUM = 1
  STANDARD_DEVIATION = 32.41
END_OBJECT = IMAGE
/* MAP OBJECT DEFINITIONS */
OBJECT = IMAGE_MAP_PROJECTION
  ^DATA_SET_MAP_PROJECTION_CATALOG= "DSMAP.CAT"
  A_AXIS_RADIUS = 3396.0
  B_AXIS_RADIUS = 3396.0
  C_AXIS_RADIUS = 3396.0
  CENTER_LATITUDE = 0.0
  CENTER_LONGITUDE = 223.0
  COORDINATE_SYSTEM_NAME = PLANETOGRAPHIC
  COORDINATE_SYSTEM_TYPE = "BODY-FIXED ROTATING"
  EASTERNMOST_LONGITUDE = 225.408
  FIRST_STANDARD_PARALLEL = "N/A"
  LINE_FIRST_PIXEL = 1
  LINE_LAST_PIXEL = 30952
  LINE_PROJECTION_OFFSET = 162387.75
  MAP_PROJECTION_ROTATION = 0.0
  MAP_PROJECTION_TYPE = SINUSOIDAL
  MAP_RESOLUTION = 2370.85521546667
  MAP_SCALE = 0.025
  MAXIMUM_LATITUDE = 68.39239999999999
  MINIMUM_LATITUDE = 55.4702
  POSITIVE_LONGITUDE_DIRECTION = EAST
  REFERENCE_LATITUDE = "N/A"
  REFERENCE_LONGITUDE = "N/A"
  SAMPLE_FIRST_PIXEL = 1
  SAMPLE_LAST_PIXEL = 6496
  SAMPLE_PROJECTION_OFFSET = 3232.25
  SECOND_STANDARD_PARALLEL = "N/A"
  WESTERNMOST_LONGITUDE = 219.449
END_OBJECT = IMAGE_MAP_PROJECTION
/* The JPEG2000 image data file associated with this label. */
OBJECT = COMPRESSED_FILE
  FILE_NAME = "H5434_0000_P23.JP2"
  RECORD_TYPE = UNDEFINED
  FILE_RECORDS = UNK
  ENCODING_TYPE = "JP2"
  INTERCHANGE_FORMAT = BINARY
  UNCOMPRESSED_FILE_NAME = "H5434_0000_P23.IMG"
  REQUIRED_STORAGE_BYTES = "201096672"
  ^DESCRIPTION = "JP2INFO.TXT"
END_OBJECT = COMPRESSED_FILE
END
