PDS_VERSION_ID = PDS3
/* FILE DATA ELEMENTS */
RECORD_TYPE = STREAM
/* POINTERS TO DATA OBJECTS */
^COMPRESSED_FILE = "H5435_0000_S23.JP2"
/* IDENTIFICATION DATA ELEMENTS */
DATA_SET_ID = "MEX-M-HRSC-5-REFDR-MAPPROJECTED-V3.0"
DATA_SET_NAME = "MARS EXPRESS HRSC MAP PROJECTED REFDR V3.0"
DETECTOR_ID = MEX_HRSC_S2
EVENT_TYPE = "MARS-REGIONAL-STEREO-Te-Im-Pf"
INSTRUMENT_HOST_ID = MEX
INSTRUMENT_HOST_NAME = "MARS EXPRESS"
INSTRUMENT_ID = HRSC
INSTRUMENT_NAME = "HIGH RESOLUTION STEREO CAMERA"
MISSION_NAME = "MARS EXPRESS"
MISSION_PHASE_NAME = ME_Phase_11
PROCESSING_LEVEL_ID = 3
PRODUCT_CREATION_TIME = 2016-05-14T17:13:02.000Z
PRODUCT_ID = "H5435_0000_S23.JP2"
RELEASE_ID = 0062
REVISION_ID = 0000
/* QUALITY DATA ELEMENTS */
DATA_QUALITY_ID = 1
DATA_QUALITY_DESC = "Data calculated based on original SPICE kernels"
/* TIME DATA ELEMENTS */
SPACECRAFT_CLOCK_START_COUNT = "1/0154616589.07273"
SPACECRAFT_CLOCK_STOP_COUNT = "1/0154616847.56184"
START_TIME = 2008-03-26T13:04:17.360Z
STOP_TIME = 2008-03-26T13:07:29.627Z
/* ORBITAL DATA ELEMENTS */
ASCENDING_NODE_LONGITUDE = 115.18
MAXIMUM_RESOLUTION = 30.1
FOOTPRINT_POINT_LATITUDE = (62.8067,62.7896,62.7717,62.753,62.7334 ,62.713,62.4551,62.2059,61.9565,61.7074 ,61.4585,61.2097,60.9608,60.712,60.4633 ,60.2143,59.8419,59.5934,59.3452, 59.0973,58.8493,58.6014,58.3538,57.9827 ,57.7352,57.3642,57.1173,56.8703,56.624 ,56.3776,56.1313,55.7618,55.516,55.1477 ,54.9023,54.6571,54.4124,54.1681, 53.9234,53.6792,53.313,53.0691,52.7033, 52.4607,52.2177,51.9753,51.7327,51.4907 ,51.128,50.7657,50.5092,50.5276,50.5385 ,50.5475,50.5659,50.8077,51.1712, 51.4138,51.6567,51.8997,52.143,52.3865, 52.7524,52.9964,53.3622,53.6072,53.8522 ,54.0974,54.3432,54.7119,54.9585, 55.2044,55.4504,55.6975,56.0684,56.4393 ,56.6867,56.9344,57.1823,57.4303, 57.6784,57.9268,58.1754,58.424,58.7972, 59.0463,59.4202,59.6697,59.9191,60.169, 60.544,60.794,61.0442,61.2945,61.5449, 61.7952,62.0458,62.2968,62.6735, 62.8067)
FOOTPRINT_POINT_LONGITUDE = (125.393,124.99,124.59,124.191,123.793, 123.396,123.401,123.46,123.517,123.574, 123.629,123.682,123.735,123.786,123.837 ,123.886,123.957,124.004,124.049, 124.093,124.137,124.179,124.22,124.281, 124.32,124.377,124.414,124.451,124.486, 124.52,124.554,124.604,124.636,124.682, 124.713,124.742,124.771,124.799,124.827 ,124.854,124.893,124.919,124.956,124.98 ,125.003,125.026,125.049,125.071, 125.103,125.133,125.51,126.005,126.322, 126.601,127.208,127.193,127.172,127.157 ,127.142,127.126,127.11,127.094,127.07, 127.053,127.027,127.01,126.992,126.974, 126.956,126.928,126.91,126.89,126.87, 126.85,126.82,126.788,126.766,126.744, 126.722,126.699,126.676,126.652,126.628 ,126.603,126.566,126.54,126.5,126.473, 126.445,126.417,126.374,126.344,126.314 ,126.283,126.252,126.22,126.187,126.154 ,126.102,125.393)
ORBIT_NUMBER = 5435
ORBITAL_ECCENTRICITY = 0.569
ORBITAL_INCLINATION = 86.74
ORBITAL_SEMIMAJOR_AXIS = 8663.31
PERIAPSIS_ALTITUDE = 349.37
PERIAPSIS_ARGUMENT_ANGLE = 122.16
PERIAPSIS_TIME = 2008-03-26T13:05:05.000Z
SPACECRAFT_ORIENTATION = (0.0,-1.0,0.0)
^MEX_ORIENTATION_DESC = "MEX_ORIENTATION_DESC.TXT"
SPACECRAFT_POINTING_MODE = ACROSSTRACK
^MEX_POINTING_DESC = "MEX_POINTING_DESC.TXT"
RIGHT_ASCENSION = -1e+32
DECLINATION = -1e+32
OFFSET_ANGLE = 0.2
SPACECRAFT_SOLAR_DISTANCE = 2.47554e+08
TARGET_NAME = MARS
/* CAMERA DATA ELEMENTS */
DETECTOR_TEMPERATURE = 18.3705
FOCAL_PLANE_TEMPERATURE = 8.1755
INST_CMPRS_NAME = "DISCRETE COSINE TRANSFORMATION (DCT)"
INST_CMPRS_RATIO = 13.8236
INST_CMPRS_QUALITY = 0
INST_CMPRS_QUANTZ_TBL_ID = 0
INSTRUMENT_TEMPERATURE = 10.8262
LENS_TEMPERATURE = 8.5833
MACROPIXEL_SIZE = 2
MISSING_FRAMES = 0
PIXEL_SUBSAMPLING_FLAG = N
SIGNAL_CHAIN_ID = 1
/* RADIOMETRIC DATA ELEMENTS */
BANDWIDTH = 178.0
CENTER_FILTER_WAVELENGTH = 679.0
RADIANCE_OFFSET = 4.33044
RADIANCE_SCALING_FACTOR = 0.00943452
REFLECTANCE_SCALING_FACTOR = 0.00030619
MEX:REFLECTANCE_OFFSET = 0.140541
/* IMAGE OBJECT DEFINITIONS */
OBJECT = IMAGE
  INTERCHANGE_FORMAT = BINARY
  LINES = 29511
  LINE_SAMPLES = 4629
  SAMPLE_TYPE = UNSIGNED_INTEGER
  SAMPLE_BITS = 8
  BANDS = 1
  BAND_STORAGE_TYPE = BAND_SEQUENTIAL
  MAXIMUM = 255
  MEAN = 119.924
  MINIMUM = 1
  STANDARD_DEVIATION = 37.4734
END_OBJECT = IMAGE
/* MAP OBJECT DEFINITIONS */
OBJECT = IMAGE_MAP_PROJECTION
  ^DATA_SET_MAP_PROJECTION_CATALOG= "DSMAP.CAT"
  A_AXIS_RADIUS = 3396.0
  B_AXIS_RADIUS = 3396.0
  C_AXIS_RADIUS = 3396.0
  CENTER_LATITUDE = 0.0
  CENTER_LONGITUDE = 126.0
  COORDINATE_SYSTEM_NAME = PLANETOGRAPHIC
  COORDINATE_SYSTEM_TYPE = "BODY-FIXED ROTATING"
  EASTERNMOST_LONGITUDE = 127.208
  FIRST_STANDARD_PARALLEL = "N/A"
  LINE_FIRST_PIXEL = 1
  LINE_LAST_PIXEL = 29511
  LINE_PROJECTION_OFFSET = 149174.75
  MAP_PROJECTION_ROTATION = 0.0
  MAP_PROJECTION_TYPE = SINUSOIDAL
  MAP_RESOLUTION = 2370.85521546667
  MAP_SCALE = 0.025
  MAXIMUM_LATITUDE = 62.8067
  MINIMUM_LATITUDE = 50.5092
  POSITIVE_LONGITUDE_DIRECTION = EAST
  REFERENCE_LATITUDE = "N/A"
  REFERENCE_LONGITUDE = "N/A"
  SAMPLE_FIRST_PIXEL = 1
  SAMPLE_LAST_PIXEL = 4629
  SAMPLE_PROJECTION_OFFSET = 2875.75
  SECOND_STANDARD_PARALLEL = "N/A"
  WESTERNMOST_LONGITUDE = 123.396
END_OBJECT = IMAGE_MAP_PROJECTION
/* The JPEG2000 image data file associated with this label. */
OBJECT = COMPRESSED_FILE
  FILE_NAME = "H5435_0000_S23.JP2"
  RECORD_TYPE = UNDEFINED
  FILE_RECORDS = UNK
  ENCODING_TYPE = "JP2"
  INTERCHANGE_FORMAT = BINARY
  UNCOMPRESSED_FILE_NAME = "H5435_0000_S23.IMG"
  REQUIRED_STORAGE_BYTES = "136629564"
  ^DESCRIPTION = "JP2INFO.TXT"
END_OBJECT = COMPRESSED_FILE
END
